Workbook

Sheet Jumlah MoU & PKS update 
A1: DATA REKAPITULASI KERJASAMA DALAM NEGERI TAHUN 2015 S/D 2019
A3: No | B3: Provinsi/Kabupaten/Kota | D3: 2015 | H3: Jumlah | I3: 2016 | M3: Jumlah | N3: 2017 | R3: Jumlah | S3: 2018 | W3: Jumlah | X3: 2019 | AB3: Jumlah | AC3: Total MoU | AE3: Total PKS | AG3: Total | AH3: KET
D4: MoU | F4: PKS | I4: MoU | K4: PKS | N4: MoU | P4: PKS | S4: MoU | U4: PKS | X4: MoU | Z4: PKS | AC4: KDN | AD4: KLN | AE4: KDN | AF4: KLN
D5: KDN | E5: KLN | F5: KDN | G5: KLN | I5: KDN | J5: KLN | K5: KDN | L5: KLN | N5: KDN | O5: KLN | P5: KDN | Q5: KLN | S5: KDN | T5: KLN | U5: KDN | V5: KLN | X5: KDN | Y5: KLN | Z5: KDN | AA5: KLN
A7: 1 | B7: Provinsi aceh | H7: =SUM(D7:G7) -> 0 | M7: =SUM(I7:L7) -> 0 | R7: =SUM(N7:Q7) -> 0 | W7: =SUM(S7:V7) -> 0 | AB7: =SUM(X7:AA7) -> 0 | AC7: =SUM(D7,I7,N7,S7,X7) -> 0 | AD7: =SUM(E7,J7,O7,T7,Y7) -> 0 | AE7: =SUM(F7,K7,P7,U7,Z7) -> 0 | AF7: =SUM(G7,L7,Q7,V7,AA7) -> 0 | AG7: =SUM(AC7:AF7) -> 0
B8: 1 | C8: Kab. Aceh Barat | H8: =SUM(D8:G8) -> 0 | M8: =SUM(I8:L8) -> 0 | R8: =SUM(N8:Q8) -> 0 | W8: =SUM(S8:V8) -> 0 | AB8: =SUM(X8:AA8) -> 0 | AC8: =SUM(D8,I8,N8,S8,X8) -> 0 | AD8: =SUM(E8,J8,O8,T8,Y8) -> 0 | AE8: =SUM(F8,K8,P8,U8,Z8) -> 0 | AF8: =SUM(G8,L8,Q8,V8,AA8) -> 0 | AG8: =SUM(AC8:AF8) -> 0
B9: 2 | C9: Kab. Aceh Barat Daya | H9: =SUM(D9:G9) -> 0 | M9: =SUM(I9:L9) -> 0 | R9: =SUM(N9:Q9) -> 0 | W9: =SUM(S9:V9) -> 0 | AB9: =SUM(X9:AA9) -> 0 | AC9: =SUM(D9,I9,N9,S9,X9) -> 0 | AD9: =SUM(E9,J9,O9,T9,Y9) -> 0 | AE9: =SUM(F9,K9,P9,U9,Z9) -> 0 | AF9: =SUM(G9,L9,Q9,V9,AA9) -> 0 | AG9: =SUM(AC9:AF9) -> 0
B10: 3 | C10: Kab. Aceh Besar | H10: =SUM(D10:G10) -> 0 | M10: =SUM(I10:L10) -> 0 | R10: =SUM(N10:Q10) -> 0 | S10: 7 | U10: 5 | W10: =SUM(S10:V10) -> 12 | AB10: =SUM(X10:AA10) -> 0 | AC10: =SUM(D10,I10,N10,S10,X10) -> 7 | AD10: =SUM(E10,J10,O10,T10,Y10) -> 0 | AE10: =SUM(F10,K10,P10,U10,Z10) -> 5 | AF10: =SUM(G10,L10,Q10,V10,AA10) -> 0 | AG10: =SUM(AC10:AF10) -> 12 | AH10: Sudah
B11: 4 | C11: Kab. Aceh Jaya | H11: =SUM(D11:G11) -> 0 | M11: =SUM(I11:L11) -> 0 | R11: =SUM(N11:Q11) -> 0 | W11: =SUM(S11:V11) -> 0 | AB11: =SUM(X11:AA11) -> 0 | AC11: =SUM(D11,I11,N11,S11,X11) -> 0 | AD11: =SUM(E11,J11,O11,T11,Y11) -> 0 | AE11: =SUM(F11,K11,P11,U11,Z11) -> 0 | AF11: =SUM(G11,L11,Q11,V11,AA11) -> 0 | AG11: =SUM(AC11:AF11) -> 0
B12: 5 | C12: Kab. Aceh Selatan | H12: =SUM(D12:G12) -> 0 | M12: =SUM(I12:L12) -> 0 | R12: =SUM(N12:Q12) -> 0 | W12: =SUM(S12:V12) -> 0 | AB12: =SUM(X12:AA12) -> 0 | AC12: =SUM(D12,I12,N12,S12,X12) -> 0 | AD12: =SUM(E12,J12,O12,T12,Y12) -> 0 | AE12: =SUM(F12,K12,P12,U12,Z12) -> 0 | AF12: =SUM(G12,L12,Q12,V12,AA12) -> 0 | AG12: =SUM(AC12:AF12) -> 0
B13: 6 | C13: Kab. Aceh Singkil | H13: =SUM(D13:G13) -> 0 | M13: =SUM(I13:L13) -> 0 | R13: =SUM(N13:Q13) -> 0 | W13: =SUM(S13:V13) -> 0 | AB13: =SUM(X13:AA13) -> 0 | AC13: =SUM(D13,I13,N13,S13,X13) -> 0 | AD13: =SUM(E13,J13,O13,T13,Y13) -> 0 | AE13: =SUM(F13,K13,P13,U13,Z13) -> 0 | AF13: =SUM(G13,L13,Q13,V13,AA13) -> 0 | AG13: =SUM(AC13:AF13) -> 0
B14: 7 | C14: Kab. Aceh Tamiang | H14: =SUM(D14:G14) -> 0 | M14: =SUM(I14:L14) -> 0 | R14: =SUM(N14:Q14) -> 0 | W14: =SUM(S14:V14) -> 0 | AB14: =SUM(X14:AA14) -> 0 | AC14: =SUM(D14,I14,N14,S14,X14) -> 0 | AD14: =SUM(E14,J14,O14,T14,Y14) -> 0 | AE14: =SUM(F14,K14,P14,U14,Z14) -> 0 | AF14: =SUM(G14,L14,Q14,V14,AA14) -> 0 | AG14: =SUM(AC14:AF14) -> 0
B15: 8 | C15: Kab. Aceh Tengah | H15: =SUM(D15:G15) -> 0 | M15: =SUM(I15:L15) -> 0 | R15: =SUM(N15:Q15) -> 0 | W15: =SUM(S15:V15) -> 0 | AB15: =SUM(X15:AA15) -> 0 | AC15: =SUM(D15,I15,N15,S15,X15) -> 0 | AD15: =SUM(E15,J15,O15,T15,Y15) -> 0 | AE15: =SUM(F15,K15,P15,U15,Z15) -> 0 | AF15: =SUM(G15,L15,Q15,V15,AA15) -> 0 | AG15: =SUM(AC15:AF15) -> 0
B16: 9 | C16: Kab. Aceh Tenggara | H16: =SUM(D16:G16) -> 0 | M16: =SUM(I16:L16) -> 0 | R16: =SUM(N16:Q16) -> 0 | W16: =SUM(S16:V16) -> 0 | AB16: =SUM(X16:AA16) -> 0 | AC16: =SUM(D16,I16,N16,S16,X16) -> 0 | AD16: =SUM(E16,J16,O16,T16,Y16) -> 0 | AE16: =SUM(F16,K16,P16,U16,Z16) -> 0 | AF16: =SUM(G16,L16,Q16,V16,AA16) -> 0 | AG16: =SUM(AC16:AF16) -> 0
B17: 10 | C17: Kab. Aceh Timur | H17: =SUM(D17:G17) -> 0 | M17: =SUM(I17:L17) -> 0 | R17: =SUM(N17:Q17) -> 0 | W17: =SUM(S17:V17) -> 0 | AB17: =SUM(X17:AA17) -> 0 | AC17: =SUM(D17,I17,N17,S17,X17) -> 0 | AD17: =SUM(E17,J17,O17,T17,Y17) -> 0 | AE17: =SUM(F17,K17,P17,U17,Z17) -> 0 | AF17: =SUM(G17,L17,Q17,V17,AA17) -> 0 | AG17: =SUM(AC17:AF17) -> 0
B18: 11 | C18: Kab. Aceh Utara | H18: =SUM(D18:G18) -> 0 | M18: =SUM(I18:L18) -> 0 | R18: =SUM(N18:Q18) -> 0 | W18: =SUM(S18:V18) -> 0 | AB18: =SUM(X18:AA18) -> 0 | AC18: =SUM(D18,I18,N18,S18,X18) -> 0 | AD18: =SUM(E18,J18,O18,T18,Y18) -> 0 | AE18: =SUM(F18,K18,P18,U18,Z18) -> 0 | AF18: =SUM(G18,L18,Q18,V18,AA18) -> 0 | AG18: =SUM(AC18:AF18) -> 0
B19: 12 | C19: Kab. Aceh Meriah | H19: =SUM(D19:G19) -> 0 | M19: =SUM(I19:L19) -> 0 | R19: =SUM(N19:Q19) -> 0 | W19: =SUM(S19:V19) -> 0 | AB19: =SUM(X19:AA19) -> 0 | AC19: =SUM(D19,I19,N19,S19,X19) -> 0 | AD19: =SUM(E19,J19,O19,T19,Y19) -> 0 | AE19: =SUM(F19,K19,P19,U19,Z19) -> 0 | AF19: =SUM(G19,L19,Q19,V19,AA19) -> 0 | AG19: =SUM(AC19:AF19) -> 0
B20: 13 | C20: Kab. Bireuen | H20: =SUM(D20:G20) -> 0 | M20: =SUM(I20:L20) -> 0 | R20: =SUM(N20:Q20) -> 0 | W20: =SUM(S20:V20) -> 0 | AB20: =SUM(X20:AA20) -> 0 | AC20: =SUM(D20,I20,N20,S20,X20) -> 0 | AD20: =SUM(E20,J20,O20,T20,Y20) -> 0 | AE20: =SUM(F20,K20,P20,U20,Z20) -> 0 | AF20: =SUM(G20,L20,Q20,V20,AA20) -> 0 | AG20: =SUM(AC20:AF20) -> 0
B21: 14 | C21: Kab. Gayo Lues | H21: =SUM(D21:G21) -> 0 | M21: =SUM(I21:L21) -> 0 | R21: =SUM(N21:Q21) -> 0 | W21: =SUM(S21:V21) -> 0 | AB21: =SUM(X21:AA21) -> 0 | AC21: =SUM(D21,I21,N21,S21,X21) -> 0 | AD21: =SUM(E21,J21,O21,T21,Y21) -> 0 | AE21: =SUM(F21,K21,P21,U21,Z21) -> 0 | AF21: =SUM(G21,L21,Q21,V21,AA21) -> 0 | AG21: =SUM(AC21:AF21) -> 0
B22: 15 | C22: Kab. Nagan Raya | H22: =SUM(D22:G22) -> 0 | M22: =SUM(I22:L22) -> 0 | R22: =SUM(N22:Q22) -> 0 | W22: =SUM(S22:V22) -> 0 | AB22: =SUM(X22:AA22) -> 0 | AC22: =SUM(D22,I22,N22,S22,X22) -> 0 | AD22: =SUM(E22,J22,O22,T22,Y22) -> 0 | AE22: =SUM(F22,K22,P22,U22,Z22) -> 0 | AF22: =SUM(G22,L22,Q22,V22,AA22) -> 0 | AG22: =SUM(AC22:AF22) -> 0
... B25: 18 | C25: Kab. Simeulue | H25: =SUM(D25:G25) -> 0 | M25: =SUM(I25:L25) -> 0 | R25: =SUM(N25:Q25) -> 0 | W25: =SUM(S25:V25) -> 0 | AB25: =SUM(X25:AA25) -> 0 | AC25: =SUM(D25,I25,N25,S25,X25) -> 0 | AD25: =SUM(E25,J25,O25,T25,Y25) -> 0 | AE25: =SUM(F25,K25,P25,U25,Z25) -> 0 | AF25: =SUM(G25,L25,Q25,V25,AA25) -> 0 | AG25: =SUM(AC25:AF25) -> 0
B26: 19 | C26: Kota Banda Aceh | H26: =SUM(D26:G26) -> 0 | M26: =SUM(I26:L26) -> 0 | R26: =SUM(N26:Q26) -> 0 | S26: 2 | U26: 1 | W26: =SUM(S26:V26) -> 3 | AB26: =SUM(X26:AA26) -> 0 | AC26: =SUM(D26,I26,N26,S26,X26) -> 2 | AD26: =SUM(E26,J26,O26,T26,Y26) -> 0 | AE26: =SUM(F26,K26,P26,U26,Z26) -> 1 | AF26: =SUM(G26,L26,Q26,V26,AA26) -> 0 | AG26: =SUM(AC26:AF26) -> 3 | AH26: Sudah
B27: 20 | C27: Kota Langsa | H27: =SUM(D27:G27) -> 0 | M27: =SUM(I27:L27) -> 0 | R27: =SUM(N27:Q27) -> 0 | W27: =SUM(S27:V27) -> 0 | AB27: =SUM(X27:AA27) -> 0 | AC27: =SUM(D27,I27,N27,S27,X27) -> 0 | AD27: =SUM(E27,J27,O27,T27,Y27) -> 0 | AE27: =SUM(F27,K27,P27,U27,Z27) -> 0 | AF27: =SUM(G27,L27,Q27,V27,AA27) -> 0 | AG27: =SUM(AC27:AF27) -> 0
B28: 21 | C28: Kota Lhoksumawe | H28: =SUM(D28:G28) -> 0 | M28: =SUM(I28:L28) -> 0 | R28: =SUM(N28:Q28) -> 0 | W28: =SUM(S28:V28) -> 0 | AB28: =SUM(X28:AA28) -> 0 | AC28: =SUM(D28,I28,N28,S28,X28) -> 0 | AD28: =SUM(E28,J28,O28,T28,Y28) -> 0 | AE28: =SUM(F28,K28,P28,U28,Z28) -> 0 | AF28: =SUM(G28,L28,Q28,V28,AA28) -> 0 | AG28: =SUM(AC28:AF28) -> 0
B29: 22 | C29: Kota Sabang | H29: =SUM(D29:G29) -> 0 | M29: =SUM(I29:L29) -> 0 | R29: =SUM(N29:Q29) -> 0 | W29: =SUM(S29:V29) -> 0 | AB29: =SUM(X29:AA29) -> 0 | AC29: =SUM(D29,I29,N29,S29,X29) -> 0 | AD29: =SUM(E29,J29,O29,T29,Y29) -> 0 | AE29: =SUM(F29,K29,P29,U29,Z29) -> 0 | AF29: =SUM(G29,L29,Q29,V29,AA29) -> 0 | AG29: =SUM(AC29:AF29) -> 0
B30: 23 | C30: Kota Subulussalam | H30: =SUM(D30:G30) -> 0 | M30: =SUM(I30:L30) -> 0 | R30: =SUM(N30:Q30) -> 0 | W30: =SUM(S30:V30) -> 0 | AB30: =SUM(X30:AA30) -> 0 | AC30: =SUM(D30,I30,N30,S30,X30) -> 0 | AD30: =SUM(E30,J30,O30,T30,Y30) -> 0 | AE30: =SUM(F30,K30,P30,U30,Z30) -> 0 | AF30: =SUM(G30,L30,Q30,V30,AA30) -> 0 | AG30: =SUM(AC30:AF30) -> 0
A31: 2 | B31: Provinsi Sumatera Utara | D31: 9 | F31: 2 | H31: =SUM(D31:G31) -> 11 | I31: 7 | M31: =SUM(I31:L31) -> 7 | N31: 77 | P31: 8 | R31: =SUM(N31:Q31) -> 85 | W31: =SUM(S31:V31) -> 0 | AB31: =SUM(X31:AA31) -> 0 | AC31: =SUM(D31,I31,N31,S31,X31) -> 93 | AD31: =SUM(E31,J31,O31,T31,Y31) -> 0 | AE31: =SUM(F31,K31,P31,U31,Z31) -> 10 | AF31: =SUM(G31,L31,Q31,V31,AA31) -> 0 | AG31: =SUM(AC31:AF31) -> 103 | AH31: Sudah
B32: 1 | C32: Kab. Asahan | H32: =SUM(D32:G32) -> 0 | M32: =SUM(I32:L32) -> 0 | R32: =SUM(N32:Q32) -> 0 | W32: =SUM(S32:V32) -> 0 | AB32: =SUM(X32:AA32) -> 0 | AC32: =SUM(D32,I32,N32,S32,X32) -> 0 | AD32: =SUM(E32,J32,O32,T32,Y32) -> 0 | AE32: =SUM(F32,K32,P32,U32,Z32) -> 0 | AF32: =SUM(G32,L32,Q32,V32,AA32) -> 0 | AG32: =SUM(AC32:AF32) -> 0
B33: 2 | C33: Kab. Batu Bara | H33: =SUM(D33:G33) -> 0 | M33: =SUM(I33:L33) -> 0 | R33: =SUM(N33:Q33) -> 0 | W33: =SUM(S33:V33) -> 0 | AB33: =SUM(X33:AA33) -> 0 | AC33: =SUM(D33,I33,N33,S33,X33) -> 0 | AD33: =SUM(E33,J33,O33,T33,Y33) -> 0 | AE33: =SUM(F33,K33,P33,U33,Z33) -> 0 | AF33: =SUM(G33,L33,Q33,V33,AA33) -> 0 | AG33: =SUM(AC33:AF33) -> 0
B34: 3 | C34: Kab. Dairi | H34: =SUM(D34:G34) -> 0 | M34: =SUM(I34:L34) -> 0 | R34: =SUM(N34:Q34) -> 0 | S34: 2 | U34: 4 | W34: =SUM(S34:V34) -> 6 | AB34: =SUM(X34:AA34) -> 0 | AC34: =SUM(D34,I34,N34,S34,X34) -> 2 | AD34: =SUM(E34,J34,O34,T34,Y34) -> 0 | AE34: =SUM(F34,K34,P34,U34,Z34) -> 4 | AF34: =SUM(G34,L34,Q34,V34,AA34) -> 0 | AG34: =SUM(AC34:AF34) -> 6 | AH34: Sudah
B35: 4 | C35: Kab. Deli Serdang | H35: =SUM(D35:G35) -> 0 | M35: =SUM(I35:L35) -> 0 | R35: =SUM(N35:Q35) -> 0 | U35: 18 | W35: =SUM(S35:V35) -> 18 | AB35: =SUM(X35:AA35) -> 0 | AC35: =SUM(D35,I35,N35,S35,X35) -> 0 | AD35: =SUM(E35,J35,O35,T35,Y35) -> 0 | AE35: =SUM(F35,K35,P35,U35,Z35) -> 18 | AF35: =SUM(G35,L35,Q35,V35,AA35) -> 0 | AG35: =SUM(AC35:AF35) -> 18 | AH35: Sudah
B36: 5 | C36: Kab. Humbang Hasundutan | H36: =SUM(D36:G36) -> 0 | M36: =SUM(I36:L36) -> 0 | R36: =SUM(N36:Q36) -> 0 | W36: =SUM(S36:V36) -> 0 | AB36: =SUM(X36:AA36) -> 0 | AC36: =SUM(D36,I36,N36,S36,X36) -> 0 | AD36: =SUM(E36,J36,O36,T36,Y36) -> 0 | AE36: =SUM(F36,K36,P36,U36,Z36) -> 0 | AF36: =SUM(G36,L36,Q36,V36,AA36) -> 0 | AG36: =SUM(AC36:AF36) -> 0
B37: 6 | C37: Kab. Karo | H37: =SUM(D37:G37) -> 0 | M37: =SUM(I37:L37) -> 0 | R37: =SUM(N37:Q37) -> 0 | U37: 6 | W37: =SUM(S37:V37) -> 6 | AB37: =SUM(X37:AA37) -> 0 | AC37: =SUM(D37,I37,N37,S37,X37) -> 0 | AD37: =SUM(E37,J37,O37,T37,Y37) -> 0 | AE37: =SUM(F37,K37,P37,U37,Z37) -> 6 | AF37: =SUM(G37,L37,Q37,V37,AA37) -> 0 | AG37: =SUM(AC37:AF37) -> 6 | AH37: Sudah
B38: 7 | C38: Kab. Labuhanbatu | H38: =SUM(D38:G38) -> 0 | M38: =SUM(I38:L38) -> 0 | R38: =SUM(N38:Q38) -> 0 | W38: =SUM(S38:V38) -> 0 | AB38: =SUM(X38:AA38) -> 0 | AC38: =SUM(D38,I38,N38,S38,X38) -> 0 | AD38: =SUM(E38,J38,O38,T38,Y38) -> 0 | AE38: =SUM(F38,K38,P38,U38,Z38) -> 0 | AF38: =SUM(G38,L38,Q38,V38,AA38) -> 0 | AG38: =SUM(AC38:AF38) -> 0
B39: 8 | C39: Kab. Labuhanbatu Selatan | H39: =SUM(D39:G39) -> 0 | M39: =SUM(I39:L39) -> 0 | R39: =SUM(N39:Q39) -> 0 | W39: =SUM(S39:V39) -> 0 | AB39: =SUM(X39:AA39) -> 0 | AC39: =SUM(D39,I39,N39,S39,X39) -> 0 | AD39: =SUM(E39,J39,O39,T39,Y39) -> 0 | AE39: =SUM(F39,K39,P39,U39,Z39) -> 0 | AF39: =SUM(G39,L39,Q39,V39,AA39) -> 0 | AG39: =SUM(AC39:AF39) -> 0
B40: 9 | C40: Kab. Labuhanbatu Utara | H40: =SUM(D40:G40) -> 0 | M40: =SUM(I40:L40) -> 0 | R40: =SUM(N40:Q40) -> 0 | W40: =SUM(S40:V40) -> 0 | AB40: =SUM(X40:AA40) -> 0 | AC40: =SUM(D40,I40,N40,S40,X40) -> 0 | AD40: =SUM(E40,J40,O40,T40,Y40) -> 0 | AE40: =SUM(F40,K40,P40,U40,Z40) -> 0 | AF40: =SUM(G40,L40,Q40,V40,AA40) -> 0 | AG40: =SUM(AC40:AF40) -> 0
B41: 10 | C41: Kab. Langkat | H41: =SUM(D41:G41) -> 0 | M41: =SUM(I41:L41) -> 0 | R41: =SUM(N41:Q41) -> 0 | W41: =SUM(S41:V41) -> 0 | AB41: =SUM(X41:AA41) -> 0 | AC41: =SUM(D41,I41,N41,S41,X41) -> 0 | AD41: =SUM(E41,J41,O41,T41,Y41) -> 0 | AE41: =SUM(F41,K41,P41,U41,Z41) -> 0 | AF41: =SUM(G41,L41,Q41,V41,AA41) -> 0 | AG41: =SUM(AC41:AF41) -> 0
B42: 11 | C42: Kab. Mandaling Natal | H42: =SUM(D42:G42) -> 0 | M42: =SUM(I42:L42) -> 0 | R42: =SUM(N42:Q42) -> 0 | W42: =SUM(S42:V42) -> 0 | AB42: =SUM(X42:AA42) -> 0 | AC42: =SUM(D42,I42,N42,S42,X42) -> 0 | AD42: =SUM(E42,J42,O42,T42,Y42) -> 0 | AE42: =SUM(F42,K42,P42,U42,Z42) -> 0 | AF42: =SUM(G42,L42,Q42,V42,AA42) -> 0 | AG42: =SUM(AC42:AF42) -> 0
B43: 12 | C43: Kab. Nias | H43: =SUM(D43:G43) -> 0 | M43: =SUM(I43:L43) -> 0 | R43: =SUM(N43:Q43) -> 0 | S43: 5 | U43: 4 | W43: =SUM(S43:V43) -> 9 | X43: 6 | Z43: 2 | AB43: =SUM(X43:AA43) -> 8 | AC43: =SUM(D43,I43,N43,S43,X43) -> 11 | AD43: =SUM(E43,J43,O43,T43,Y43) -> 0 | AE43: =SUM(F43,K43,P43,U43,Z43) -> 6 | AF43: =SUM(G43,L43,Q43,V43,AA43) -> 0 | AG43: =SUM(AC43:AF43) -> 17 | AH43: Sudah
B44: 13 | C44: Kab. Nias Barat | H44: =SUM(D44:G44) -> 0 | M44: =SUM(I44:L44) -> 0 | R44: =SUM(N44:Q44) -> 0 | W44: =SUM(S44:V44) -> 0 | AB44: =SUM(X44:AA44) -> 0 | AC44: =SUM(D44,I44,N44,S44,X44) -> 0 | AD44: =SUM(E44,J44,O44,T44,Y44) -> 0 | AE44: =SUM(F44,K44,P44,U44,Z44) -> 0 | AF44: =SUM(G44,L44,Q44,V44,AA44) -> 0 | AG44: =SUM(AC44:AF44) -> 0
...

Sheet REKAPITULASI PROVINSI
A1: REKAPITULASI KERJASAMA PROVINSI
A3: NO | B3: PROVINSI | C3: KESEPAKATAN | D3: PERJANJIAN
A4: 1 | B4: JAWA TIMUR | C4: ='REKAPITULASI KAB-KOTA'!D44 -> 146 | D4: ='REKAPITULASI KAB-KOTA'!E44 -> 279
A5: 2 | B5: JAWA BARAT | C5: ='REKAPITULASI KAB-KOTA'!D80 -> 60 | D5: ='REKAPITULASI KAB-KOTA'!E80 -> 67
A6: 3 | B6: JAWA TENGAH | C6: ='REKAPITULASI KAB-KOTA'!D125 -> 105 | D6: ='REKAPITULASI KAB-KOTA'!E125 -> 190
A7: 4 | B7: DIY | C7: ='REKAPITULASI KAB-KOTA'!D139 -> 53 | D7: ='REKAPITULASI KAB-KOTA'!E139 -> 68
A8: 5 | B8: BANTEN | C8: ='REKAPITULASI KAB-KOTA'!D156 -> 25 | D8: ='REKAPITULASI KAB-KOTA'!E156 -> 4
A9: 6 | B9: DKI | C9: ='REKAPITULASI KAB-KOTA'!D173 -> 0 | D9: ='REKAPITULASI KAB-KOTA'!E173 -> 0
A10: 7 | B10: LAMPUNG | C10: ='REKAPITULASI KAB-KOTA'!D200 -> 12 | D10: ='REKAPITULASI KAB-KOTA'!E200 -> 22
A11: 8 | B11: BENGKULU | C11: ='REKAPITULASI KAB-KOTA'!D218 -> 0 | D11: ='REKAPITULASI KAB-KOTA'!E218 -> 5
A12: 9 | B12: SUMATERA SELATAN | C12: ='REKAPITULASI KAB-KOTA'!D242 -> 14 | D12: ='REKAPITULASI KAB-KOTA'!E242 -> 13
A13: 10 | B13: JAMBI | C13: ='REKAPITULASI KAB-KOTA'!D261 -> 18 | D13: ='REKAPITULASI KAB-KOTA'!E261 -> 37
A14: 11 | B14: RIAU | C14: ='REKAPITULASI KAB-KOTA'!D281 -> 12 | D14: ='REKAPITULASI KAB-KOTA'!E281 -> 13
A15: 12 | B15: KEP. BANGKA BELITUNG | C15: ='REKAPITULASI KAB-KOTA'!D296 -> 32 | D15: ='REKAPITULASI KAB-KOTA'!E296 -> 11
A16: 13 | B16: SUMUT | C16: ='REKAPITULASI KAB-KOTA'!D338 -> 18 | D16: ='REKAPITULASI KAB-KOTA'!E338 -> 63
A17: 14 | B17: SUMATERA BARAT | C17: ='REKAPITULASI KAB-KOTA'!D366 -> 27 | D17: ='REKAPITULASI KAB-KOTA'!E366 -> 65
A18: 15 | B18: KEP RIAU | C18: ='REKAPITULASI KAB-KOTA'!D422 -> 13 | D18: ='REKAPITULASI KAB-KOTA'!E422 -> 23
A19: 16 | B19: ACEH | C19: ='REKAPITULASI KAB-KOTA'!D452 -> 9 | D19: ='REKAPITULASI KAB-KOTA'!E452 -> 6
A20: 17 | B20: KALTARA | C20: ='REKAPITULASI KAB-KOTA'!D465 -> 10 | D20: ='REKAPITULASI KAB-KOTA'!E465 -> 15
A21: 18 | B21: KALBAR | C21: ='REKAPITULASI KAB-KOTA'!D487 -> 8 | D21: ='REKAPITULASI KAB-KOTA'!E487 -> 18
A22: 19 | B22: KALTENG | C22: ='REKAPITULASI KAB-KOTA'!D509 -> 0 | D22: ='REKAPITULASI KAB-KOTA'!E509 -> 8
A23: 20 | B23: KALTIM | C23: ='REKAPITULASI KAB-KOTA'!D527 -> 51 | D23: ='REKAPITULASI KAB-KOTA'!E527 -> 28
A24: 21 | B24: KALSEL | C24: ='REKAPITULASI KAB-KOTA'!D547 -> 10 | D24: ='REKAPITULASI KAB-KOTA'!E547 -> 0
A25: 22 | B25: SULSEL | C25: ='REKAPITULASI KAB-KOTA'!D579 -> 0 | D25: ='REKAPITULASI KAB-KOTA'!E579 -> 4
A26: 23 | B26: SULTRA | C26: ='REKAPITULASI KAB-KOTA'!D603 -> 33 | D26: ='REKAPITULASI KAB-KOTA'!E603 -> 40
A27: 24 | B27: SULBAR | C27: ='REKAPITULASI KAB-KOTA'!D617 -> 0 | D27: ='REKAPITULASI KAB-KOTA'!E617 -> 3
A28: 25 | B28: SULTENG | C28: ='REKAPITULASI KAB-KOTA'!D638 -> 3 | D28: ='REKAPITULASI KAB-KOTA'!E638 -> 4
A29: 26 | B29: SULUT | C29: ='REKAPITULASI KAB-KOTA'!D661 -> 0 | D29: ='REKAPITULASI KAB-KOTA'!E661 -> 0
A30: 27 | B30: BALI | C30: ='REKAPITULASI KAB-KOTA'!D678 -> 67 | D30: ='REKAPITULASI KAB-KOTA'!E678 -> 72
A31: 28 | B31: NTB | C31: ='REKAPITULASI KAB-KOTA'!D696 -> 17 | D31: ='REKAPITULASI KAB-KOTA'!E696 -> 27
A32: 29 | B32: NTT | C32: ='REKAPITULASI KAB-KOTA'!D727 -> 11 | D32: ='REKAPITULASI KAB-KOTA'!E727 -> 34
A33: 30 | B33: GORORNTALO | C33: ='REKAPITULASI KAB-KOTA'!D741 -> 0 | D33: ='REKAPITULASI KAB-KOTA'!E741 -> 7
A34: 31 | B34: MALUKU | C34: ='REKAPITULASI KAB-KOTA'!D760 -> 0 | D34: ='REKAPITULASI KAB-KOTA'!E760 -> 0
A35: 32 | B35: MALUKU UTARA | C35: ='REKAPITULASI KAB-KOTA'!D779 -> 0 | D35: ='REKAPITULASI KAB-KOTA'!E779 -> 0
A36: 33 | B36: PAPUA | C36: ='REKAPITULASI KAB-KOTA'!D816 -> 0 | D36: ='REKAPITULASI KAB-KOTA'!E816 -> 0
A37: 34 | B37: PAPUA BARAT | C37: ='REKAPITULASI KAB-KOTA'!D838 -> 3 | D37: ='REKAPITULASI KAB-KOTA'!E838 -> 0
A38: JUMLAH | C38: =SUM(C4:C37) -> 757 | D38: =SUM(D4:D37) -> 1126

Sheet REKAPITULASI KAB-KOTA
A1: REKAPITULASI PERJANJIAN KERJASAMA DAERAH
A2: TAHUN 2018
A4: PROVINSI | B4: KAB/KOTA | D4: KESEPAKATAN | E4: PERJANJIAN
A5: JAWA TIMUR | B5: 1 | C5: Pemprov Jatim | D5: ='Prov JATIM'!H128 -> 17 | E5: ='Prov JATIM'!J128 -> 43
B6: 2 | C6: Kab. Pacitan | D6: ='Prov JATIM'!H180 -> 0 | E6: ='Prov JATIM'!J180 -> 22
B7: 3 | C7: Kab. Trenggalek | D7: ='Prov JATIM'!H236 -> 4 | E7: ='Prov JATIM'!J236 -> 12
B8: 4 | C8: Kab. Tulungagung | D8: ='Prov JATIM'!H270 -> 11 | E8: ='Prov JATIM'!J270 -> 2
B9: 5 | C9: Kab. Blitar | D9: ='Prov JATIM'!H314 -> 17 | E9: ='Prov JATIM'!J314 -> 1
B10: 6 | C10: Kab. Kediri | D10: ='Prov JATIM'!H346 -> 0 | E10: ='Prov JATIM'!J346 -> 12
B11: 7 | C11: Kab. Malang | D11: ='Prov JATIM'!H392 -> 6 | E11: ='Prov JATIM'!J392 -> 13
B12: 8 | C12: Kota Batu | D12: ='Prov JATIM'!H405 -> 2 | E12: ='Prov JATIM'!J405 -> 0
B13: 9 | C13: Kota Malang | D13: ='Prov JATIM'!H449 -> 14 | E13: ='Prov JATIM'!J449 -> 3
B14: 10 | C14: Kab. Lumajang | D14: ='Prov JATIM'!H510 -> 5 | E14: ='Prov JATIM'!J510 -> 21
B15: 11 | C15: Kab. Jember | D15: ='Prov JATIM'!H541 -> 8 | E15: ='Prov JATIM'!J541 -> 3
B16: 12 | C16: Kab. jember | D16: ='Prov JATIM'!H595 -> 13 | E16: ='Prov JATIM'!J595 -> 10
B17: 13 | C17: Kota Probolinggo | D17: ='Prov JATIM'!H775 -> 22 | E17: ='Prov JATIM'!J775 -> 50
B18: 14 | C18: Kab. Pasuruan | D18: ='Prov JATIM'!H829 -> 0 | E18: ='Prov JATIM'!J829 -> 23
B19: 15 | C19: Kota Mojokerto | D19: ='Prov JATIM'!H895 -> 0 | E19: ='Prov JATIM'!J895 -> 21
B20: 16 | C20: Kab. Mojokerto | D20: ='Prov JATIM'!H924 -> 3 | E20: ='Prov JATIM'!J924 -> 8
B21: 17 | C21: Kab. Jombang | D21: ='Prov JATIM'!H952 -> 8 | E21: ='Prov JATIM'!J952 -> 2
B22: 18 | C22: Kab. Nganjuk | D22: ='Prov JATIM'!H972 -> 3 | E22: ='Prov JATIM'!J972 -> 3
B23: 19 | C23: Kab. Madiun | D23: ='Prov JATIM'!H990 -> 5 | E23: ='Prov JATIM'!J990 -> 0
B24: 20 | C24: Kab. Ngawi | D24: ='Prov JATIM'!H1036 -> 5 | E24: ='Prov JATIM'!J1036 -> 6
B25: 21 | C25: Kota Kediri | D25: ='Prov JATIM'!H1218 -> 3 | E25: ='Prov JATIM'!J1218 -> 24
B26: 22 | C26: Kab. Ponorogo | D26: ='Prov JATIM'!H194 -> 0 | E26: ='Prov JATIM'!J194 -> 0
B27: 23 | C27: Kab. Bondowoso | D27: ='Prov JATIM'!H610 -> 0 | E27: ='Prov JATIM'!J610 -> 0
B28: 24 | C28: Kab. Situbondo | D28: ='Prov JATIM'!H625 -> 0 | E28: ='Prov JATIM'!J625 -> 0
B29: 25 | C29: Kab. Sidoarjo | D29: ='Prov JATIM'!H844 -> 0 | E29: ='Prov JATIM'!J844 -> 0
B30: 26 | C30: Kab. Magetan | D30: ='Prov JATIM'!H1005 -> 0 | E30: ='Prov JATIM'!J1005 -> 0
B31: 27 | C31: Kab. Bojonegoro | D31: ='Prov JATIM'!H1053 -> 0 | E31: ='Prov JATIM'!J1053 -> 0
B32: 28 | C32: Kab. Tuban | D32: ='Prov JATIM'!H1068 -> 0 | E32: ='Prov JATIM'!J1068 -> 0
B33: 29 | C33: Kab. Lamongan | D33: ='Prov JATIM'!H1083 -> 0 | E33: ='Prov JATIM'!J1083 -> 0
B34: 30 | C34: Kab. Gresik | D34: ='Prov JATIM'!H1098 -> 0 | E34: ='Prov JATIM'!J1098 -> 0
B35: 31 | C35: kab. Bangkalan | D35: ='Prov JATIM'!H1113 -> 0 | E35: ='Prov JATIM'!J1113 -> 0
B36: 32 | C36: Kab. Sampang | D36: ='Prov JATIM'!H1128 -> 0 | E36: ='Prov JATIM'!J1128 -> 0
B37: 33 | C37: Kab. Pamekasan | D37: ='Prov JATIM'!H1143 -> 0 | E37: ='Prov JATIM'!J1143 -> 0
B38: 34 | C38: Kab. Sumenep | D38: ='Prov JATIM'!H1158 -> 0 | E38: ='Prov JATIM'!J1158 -> 0
B39: 35 | C39: Kota Blitar | D39: ='Prov JATIM'!H1233 -> 0 | E39: ='Prov JATIM'!J1233 -> 0
B40: 36 | C40: Kota Pasuruan | D40: ='Prov JATIM'!H1249 -> 0 | E40: ='Prov JATIM'!J1249 -> 0
B41: 37 | C41: Kota Mojokerto | D41: ='Prov JATIM'!H1264 -> 0 | E41: ='Prov JATIM'!J1264 -> 0
...

Sheet Prov JATIM
A2: DATA KERJA SAMA DAERAH
A3: PROVINSI JAWA TIMUR
A5: KSDD | C5: KSDPK | E5: SINERGI | H5: NOMOR / TANGGAL | K5: RUANG LINGKUP | L5: URUSAN YANG DI KERJA SAMAKAN | N5: KETERANGAN
H6: Kesepakatan | J6: Perjanjian
A8: 1. | B8: Kabupaten Bangkalan | I8: 1 | J8: 120.01/35/012/2018 Tgl. 02 Januari 2018 | K8: Peningkatan Program Puskesmas | M8: Kesehatan | N8: Berakhir Pada 02 Januari 2019
A10: 2. | B10: Kabupaten Banyuwangi | I10: 2 | J10: 120.23/09/033.4/2018 Tgl. 02 Januari 2018 | K10: Peningkatan Program Puskesmas | M10: Kesehatan | N10: Berakhir Pada 02 Januari 2019
A12: 3. | B12: Kabupaten Blitar | I12: 3 | J12: 120.23/08/033.4/2018 Tgl. 02 Januari 2018 | K12: Peningkatan Program Puskesmas | M12: Kesehatan | N12: Berakhir Pada 02 Januari 2019
A14: 4. | B14: Kabupaten Bojonegoro | I14: 4 | J14: 120.23/33/033.4/2018 Tgl. 02 Januari 2018 | K14: Peningkatan Program Puskesmas | M14: Kesehatan | N14: Berakhir Pada 02 Januari 2019
A16: 5. | B16: Kabupaten Bondowoso | I16: 5 | J16: 120.23/33/033.4/2018 Tgl. 02 Januari 2018 | K16: Peningkatan Program Puskesmas | M16: Kesehatan | N16: Berakhir Pada 02 Januari 2019
A18: 6. | B18: Kabupaten Gresik | I18: 6 | J18: 120.23/10/033.4/2018 Tgl. 02 Januari 2018 | K18: Peningkatan Program Puskesmas | M18: Kesehatan | N18: Berakhir Pada 02 Januari 2019
A20: 7. | B20: Kabupaten Jember | I20: 7 | J20: 120.23/08/033.4/2018 Tgl. 02 Januari 2018 | K20: Peningkatan Program Puskesmas | M20: Kesehatan | N20: Berakhir Pada 02 Januari 2019
A22: 8. | B22: Kabupaten Jombang | I22: 8 | J22: 120.23/17/033.4/2018 Tgl. 02 Januari 2018 | K22: Peningkatan Program Puskesmas | M22: Kesehatan | N22: Berakhir Pada 02 Januari 2019
A24: 9. | B24: Kabupaten Lamongan | I24: 9 | J24: 120.23/23/033.4/2018 Tgl. 02 Januari 2018 | K24: Peningkatan Program Puskesmas | M24: Kesehatan | N24: Berakhir Pada 02 Januari 2019
A26: 10. | B26: Kabupaten Lumajang | I26: 10 | J26: 120.23/07/033.4/2018 Tgl. 02 Januari 2018 | K26: Peningkatan Program Puskesmas | M26: Kesehatan | N26: Berakhir Pada 02 Januari 2019
A28: 11. | B28: Kabupaten Madiun | I28: 11 | J28: 120.23/18/033.4/2018 Tgl. 02 Januari 2018 | K28: Peningkatan Program Puskesmas | M28: Kesehatan | N28: Berakhir Pada 02 Januari 2019
A30: 12. | B30: Kabupaten Magetan | I30: 12 | J30: 120.23/09/033.4/2018 Tgl. 02 Januari 2018 | K30: Peningkatan Program Puskesmas | M30: Kesehatan | N30: Berakhir Pada 02 Januari 2019
... A60: 27. | B60: Kabupaten Kediri | I60: 27 | J60: 120.23/29/033.4/2018 Tgl. 02 Januari 2018 | K60: Peningkatan Program Puskesmas | M60: Kesehatan | N60: Berakhir Pada 02 Januari 2019
A62: 28. | B62: Provinsi Jatim dengan Kabupaten Banyuwangi | G62: 1 | H62: 120.23/45/033.4/2018 Tgl. 02 Januari 2018 | K62: Kerjasama Pembangunan Daerah | M62: Pembangunan | N62: Berakhir Pada 02 Januari 2019
A64: 29. | B64: Kabupaten Tulungagung | G64: 2 | H64: 120.23/46/012/2018 Tgl. 02 Januari 2018 | K64: Kerjasama Pembangunan Daerah | M64: Pembangunan | N64: Berakhir Pada 02 Januari 2019
A66: 30. | B66: Kota Kediri | G66: 3 | H66: 120.1/01/419.011/2018 Tgl. 02 Januari 2018 | K66: Kerjasama Pembangunan Daerah | M66: Pembangunan | N66: Berakhir Pada 02 Januari 2019
A68: 31. | B68: Kota Mojokerto | G68: 4 | H68: 120.23/20/033.4/KSB/2018 | K68: Kerjasama Pembangunan Daerah | M68: Pembangunan | N68: Berakhir Pada 02 Januari 2019
A70: 32. | B70: Kabupaten Pasuruan | G70: 5 | H70: 120.1/48/012/2018 Tgl. 08 Januari 2018 | K70: Kerjasama Pembangunan Daerah | M70: Pembangunan | N70: Berakhir Pada 08 Januari 2019
A72: 33. | B72: Kab. Bojonegoro | I72: 28 | J72: 120.23/132/033.4/2018 Tgl. 24 Januari 2018 | K72: Penyelenggaraan Ketrentaman dan Ketertiban Umum, Penegakan Perda dan Peraturan Kepala Daerah Serta Perlindungan Masyarakat (SATPOL PP) | M72: Kamtibmas | N72: Berakhir pada 24 Januari 2023
A74: 34. | B74: Kabupaten Blora, Kabupaten Tuban, Kabupaten Rembang, Kabupaten Bojonegoro | G74: 6 | H74: 188/0665/2018 Tgl. 08 Maret 2018 | K74: Kerjasama Antar Daerah | M74: Pembangunan | N74: Berakhir Pada 08 Maret 2019
A76: 35. | B76: Provinsi Jatim, Kab. Pacitan, Kab. Wonogiri, Kab. Gunung Kidul | G76: 7 | H76: Kesepakatan Tgl. 08 Maret 2018 | K76: Kerjasama Antar Daerah | M76: Pembangunan | N76: Berakhir Pada 08 Maret 2019
A78: 36. | B78: Provinsi NTB | G78: 8 | H78: 120.23/379/033.4/2018 Tgl. 12 Maret 2018 | K78: Kerjasama Daerah Dalam Rangka Pengelolaan Potensi dan Sumber Daya | N78: Berakhir Pada 12 Maret 2019
A80: 37. | B80: Provinsi Jatim Dengan Provinsi Bali | G80: 9 | H80: 120.23/768/KSB/033.4/2018 Tgl. 26 Juni 2018 | K80: Kerjasama Pembangunan Daerah | M80: Pembangunan | N80: Berakhir Pada 26 Juni 2019
A82: 38. | B82: Kabupaten Kutai Timur | I82: 29 | J82: 120.23/618/PKS/033.4/2018 Tgl. 14 Mei 2018 | K82: Peningkatan Perdagangan Antar Pulau dan Pemasaran Produk Unggulan | M82: Perdagangan | N82: Berakhir Pada 14 Mei 2023
A84: 39. | B84: Kabupaten Manukwari Selatan | I84: 30 | J84: 120.23/619/PKS/033.4/2018 Tgl. 14 Mei 2018 | K84: Peningkatan Perdagangan Antar Pulau dan Pemasaran Produk Unggulan | M84: Perdagangan | N84: Berakhir Pada 14 Mei 2023
A86: 40. | B86: Kabupaten Kepulauan Sula | I86: 31 | J86: 120.23/626/PKS/033.4/2018 Tgl. 14 Mei 2018 | K86: Peningkatan Perdagangan Antar Pulau dan Pemasaran Produk Unggulan | M86: Perdagangan | N86: Berakhir Pada 14 Mei 2023
A88: 41. | B88: Kabupaten Waropen | I88: 32 | J88: 120.23/627/PKS/033.4/2018 Tgl. 14 Mei 2018 | K88: Peningkatan Perdagangan Antar Pulau dan Pemasaran Produk Unggulan | M88: Perdagangan | N88: Berakhir Pada 14 Mei 2023
A90: 42. | B90: Kabupaten Kepulauan Maluku Tenggara Barat | I90: 33 | J90: 120.23/628/PKS/033.4/2018 Tgl. 14 Mei 2018 | K90: Peningkatan Perdagangan Antar Pulau dan Pemasaran Produk Unggulan | M90: Perdagangan | N90: Berakhir Pada 14 Mei 2023
A92: 43. | B92: Kabupaten Nunukan | I92: 34 | J92: 120.23/629/PKS/033.4/2018 Tgl. 14 Mei 2018 | K92: Peningkatan Perdagangan Antar Pulau dan Pemasaran Produk Unggulan | M92: Perdagangan | N92: Berakhir Pada 14 Mei 2023
A94: 44. | B94: Kabupaten Talaud | I94: 35 | J94: 120.23/630/PKS/033.4/2018 Tgl. 14 Mei 2018 | K94: Peningkatan Perdagangan Antar Pulau dan Pemasaran Produk Unggulan | M94: Perdagangan | N94: Berakhir Pada 14 Mei 2023
A96: 45. | B96: Kabupaten Halmahera Timur | I96: 36 | J96: 120.23/631/PKS/033.4/2018 Tgl. 14 Mei 2018 | K96: Peningkatan Perdagangan Antar Pulau dan Pemasaran Produk Unggulan | M96: Perdagangan | N96: Berakhir Pada 14 Mei 2023
A98: 46. | B98: Kabupaten Mamberamo Raya | I98: 37 | J98: 120.23/632/PKS/033.4/2018 Tgl. 14 Mei 2018 | K98: Peningkatan Perdagangan Antar Pulau dan Pemasaran Produk Unggulan | M98: Perdagangan | N98: Berakhir Pada 14 Mei 2023
A100: 47. | B100: Kabupaten Sangihe | I100: 38 | J100: 120.23/633/PKS/033.4/2018 Tgl. 14 Mei 2018 | K100: Peningkatan Perdagangan Antar Pulau dan Pemasaran Produk Unggulan | M100: Perdagangan | N100: Berakhir Pada 14 Mei 2023
A102: 48. | B102: Kabupaten Tidore | I102: 39 | J102: 120.23/634/PKS/033.4/2018 Tgl. 14 Mei 2018 | K102: Peningkatan Perdagangan Antar Pulau dan Pemasaran Produk Unggulan | M102: Perdagangan | N102: Berakhir Pada 14 Mei 2023
A104: 49. | B104: Kabupaten Sampang | G104: 10 | H104: 120.23/693/KSB/033.4/2018 Tgl. 24 Mei 2018 | K104: Penerimaan Dana Pengelolaan Participating Interest 10% Kepada Wilayah Kerja Minyak dan Gas Bumi Ketapang di Kabupaten Sampang | N104: Berakhir Pada 24 Mei 2018
A106: 50. | B106: Kabupaten Bangkalan dan Sumenep | G106: 11 | H106: 120.23/743/KSB/033.4/2018 Tgl. 24 Mei 2018 | K106: Penerimaan Dana Pengelolaan Participating Interest 10% Kepada Wilayah Kerja Minyak dan Gas Bumi Ketapang di Kabupaten Sampang | N106: Berakhir Pada 04 Juni 2018
...

Sheet Prov Jabar
A1: DATA KERJA SAMA DAERAH
A2: PROVINSI JAWA BARAT
A4: KSDD | C4: KSDPK | E4: SINERGI | H4: NOMOR / TANGGAL | K4: RUANG LINGKUP | L4: URUSAN YANG DI KERJA SAMAKAN | N4: KETERANGAN
G5: Kesepakatan | I5: Perjanjian
A7: 1. | B7: Gubernur Jawa Barat dengan Walikota Bekasi | G7: 1. | H7: Kesepakatan | I7: 1. | J7: Perjanjian | K7: Pengelolaan SMA/SMK Kota Bekasi | N7: 1 (satu) tahun
A9: 2. | B9: Gebernur Jawa Barat dengan Gubernur Jawa Tengah, Gubernur Jawa Timur. | G9: 2. | H9: Kesepakatan | K9: Kerja sama industri Kreatif Nasional Mobil Desa | N9: 3 (tiga ) tahun
A11: 3. | B11: Gubernur Jawa Barat dengan Bupati Dharmasraya. | G11: 3. | H11: Kesepakatan | K11: Replikasi program Jaringan Lintas Daerah dalam rangka Peningkatan Manajemen Pemerintahan. | N11: 1 (satu) tahun
A13: 4. | B13: Gubernur Jawa Barat dengan Pjs. Walikota Bandung, Walikota Cimahi, Bupati Bandung, Plt. Bupati Bandung Barat, dan Bupati Sumedang. | G13: 4. | H13: Kesepakatan | K13: Menyelesaikan Permasalahan bersama serta mensinergikan dan menyelaraskan perencanaan pembangunan di wilayah Metropolitan Bandung Raya. | N13: 5 (lima) tahun
A15: 5. | B15: Gubernur Jawa Barat dengan Gubernur DKI Jakarta, Jawa Tengah, DI Yogyakarta, Jawa Timur, Bali, Lampung, NTB, NTT, dan Banten. | G15: 5. | H15: Kesepakatan | K15: Penanganan bersama warga binaan sosial penyandang masalah kesejahteraan sosial dan (OGDJ) di lingkup Provinsi anggota FKD MPU | N15: 4 (empat) tahun
A17: 6. | B17: Gubernur Jawa Barat dengan Walikota Depok | G17: 6. | H17: Kesepakatan | K17: Penataan dan Revitalisasi Situ Pedongkelan dan situ situ di Kawasan Indonesia Depok. | N17: 1 (satu) tahun
A19: 7. | B19: Gubernur Jawa Barat dengan Walikota Tanggeran Selatan | G19: 7. | H19: Kesepakatan | K19: Mengintegrasikan pengolahan dan pemrosesan akhir sampah dariwilayah Kota Tanggerang Selatan di TPPAS Regional Lulut Nambo yang berlokasi di Desa Nambo, Kecamatan Klapanunggal, Kabupaten Bogor. | N19: 1 (satu) tahun
A21: 8. | B21: Gubernur Jawa Barat dengan Bupati Bogor, Plt, Walikota Bogor, Walikota Depok, dan Walikota Tanggeran Selatan. | I21: 2. | J21: Perjanjian | K21: Pengintegrasian Penanganan Persampahan Kota Tanggerang Selatan Di TPPAS Reginal Lulut Nambo. | N21: 5 (lima) tahun
A23: 9. | B23: Gubernur Jawa Barat dengan Pjs. Walikota Bandung, Walikota Cimahi , Bupati Bandung, Plt, Bupati Bandung Barat, dan Pjs Bupati Sumedang. | G23: 8. | H23: Kesepakatan
A25: 10. | B25: Provinsi Jawa Barat dengan Provinsi Kalimantan Utara | G25: 9. | H25: Kesepakatan | K25: Meningkatkan kerja sama pembangunan antara Pemerintah Daerah Provinsi Jawa Barat dengan Pemerintah Daerah Provinsi Kalimantan Utara | N25: 5 (lima) Tahun
A27: 11. | B27: Kalimantan Utara | I27: 3. | J27: Perjanjian | K27: Mewujudkan efisiensi dan efektifitas manajemen pemerintahan dan peningkatan pelayanan publik melalui Replika Aplikasi Sistem Informasi Pelayanan Perizinan untuk Publik (Sempatik) | N27: 2 (dua) tahun
A29: 12. | B29: Kota Tasikmalaya, Kab. Tasikmalaya, Kab. Garut, Kab. Ciamis, Kab. Pangandaran, Kota Banjar | G29: 10. | H29: Kesepakatan | K29: Pelayanan Tera, Tera Ulang dan pengawasan Metrologi Legal | N29: 1 (satu) Tahun
A31: 13. | B31: Provinsi Jawa Barat dengan Bupati/Walikota Seluruh Jawa Barat | I31: 4. | J31: Perjanjian | K31: Peningkatan Layanan Samsat dan Kepatuhan Masyarakat dalam melaksanakan kewajiban membayar Pajak Kendaraan Bermotor (PKB) di Wilayah Kabupaten/Kota | N31: 1 (satu) Tahun
A33: 14. | B33: Provinsi Jawa Barat Dengan Provinsi Sulawesi Barat | I33: 5. | J33: Perjanjian | K33: Pembinaan dan pengawasan atas urusan pelaksanaan kegiatan dan pengembangan kawasan Transmigrasi Salondeang Kabupaten Mamuju Tengah | N33: 5 (lima) Tahun
A35: 15. | B35: Provinsi Jawa Barat dengan Provinsi Gorontalo | I35: 6. | J35: Perjanjian | K35: Pembinaan dan pengawasan atas urusan pelaksanaan kegiatan dan pengembangan kawasan Transmigrasi Bukit aren Kabupaten Gorontalo | N35: 5 (lima) Tahun
A37: 16. | B37: Provinsi Jawa Barat dengan Provinsi Sulawesi Tengah | I37: 7. | J37: Perjanjian | K37: Pembinaan dan pengawasan atas urusan pelaksanaan kegiatan dan pengembangan kawasan Transmigrasi Dungkean Kabupaten Banggai Laut | N37: 5 (lima) Tahun
A39: 17. | B39: Provinsi Jawa Barat dengan Provinsi Sulawesi Barat | I39: 8. | J39: Perjanjian | K39: Pembinaan dan pengawasan atas urusan pelaksanaan kegiatan dan pengembangan kawasan Transmigrasi Dano Kabupaten Mamasa | N39: 5 (lima) Tahun
A41: 18. | B41: Provinsi Jawa Barat dengan Provinsi Sulawesi Tengah | I41: 9. | J41: Perjanjian | K41: Pembinaan dan pengawasan atas urusan pelaksanaan kegiatan dan pengembangan kawasan Transmigrasi Molan Kabupaten Parigi Montong Laut | N41: 5 (lima) Tahun
A43: 19. | B43: Provinsi Jawa Barat dengan Provinsi Sulawesi Tenggara | I43: 10. | J43: Perjanjian | K43: Pembinaan dan pengawasan atas urusan pelaksanaan kegiatan dan pengembangan kawasan Transmigrasi Lakabu dan momuntu Kabupaten Muna | N43: 5 (lima) Tahun
A45: 20. | B45: Provinsi Jawa Barat dengan Provinsi Sulawesi Tenggara | I45: 11. | J45: Perjanjian | K45: Pembinaan dan pengawasan atas urusan pelaksanaan kegiatan dan pengembangan kawasan Transmigrasi Watutinawu Kabupaten Konawe | N45: 5 (lima) Tahun
A47: 21. | B47: Provinsi Jawa Barat dengan Provinsi Gorontalo | I47: 12. | J47: Perjanjian | K47: Pembinaan dan pengawasan atas urusan pelaksanaan kegiatan dan pengembangan kawasan Transmigrasi Mothelemu Kabupaten Gorontalo | N47: 5 (lima) Tahun
A49: 22. | B49: Provinsi Jawa Barat dengan Provinsi Kalimantan Barat | I49: 13. | J49: Perjanjian | K49: Pembinaan dan pengawasan atas urusan pelaksanaan kegiatan dan pengembangan kawasan Transmigrasi Tanjung Satai SP.3 Kabupaten Kayong | N49: 5 (lima) Tahun
A51: 23. | B51: Provinsi Jawa Barat dengan Provinsi Bengkulu | I51: 14. | J51: Perjanjian | K51: Pembinaan dan pengawasan atas urusan pelaksanaan kegiatan dan pengembangan kawasan Transmigrasi Batu Ampar Kabupaten Bengkulu | N51: 5 (lima) Tahun
A53: 24. | B53: Provinsi Jawa Barat, Jawa Tengah, Jawa Timur | G53: 11. | H53: Kesepakatan | K53: Meningkatkan Kerjasama Industri Kreatif Nasional Mobil Desa melalui pelaksanaan kebijakan, program dan kegiatan | N53: 3 (Tiga) Tahun
A55: 25. | B55: Provinsi Jawa Barat dengan Kabupaten Tangerang | G55: 12. | H55: Kesepakatan | K55: Replika program Jaringan lintas Daerah dalam rangka peningkatan manajemen pemerintah | N55: 24 ( Dua puluh empat ) Tahun
A57: 26. | B57: Provinsi Jawa Barat (RS. Jiwa) Dengan Kabupaten Bandung Barat | I57: 15. | J57: Perjanjian Tgl. 02 Januari 2018 | K57: Pelayanan Rujukan Bagi Masyarakat Peserta Kartu Cermat diluar kuota penerimaan bantuan Iuran Jaminan Kesehatan Nasional Tahun Anggaran 2018 | N57: Berakhir Pada 31 Desember 2018
A59: 27. | B59: Provinsi Jawa Barat dengan Kota Cimahi | I59: 16. | J59: Perjanjian Tgl. 02 Januari 2018 | K59: Pembiayaan Pelayanan Kesehatan bagi masyarakat miskin di luar kuota Jaminan Kesehatan Nasional di Kota cimahi | N59: Berakhir pada 31 Desember 2018
A61: 28. | B61: Provinsi Jawa Barat (RSJ) dengan Pemerintah Kabupaten Kuningan | I61: 17. | J61: Perjanjian | K61: Pelayanan Kesehatan Masyarakat Miskin Program Jaminan Kesehatan Daerah (Jamkesda) Kabupaten Kuningan | N61: 1 (satu) Tahun
A63: 29. | B63: Provinsi Jawa Barat (RSJ) dengan Pemerintah Kabupaten Bandung | I63: 18. | J63: Perjanjian Tgl. 02 Januari 2018 | K63: Pembiayaan Pelayanan Kesehatan bagi masyarakat miskin di luar kuota Jaminan Kesehatan Nasional di Kabupaten Bandung | N63: Berakhir pada 31 Desember 2018
A65: 30. | B65: Provinsi Jawa Barat (RSJ) dengan Pemerintah Kabupaten Sumedang | I65: 19. | J65: Perjanjian | K65: Pelayanan Kesehatan Bagi Peserta Jaminan Kesehatan Daerah Kabupaten Sumedang Di RSJ Jawa Barat | N65: 1 (satu) Tahun
A67: 31. | B67: Provinsi Jawa Barat (RSJ) dengan Pemerintah Kabupaten Subang | I67: 20. | J67: Perjanjian | K67: Pelayanan Kesehatan Masyarakat Miskin diluar Kuota PBI Kabupaten Subang | N67: 1 (satu) Tahun
A69: 32. | B69: Provinsi Jawa Barat (RSJ) dengan Pemerintah Kabupaten Purwakarta | I69: 21. | J69: Perjanjian | K69: Jaminan Pelayanan Kesehatan Masyarakat Purwakarta Istimewa | N69: 1 (satu) Tahun
A71: 33. | B71: Provinsi Jawa Barat (RSJ) dengan Pemerintah Kota Bandung | I71: 22. | J71: Perjanjian | K71: Jaminan Pembiayaan Pelayanan Kesehatan Bagi Pasien penyandang masalah kesejahteraan sosial, penyandang masalah kemiskinan dan pasien jaminan persalinan yang tidak terdaftar dalam jaminan kesehatan semesta Kota Bandung
A73: 34. | B73: Sekolah Tinggi Kesejahteraan Sosial | G73: 12. | H73: Kesepakatan | K73: Pendidikan, Penelitian, Pengabdian Masyarakat dan laboratorium pelayanan sosial | N73: 5 (lima) Tahun
C75: 1. | D75: PT. Bank Pembangunan Daerah Jabar dan Banten | G75: 13. | H75: Kesepakatan | K75: Pemanfaatan Fasilitasi Jasa Layanan Perbankan di Lingkungan RSUD Pameungpeuk Jabar | N75: 2 (dua) Tahun
C77: 2. | D77: Gubernur Jawa Barat dengan seluruh Gubernur di Indonesia sebagai/ Selaku anggota APPSI | G77: 14. | H77: Kesepakatan | K77: Kerjas sama Perdagangan Komoditas dan Produk Unggulan Antar Daerah | N77: 4 (empat) tahun
...

Sheet Prov Jateng 
A2: DATA KERJA SAMA DAERAH
A3: PROVINSI JAWA TENGAH
A5: KSDD | C5: KSDPK | E5: SINERGI | H5: NOMOR / TANGGAL | K5: RUANG LINGKUP | M5: KETERANGAN
H6: Kesepakatan | J6: Perjanjian
A8: 1.
A17: DATA KERJA SAMA DAERAH
A18: KABUPATEN CILACAP
A20: KSDD | C20: KSDPK | E20: SINERGI | H20: NOMOR / TANGGAL | K20: RUANG LINGKUP | L20: URUSAN YANG DIKERJASAMAKAN | M20: KETERANGAN
G21: Kesepakatan | I21: Perjanjian
C23: 1. | D23: PT. Jadi Baru | I23: 1 | J23: 518.3/0317/31/2018 Tgl. 20 Februari 2018 | K23: Program Kemitraan Pemasokan dan Pemasaran Produk UMKM Kabupaten Cilacap | L23: UMKM | M23: Berakhir Pada 19 Februari 2023
C25: 2. | D25: PT. Rita Ritelino | I25: 2 | J25: 518.3/0318/31/2018 Tgl. 20 Februari 2018 | K25: Program Kemitraan Pemasokan dan Pemasaran Produk UMKM Kabupaten Cilacap | L25: UMKM | M25: Berakhir Pada 19 Februari 2023
C27: 3. | D27: PT. Hero Supermarket | I27: 3 | J27: 518.3/0319/31/2018 Tgl. 20 Februari 2018 | K27: Program Kemitraan Pemasokan dan Pemasaran Produk UMKM Kabupaten Cilacap | L27: UMKM | M27: Berakhir Pada 19 Februari 2023
C29: 4. | D29: PT. Sumber Alfaria Trijaya Tbk | I29: 4 | J29: 518.3/0320/31/2018 Tgl. 20 Februari 2018 | K29: Program Kemitraan Pemasokan dan Pemasaran Produk UMKM Kabupaten Cilacap | L29: UMKM | M29: Berakhir Pada 19 Februari 2023
C31: 5. | D31: PT. Indomarco Prismatama Cabang Cirebon | I31: 5 | J31: 518.3/0321/31/2018 Tgl. 20 Februari 2018 | K31: Program Kemitraan Pemasokan dan Pemasaran Produk UMKM Kabupaten Cilacap | L31: UMKM | M31: Berakhir Pada 19 Februari 2023
C33: 6. | D33: PT. Ritelindo Unit Kato Grosir | I33: 6 | J33: 518.3/0322/31/2018 Tgl. 20 Februari 2018 | K33: Program Kemitraan Pemasokan dan Pemasaran Produk UMKM Kabupaten Cilacap | L33: UMKM | M33: Berakhir Pada 19 Februari 2023
C35: 7. | D35: CV. Laksana Baru | I35: 7 | J35: 518.3/0322/31/2018 Tgl. 20 Februari 2018 | K35: Program Kemitraan Pemasokan dan Pemasaran Produk UMKM Kabupaten Cilacap | L35: UMKM | M35: Berakhir Pada 19 Februari 2023
C37: 8. | D37: PT. BNI (Persero) | G37: 1 | H37: 415.2/10/03/2018 Tgl. 02 Maret 2018 | K37: Peningkatan Daya Saing, Produktifitas, Nilai Tambah, Dan Kualitas Kerja Koperasi, dan UMKM | L37: UMKM | M37: Berakhir Pada 01 Maret 2019
C39: 9. | D39: BPJS Kesehatan Purwokerto | I39: 8 | J39: 441.9/203.1/29 Tgl. 06 Maret 2018 | K39: Penyelenggaraan Program Jaminan Sosial Kesehatan Bagi Kepala Desa dan Perangkat Desa | L39: Kesehatan | M39: Berakhir Pada 05 Maret 2020
E41: 1. | F41: Universitas Gadjah Mada | G41: 2 | H41: 415.2/08/03/2018 Tgl. 22 Februari 2018 | K41: Peningkatan Pelaksanaan Tridharma Perguruan Tinggi | L41: Pendidikan | M41: Berakhir Pada 21 Desember 2019
E43: 2. | F43: Institut Seni Indonesia Surakarta | G43: 3 | H43: 415.2/10/03/2018 Tgl. 14 Maret 2018 | K43: Pengembangan Bidang Seni dan Budaya Melalui Tri Dharma Perguruan Tinggi | M43: Berakhir Pada 13 Maret 2019
D45: 9 | F45: 2 | H45: 3 | J45: 8
A47: DATA KERJA SAMA DAERAH
A48: KABUPATEN BANYUMAS
A50: KSDD | C50: KSDPK | E50: SINERGI | H50: NOMOR / TANGGAL | K50: RUANG LINGKUP | M50: KETERANGAN
H51: Kesepakatan | J51: Perjanjian
A53: 1.
A62: DATA KERJA SAMA DAERAH
A63: KABUPATEN PURBALINGGA
A65: KSDD | C65: KSDPK | E65: SINERGI | H65: NOMOR / TANGGAL | K65: RUANG LINGKUP | M65: KETERANGAN
H66: Kesepakatan | J66: Perjanjian
A68: 1. | B68: Kepala DKK Banjarnegara | I68: 1 | J68: 445/002.1/2018 Tgl. 01 Januari 2018 | K68: Pelayanan Kesehatan Bagi Peserta Jaminan Kesehatan Daerah (Jamkesda) Kabupaten Banjarnegara | M68: PKS Berakhir 31 Desember 2018
A70: 2. | B70: Kepala BNN Prov. Jawa Tengah | I70: 2 | J70: 445/97/I/2018 Tgl. 02 Januari 2018 | K70: Peningkatan Kemampuan Lembaga Rehabilitasi Bagi Pecandu dan Korban Penyalahgunaan Narkoba yang Diselenggarakan Oleh Instansi Pemerintah | M70: PKS Berakhir 31 Desember 2018
A72: 3. | B72: Administratur Muda Perum Perhutani Kesatuan Pemangkuan Hutan Banyumas Timur | G72: 1 | H72: 522/01/III/2018 Tgl. 05 Maret 2018 | K72: Pemanfaatan Hutan Untuk Mendukung Pembangunan dan Pengembangan Potensi Wilayah serta Peningkatan Kesejahteraan Masyarakat dan Pelestarian Hutan | M72: KSB Berakhir 05 Maret 2019
C74: 1. | D74: Direktur BPJS Deputi Wilayah VI kantor Cabang. Pwt | I74: 3 | J74: 445/19/2018 Tgl. 01 Januari 2018 | K74: Implementasi Integrasi Sistem Antar Vclaim dengan SIM-RS | M74: PKS Berakhir 31 Desember 2018
C76: 2. | D76: Direktur BPJS Ketenagakerjaan | I76: 4 | J76: 445/003.1/2018 Tgl. 02 Januari 2018 | K76: Pelaksanaan Pelayanan Kesehatan Program Jaminan Kecelakaan Bagi Peserta BPJS Ketenagakerjaan | M76: PKS Berakhir 31 Desember 2018
C78: 3. | D78: Direktur PT. Taspen (Persero) Cab. Purwokerto | I78: 5 | J78: 445/006/2018 Tgl. 16 Januari 2018 | K78: Perawatan Peserta Jaminan Kecelakaan Kerja PT. Taspen (Persero) | M78: PKS Berakhir 15 Januari 2020
C80: 4. | D80: Pemimpin PT. Bank jateng Cab. Purbalingga | I80: 6 | J80: 900/177/2018 Tgl. 16 Januari 2018 | K80: Penempatan Deposito | M80: PKS Berakhir 15 Januari 2019
C82: 5. | D82: Pemimpin PT. Bank jateng Cab. Purbalingga | I82: 7 | J82: 900/178/2018 Tgl. 16 Januari 2018 | K82: Penempatan Deposito | M82: PKS Berakhir 15 Januari 2019
C84: 6. | D84: Pemimpin PT. Bank jateng Cab. Purbalingga | I84: 8 | J84: 900/179/2018 Tgl. 16 Januari 2018 | K84: Penempatan Deposito | M84: PKS Berakhir 15 Januari 2019
C86: 7. | D86: Pemimpin PT. Bank jateng Cab. Purbalingga | I86: 9 | J86: 900/180/2018 Tgl. 16 Januari 2018 | K86: Penempatan Deposito | M86: PKS Berakhir 15 Januari 2019
...

Sheet DI Yogyakarta
A1: DATA KERJA SAMA DAERAH
A2: PROVINSI YOGYAKARTA
A4: KSDD | C4: KSDPK | E4: SINERGI | H4: NOMOR / TANGGAL | K4: RUANG LINGKUP | L4: URUSAN YANG DIKERJASAMAKAN | M4: KETERANGAN
H5: Kesepakatan | J5: Perjanjian
A7: 1. | B7: Pemprov Jatim | I7: 1 | J7: Perjanjian Tgl. 08 Juni 2018 | K7: Kerjasama Pengembangan Kearsipan dan Perpustakan | M7: 5 Tahun
E9: 1. | F9: LAPAN | I9: 2 | J9: Perjanjian Tgl. 12 Februari 2018 | K9: Pengembangan Dan Pemanfaatan Sistem Embaran Maritim Untuk Mendukung Keselamatan Pelayaran Dan Peningkatan Perikanan Tangkap DIY | M9: 3 Tahun
E11: 2. | F11: Institut Seni Indonesia | I11: 3 | J11: Perjanjian Tgl. 17 April 2018 | K11: Pelestarian dan Pemberdayaan Bidang Seni dan Budaya | L11: Seni Budaya | M11: 5 Tahun
E13: 3. | F13: Badan Informasi Geospasial | G13: 1 | H13: Kesepakatan Tgl. 27 April 2018 | I13: 4 | J13: Perjanjian Tgl. 01 Agustus 2018 | K13: Pengelolaan dan Pengembangan Simpul Jaringan Informasi Geospasial Daerah DIY | M13: 3 Tahun
E15: 4. | F15: Badan Informasi Geospasial | I15: 5 | J15: Perjanjian Tgl. 01 Agustus 2018 | K15: Penyelenggaraan Data Geospasial Dasar Skala Besar Untuk Mendukung Pembangunan di wilayah DIY | M15: 3 Tahun
B17: 1 | F17: 4 | H17: 1 | J17: 5
A19: DATA KERJA SAMA DAERAH
A20: KABUPATEN KULON PROGO
A22: KSDD | C22: KSDPK | E22: SINERGI | H22: NOMOR / TANGGAL | K22: RUANG LINGKUP | L22: URUSAN YANG DIKERJASAMAKAN | M22: KETERANGAN
H23: Kesepakatan | J23: Perjanjian
A25: 1. | B25: Kabupaten Kulon Progo Dengan Kabupaten Gianyar | G25: 1 | H25: 04/MoU.KP/Hkm/2018 Bulan Januari 2018 | K25: Menciptakan Sinergitas Penyelenggaraan Pembangunan serta mengoptimalkan pemanfaatan sumber daya alam dan sumber daya manusia melalui pelestarian dan pembangunan seni budaya dan pariwisata sesuai fungsi, Tugas, dan wewenang masing-masing
A27: 2. | B27: Kabupaten Bantul | G27: 2 | H27: 510/PK.KP/57.1/2018 Tgl. 09 Februari 2018 | K27: Penyelenggaraan Pelayanan Tera, Tera Ulang dan Pengawasan Metrologi Legal
B29: 2 | H29: 2
A32: DATA KERJA SAMA DAERAH
A33: KABUPATEN BANTUL
A35: KSDD | C35: KSDPK | E35: SINERGI | H35: NOMOR / TANGGAL | K35: RUANG LINGKUP | L35: URUSAN YANG DIKERJASAMAKAN | M35: KETERANGAN
H36: Kesepakatan | J36: Perjanjian
A38: 1. | B38: Kabupaten Kulon Progo | I38: 1 | J38: 03/PK/Bt/2018 Tgl. 09 Februari 2018 | K38: Penyelenggaraan Pelayanan Tera, Tera Ulang dan Pengawasan Metrologi legal | M38: Berakhir Pada 08 Februari 2020
A40: 2. | B40: Kabupaten Sragen | G40: 1 | H40: 03/MoU/Bt/2018 Tgl. 05 Maret 2018 | K40: Peningkatan Sumber Daya manusia, Pelayanan Publik, Perekonomian, dan Pemberdayaan Masyarakat | M40: Berakhir Pada 04 Maret 2019
A42: 3. | B42: Daerah Istimewa Yogyakarta | I42: 2 | J42: 08/PK/Bt/2018 Tgl. 27 Maret 2018 | K42: Penyelenggaraan Tes Psikologi | M42: Berakhir Pada 30 Juni 2018
A44: 4. | B44: Kabupaten Grobogan | G44: 2 | H44: 05/MoU/BT/2018 Tgl. 02 April 2018 | K44: Pemerintahan, Pembangunan, dan Kemasyarakatan | M44: Berakhir Pada 01 April 2019
A46: 5. | B46: Kabupaten Grobokan | I46: 3 | J46: 09/PK/Bt/2018 Tgl. 13 April 2017 | K46: Pemanfaatan sistem informasi manajemen tunjangan kinerja pemerintah | M46: Berakhir Pada 12 April 2021
A48: 6. | B48: Kota Surabaya | G48: 3 | H48: 14/Mou/Bt/2018 Tgl. 31 Mei 2018 | K48: Teknologi dan Informasi dalam pembelajaran sistem aplikasi, Promosi Potensi Daerah, Perdagangan | M48: Berakhir Pada 30 Mei 2019
C50: 1. | D50: Universiatas Ahmad Dahlan | I50: 4 | J50: 01.1/PK/Bt/2018 Tgl. 05 Januari 2018 | K50: Peningkatan Mutu Pelayanan Kesehatan Mental dan Kapasitas Sumber Daya Masyarakat Melalui Pelaksanaan Tridharma perguruan tinggi | L50: Pendidikan | M50: Berakhir Pada 04 Januari 2021
C52: 2. | D52: Pimpinan Daerah "Aisyiah | I52: 5 | J52: 01.2/PK/Bt/2018 Tgl. 08 Januari 2018 | K52: Upaya Peningkatan Penanggulangan penyakit Tuberkulosis (TB) | L52: Kesehatan | M52: Berakhir Pada 31 Desember 2020
C54: 3. | D54: PT. BTN (Persero) | I54: 6 | J54: 04/PK/Bt/2018 Tgl. 12 Februari 2018 | K54: Penerimaan Pembayaran Pajak Bumi dan Bangunan Perdesaan dan Perkotaan | L54: Perpajakan | M54: Berakhir Pada 11 Februari 2023
C56: 4. | D56: PT. BTN (Persero) | G56: 4 | H56: 01/MoU/Bt/2018 Tgl. 12 Februari 2018 | K56: Pemanfaatan produk dan jasa layanan perbankan dan pemberdayaan perekonomian daerah melalui CSR | M56: Berakhir Pada 11 Februari 2021
C58: 5. | D58: STIKES Surya Global Yogyakarta | G58: 5 | H58: 06/MoU/Bt/2018 Tgl. 20 April 2018 | K58: Pendidikan, Penelitian, dan Pengabdian Masyarakat | L58: Pendidikan | M58: Berakhir Pada 19 April 2020
C60: 6. | D60: Universitas Atmajaya Yogyakarta | G60: 6 | H60: 10/PK/Bt/2018 Tgl. 20 April 2018 | K60: Pelaksanaan Tri dharma Perguruan Tinggi | L60: Pendidikan | M60: Berakhir Pada 19 April 2023
C62: 7. | D62: STIKES Surya Global Yogyakarta | G62: 7 | H62: 11/PK/Bt/2018 Tgl. 23 April 2018 | K62: Pelaksanaan Tri Dharma Perguruan Tinggi | L62: Pendidikan | M62: Berkahir Pada 22 April 2020
C64: 8. | D64: STIMIK AMIKOM | I64: 7 | J64: 22/PK/Bt/2018 Tgl. 07 Mei 2018 | K64: Pengembangan Potensi Pariwisata Berbasis Teknologi Informasi | M64: Berakhir Pada 06 Mei 2020
C66: 9. | D66: PT. BPD DIY | G66: 8 | H66: 09/MoU/Bt/2018 Tgl. 14 Mei 2018 | K66: Pengelolaan keuangan Daerah, Pemanfaatan Produk dan Jasa Perbankan dan Pemberdayaan perekonomian melalui CSR | M66: Berakhir Pada 13 Mei 2023
C68: 10. | D68: PT. BRI Bantul | G68: 9 | H68: 11/MoU/Bt/2018 Tgl. 15 Mei 2018 | I68: 8 | J68: 24/PK/Bt/2018 Tgl. 15 Mei 2018 | K68: Pengelolaan keuangan Daerah, Pemanfaatan Produk dan Jasa Perbankan dan Pemberdayaan perekonomian melalui CSR | M68: Berakhir Pada 14 Mei 2023
C70: 11. | D70: Universitas Atmajaya Yogyakarta | G70: 10 | H70: 15/MoU/Bt/2018 Tgl. 25 Mei 2018 | K70: Pendidikan, penelitian dan pengabdian masyarakat | M70: Berakhir Pada 24 Mei 2019
C72: 12. | D72: Universitas PGRI Yogyakarta | G72: 11 | H72: 13/MoU/Bt/2018 Tgl. 28 Mei 2018 | I72: 9 | J72: 26/PK/Bt/2018 Tgl. 26 Mei 2018 | K72: Pelayanan Publik, Pembangunan sarana dan prasarana, dan pengembangan SDM | M72: Berakhir Pada 27 Mei 2019
C74: 13. | D74: Sekolah Tinggi Pariwisata Ampta | G74: 12 | H74: 15/Mou/Bt/2018 Tgl. 05 Juni 2018 | I74: 10 | J74: 27/PK/Bt/2018 Tgl. 05 Juni 2018 | K74: Pendidikan, penelitian dan pengabdian masyarakat | M74: Berakhir Pada 04 Juni 2021
...

Sheet Prov Banten
A2: DATA KERJA SAMA DAERAH
B3: PROVINSI BANTEN
A5: KSDD | C5: KSDPK | E5: SINERGI | H5: NOMOR / TANGGAL | K5: RUANG LINGKUP | M5: URUSAN YANG DIKERJASAMAKAN | O5: KETERANGAN
G6: Kesepakatan | I6: Perjanjian
A21: DATA KERJA SAMA DAERAH
B22: PEMERINTAH KABUPATEN SERANG
A24: KSDD | C24: KSDPK | E24: SINERGI | H24: NOMOR / TANGGAL | K24: RUANG LINGKUP | M24: URUSAN YANG DIKERJASAMAKAN | O24: KETERANGAN
G25: Kesepakatan | I25: Perjanjian
C27: 1 | D27: PT Arwana Nuansa Kramik | G27: 1 | H27: 620/MoU.05-Huk/2018 Tgl. 17 Januari 2018 | L27: Sharing Pembiayaan Interchange
C29: 2 | D29: Universitas Katolik Parahyangan | G29: 2 | H29: 073/MoU.10-Huk/2018 Tgl. 23 Februari 2018 | L29: Pendidikan dan Penelitian | N29: Pendidikan
C31: 3 | D31: PT DSG Suryamas Indonesia | G31: 3 | H31: 620/MoU 12.Huk/2018 Tgl. 21 Februari 2018 | L31: Interchange
C33: 4 | D33: PT Modern Panel Indoesia | G33: 4 | H33: 620/MoU 14.Huk/2018 Tgl. 21 Februari 2018 | L33: Interchange
C35: 5 | D35: PT Charoen Pokphand Indonesia | G35: 5 | H35: 620/MoU 15-Huk/2018 Tgl. 21 Februari 2018 | L35: Interchange
C37: 6 | D37: PT Charoen Pokphand Indonesia | G37: 6 | H37: 620/MoU 16-Huk/2018 Tgl. 21 Februari 2018 | L37: Interchange
C39: 7 | D39: PT Jakarta Kyoel Steal Works | G39: 7 | H39: 620/MoU 17-Huk/2018 Tgl. 21 Februari 2018 | L39: Interchange
C41: 8 | D41: PT Akukultur Probiotik Indonesia | G41: 8 | H41: 620/MoU 18-Huk/2018 Tgl. 21 Februari 2018 | L41: Interchange
C43: 9 | D43: PT Sejahtera Mtra Lestari | G43: 9 | H43: 620/MoU 19-Huk/2018 Tgl. 21 Februari 2018 | L43: Interchange
C45: 10 | D45: PT Citra Resins Inndonesia | G45: 10 | H45: 620/MoU 20-Huk/2018 Tgl. 21 Februari 2018 | L45: Interchange
C47: 11 | D47: PT Yasunaga Indonesia | G47: 11 | H47: 620/MoU 21-Huk/2018 Tgl. 21 Februari 2018 | L47: Interchange
C49: 12 | D49: PT Berri Indosari | G49: 12 | H49: 620/MoU 22-Huk/2018 Tgl. 21 Februari 2018 | L49: Interchange
C51: 13 | D51: PT Modern Gravure Indonesia | G51: 13 | H51: 620/MoU 23-Huk/2018 Tgl. 21 Februari 2018 | L51: Interchange
C53: 14 | D53: PT Hasta Prima Mandiri | G53: 14 | H53: 620/MoU 24-Huk/2018 Tgl. 21 Februari 2018 | L53: Interchange
... C63: 19 | D63: ITB | G63: 19 | H63: 073/MoU.44-Huk/2018 Tgl. 08 Juni 2018 | L63: Kerjasama Dalam Bidang Pendidikan, Peeitian dan Pengabdian Kepada Masyarakat
C65: 20 | D65: BPJS Kesehatan Cabang | I65: 1 | J65: 440/ADD.Perj-45-Huk/2018 Tgl. 30 Maret 2018 | L65: Kesehatan Program Jamkes Nas Bagi Penduduk yang Didaftrakan Pemerintah Kabpaten Serang
C67: 21 | D67: PT Arka Jaya Menari | I67: 2 | J67: 549/Perj.47-Huk/2018 | L67: Pemanfaatan Lahan Hasil Reklamasi Untuk INDUSTRI Pabrik, Kontruksi, dan Pelabuhan Penunjang di Desa Margagiri Kecamatan Bojonegara Kabupaten Serang
E69: 1 | F69: Lembaga Administrasi Negara (LAN) | G69: 20 | H69: 073/MoU.07-Huk/2018 Tgl. 17 Januari 2018 | L69: Penyelenggaraan Kegiatan Kajian Kebijakan, Pelatihan dan Pengembangan Kompetensi, Inovasi Administrasi Negara serta Pendidikan Tinggi
E71: 2 | F71: Komando Distrik Militer 0602 | I71: 3 | J71: 642/Perj II.Huk/2018 26 Februari 2018 | L71: Pembangunan Rumah Tidak Layak Huni di Kabupaten Seang
E73: 3 | F73: Badan Standarisasi Nasional Pemerintah Kabupaten Serang | G73: 21 | H73: 770/MoU.28-Huk/2018 Tgl. 16 Maret 2018 | L73: Pembinaan dan Pengembangan Standarisasi dan Penilaian Kesesuaian di Lingkungan Pemerintah Kabupaten Serang
E75: 4 | F75: Badan Pusat Statistik Kabupaten Serang | G75: 22 | H75: 130/MoU.29-Huk/2018 Tgl. 13 Maret 2018 | L75: Penyelenggaraan Statistik
E77: 5 | F77: Direktorat Jenderal Minyak dan Gas Bumi Kementerian dan Sumber Daya Mineral Pemerintah Kabupaten Serang | G77: 23 | H77: 547/MoU-411-Huk/2018 Tgl. 23 Maret 2018 | L77: Penyediaan dan Perindustrian dan Gas Bumi Melalui Janangan Distribusi Gas Bumi untuk Rumah Tangga di Wilayah Kabupaten Serang
E79: 6 | F79: Kementerian Desa, Pembangunan Daerah Tertinggal dari Transmigrasi RI | G79: 24 | H79: Tgl. 16 Mei 2018 | L79: Kemitraan Produk Unggulan Kawasan Perdesaan Kabupaten Serang
E81: 7 | F81: Kementerian PUPR | G81: 25 | H81: 620/BA 43 - Huk/2018 | L81: Berita Secara Serah Terima Interchange
E83: 8 | F83: Baznas | I83: 4 | J83: 948/Perj.46-Huk/2018 | L83: NPAD
D85: 21 | F85: 8 | H85: 25 | J85: 4
A88: DATA KERJA SAMA DAERAH
B89: KABUPATEN LEBAK
A91: KSDD | C91: KSDPK | E91: SINERGI | H91: NOMOR / TANGGAL | K91: RUANG LINGKUP | M91: URUSAN YANG DIKERJASAMAKAN | O91: KETERANGAN
G92: Kesepakatan | I92: Perjanjian
A107: DATA KERJA SAMA DAERAH
B108: KABUPATEN PANDEGLANG
...

Sheet Prov DKI 
A2: DATA KERJA SAMA DAERAH
B3: PROVINSI DKI
A5: KSDD | C5: KSDPK | E5: SINERGI | H5: NOMOR / TANGGAL | K5: RUANG LINGKUP | M5: URUSAN YANG DIKERJASAMAKAN | O5: KETERANGAN
G6: Kesepakatan | I6: Perjanjian
A21: DATA KERJA SAMA DAERAH
B22: KOTA JAKARTA PUSAT
A24: KSDD | C24: KSDPK | E24: SINERGI | H24: NOMOR / TANGGAL | K24: RUANG LINGKUP | M24: URUSAN YANG DIKERJASAMAKAN | O24: KETERANGAN
G25: Kesepakatan | I25: Perjanjian
A39: DATA KERJA SAMA DAERAH
B40: KOTA JAKARTA UTARA
A42: KSDD | C42: KSDPK | E42: SINERGI | H42: NOMOR / TANGGAL | K42: RUANG LINGKUP | M42: URUSAN YANG DIKERJASAMAKAN | O42: KETERANGAN
G43: Kesepakatan | I43: Perjanjian
A58: DATA KERJA SAMA DAERAH
B59: KOTA JAKARTA SELATAN
A61: KSDD | C61: KSDPK | E61: SINERGI | H61: NOMOR / TANGGAL | K61: RUANG LINGKUP | M61: URUSAN YANG DIKERJASAMAKAN | O61: KETERANGAN
G62: Kesepakatan | I62: Perjanjian
A77: DATA KERJA SAMA DAERAH
B78: KOTA JAKARTA TIMUR
A80: KSDD | C80: KSDPK | E80: SINERGI | H80: NOMOR / TANGGAL | K80: RUANG LINGKUP | M80: URUSAN YANG DIKERJASAMAKAN | O80: KETERANGAN
G81: Kesepakatan | I81: Perjanjian
A96: DATA KERJA SAMA DAERAH
B97: KOTA JAKARTA BARAT
A99: KSDD | C99: KSDPK | E99: SINERGI | H99: NOMOR / TANGGAL | K99: RUANG LINGKUP | M99: URUSAN YANG DIKERJASAMAKAN | O99: KETERANGAN
G100: Kesepakatan | I100: Perjanjian

Sheet Prov Bali
A1: DATA KERJA SAMA DAERAH
B2: KABUPATEN BADUNG
A4: KSDD | C4: KSDPK | E4: SINERGI | H4: NOMOR / TANGGAL | K4: RUANG LINGKUP | M4: URUSAN YANG DIKERJASAMAKAN | O4: KETERANGAN
G5: Kesepakatan | I5: Perjanjian
A7: 1 | B7: Pemerintah Provinsi Bali | G7: 1 | H7: 075/02/KB/B.Pem.Otda/II/2018 Tgl. 09 Februari 2018 | L7: Penyelenggaraan Jaminan Kesehatan Krama Badung Sehat | N7: Kesehatan | O7: KSB berakhir 09 Februari 2019
A9: 2 | B9: Pemerintah Kabupaten Lumajang | G9: 2 | H9: 130/02/427.11/2018 Tgl. 11 Februari 2018 | L9: Kerjasama Pembangunan Antar Daerah | N9: Pembangunan | O9: KSB berakhir 11 Februari 2019
A11: 3 | B11: Pemerintah Kota Denpasar, Pemerintah Kabupaten Gianyar, dan Pemerintah Kabupaten Tabanan | G11: 3 | H11: 075/14/KB/B.PEM.OTDA/V/2018 Tgl. 21 Mei 2018 | L11: Pelayanan Sistem Angkutan Umum | N11: Transportasi | O11: KSB berakhir 15 Mei 2019
A13: 4 | B13: Pemerintah Provinsi Bali | I13: 1 | J13: 075/04/PKS/B.Pem.Otda/II/2018 Tgl. 09 Februari 2018 | L13: Penyelenggara Jaminan Kesehatan Krama Badung Sehat | N13: Kesehatan | O13: PKS berakhir 09 Februari 2020
A15: 5 | B15: Pemerintah Kabupaten Banggai | I15: 2 | J15: 134.4/2850/PKS/TKKSD-Bdg/2018 Tgl. 02 Mei 2018 | L15: Pelestarian, Penngkatan, dan Pengembangan Seni Budaya | N15: Kesenian | O15: PKS berakhir 25 Juli 2020
A17: 6 | B17: Pemerintah Kota Denpasar, Pemerintah Kabupaten Gianyar, dan Pemerintah Kabupaten Tabanan | I17: 3 | J17: 075/17/PKS/B.PEM.OTDA/V/2018 Tgl. 21 Mei 2018 | L17: Pelayanan Sistem Angkutan Umum | N17: Transportasi | O17: PKS berakhir 21 Mei 2023
C19: 1 | D19: Sekolah Tinggi Manajemen Informatika dan Teknik Komputer STIKOM BALI | G19: 4 | H19: 134.4/317/KB//TKKSD-Bdg/2018 Tgl. 18 Januari 2018 | L19: Pendidikan, Penelitian dan Pengabdian Pada Masyarakat | N19: Pendidikan | O19: KSB berakhir 18 Januari 2019
C21: 2 | D21: PT. Dayamitra Telekomunikasi | G21: 5 | H21: 134.4/622/KB/TKKSD-Bdg/2018 Tgl. 31 Januari 2018 | L21: Pengembangan Sarana Penunjang Smart City | N21: Teknologi | O21: KSB berakhir 31 Januari 2019
C23: 3 | D23: Rumah Sakit Umum Dharma Yadnya | G23: 6 | H23: 134.4/649/KB/TKKSD-Bdg/2018 Tgl. 01 Februari 2018 | L23: Penyelenggara Jaminan Kesehatan Krama Badung Sehat | N23: Kesehatan | O23: KSB berakhir 01 Februari 2019
C25: 4 | D25: PT. Asuransi Jasa Indonesa (Persero) | G25: 7 | H25: 134.4/1344/KB/TKKSD-Bdg/2018 Tgl. 28 Februari 2018 | L25: Asuransi Kerugian | N25: Asuransi | O25: KSB berakhir 28 Februari 2019
C27: 5 | D27: Pusat Pengembangan Manajemen Pengadaan Indonesia | G27: 8 | H27: 134.4/1637/KB/TKKSD-Bdg/2018 Tgl. 12 Maret 2018 | L27: Pelaksanaan Pelatihan Peningkatan Kapasitas ASN | N27: Pelatihan | O27: KSB berakhir 12 Maret 2019
C29: 6 | D29: Universitas Mahasaraswati Denpasar | G29: 9 | H29: 134.4/2541/KB/TKKSD-Bdg/2018 Tgl. 20 April 2018 | L29: Pendidikan, Penelitian dan Pengabdian Masyarakat | N29: Pendidikan | O29: KSB berakhir 20 April 2019
C31: 7 | D31: PT. Bank Pembangunan Daerah Bali | G31: 10 | H31: 134.4/2763/KB/TKKSD-Bdg/2018 Tgl. 30 April 2018 | L31: Penggunaan Produk dan Jasa Perbankan | N31: Perbankan | O31: KSB berakhir 30 April 2019
C33: 8 | D33: STIKOM INDONESIA | G33: 11 | H33: 134.4/2793/KB/TKKSD-Bdg/2018 Tgl. 30 April 2018 | L33: Pendidikan, Penelitian dan Pengabdian Masyarakat | N33: Pendidikan | O33: KSB berakhir 30 April 2019
C35: 9 | D35: Lembaga Pelatihan Kerja Duta Sahaya | G35: 12 | H35: 134.4/3373/KB/TKKSD-Bdg/2018 Tgl. 07 Mei 2018 | L35: Peningkatan Kualias dan Kesempatan Pemagangan Calon Tenaga Kerja | N35: Pelatihan | O35: KSB berakhir 07 Mei 2019
C37: 10 | D37: PT. Pengembangan Pariwisata Indonesia | G37: 13 | H37: 134.4/3074/KB/TKKSD-Bdg/2018 Tgl. 11 Mei 2018 | L37: Penyelenggaraan Kepariwisataan | N37: Pariwisata | O37: KSB berakhir 11 Mei 2019
C39: 11 | D39: Sekolah Tinggi Ilmu Sosial dan Ilmu Politik (STISIP) Margarana Tabanan | G39: 14 | H39: 134.4/3373/KB/TKKSD-Bdg/2018 Tgl. 23 Mei 2018 | L39: Pendidikan, Penelitian dan Pengabdian Masyarakat | N39: Pendidikan | O39: KSB berakhir 23 Mei 2019
C41: 12 | D41: IKIP SARASWATI | G41: 15 | H41: 134.4/3664/KB/TKKSD-Bdg/2018 Tgl. 06 Juni 2018 | L41: Pendidikan, Penelitian, dan Pengabdian Kepada Masyarakat | N41: Pendidikan | O41: KSB berakhir 06 Juni 2019
C43: 13 | D43: Rumah Sakit Umum Dharma Yadnya | I43: 4 | J43: 134.4/650/PKS/TKKSD-Bdg/2018 Tgl. 01 Februari 2018 | L43: Penyelenggara Jaminan Kesehatan Krama Badung Sehat | N43: Kesehatan | O43: PKS berakhir 01 Februari 2020
C45: 14 | D45: PT. Dayamitra Telekomunikasi | I45: 5 | J45: 134.4/1134/KB/TKKSD-Bdg/2018 Tgl. 21 Februari 2018 | L45: Pengembangan Sarana Penunjang Smart City | N45: Teknologi | O45: PKS berakhir 21 Februari 2021
