Workbook

Sheet REKAP PATEN 
A1: DATA RINCIAN PERKEMBANGAN PENERAPAN PELAYANAN ADMINISTRASI TERPADU KECAMATAN (PATEN)
A4: No | B4: Provinsi | C4: Kabupaten/Kota | E4: Jumlah Kab/Kota Pelaksana PATEN | F4: Jumlah Kecamatan yang Telah Melaksanakan PATEN
A6: 1. | B6: Aceh
C7: 1. | D7: Kab. Aceh Selatan | E7: 1 | F7: ='1.aceh'!H26 -> 18
C8: 2. | D8: Kab. Aceh Tenggara | E8: 1 | F8: ='1.aceh'!H46 -> 0
C9: 3. | D9: Kab. Aceh Timur | E9: 1 | F9: ='1.aceh'!H74 -> 20
C10: 4. | D10: Kab. Aceh Tengah | E10: 1 | F10: ='1.aceh'!H92 -> 2
C11: 5. | D11: Kab. Aceh Barat | E11: 1 | F11: ='1.aceh'!H108 -> 3
C12: 6. | D12: Kab. Aceh Besar | E12: 1 | F12: ='1.aceh'!H135 -> 2
C13: 7. | D13: Kab. Pidie | E13: 1 | F13: ='1.aceh'!H162 -> 6
C14: 8. | D14: Kab. Aceh Utara | E14: 1 | F14: ='1.aceh'!H193 -> 14
C15: 9. | D15: Kab. Simeulue | E15: 1 | F15: ='1.aceh'!H207 -> 0
C16: 10. | D16: Kab. Aceh Singkil | E16: 1 | F16: ='1.aceh'!H222 -> 0
C17: 11. | D17: Kab. Bireuen | E17: 1 | F17: ='1.aceh'!H243 -> 17
C18: 12. | D18: Kab. Aceh Barat Daya | E18: 1 | F18: ='1.aceh'!H260 -> 9
C19: 13. | D19: Kab. Gayo Luwes | E19: 1 | F19: 11 | G19: 25 maret 2019
C20: 14. | D20: Kab. Aceh Jaya | E20: 1 | F20: ='1.aceh'!H288 -> 3
C21: 15. | D21: Kab. Nagan Raya | E21: 1 | F21: ='1.aceh'!H302 -> 0
C22: 16. | D22: Kab. Aceh Tamiang | E22: 1 | F22: ='1.aceh'!H318 -> 12
C23: 17. | D23: Kab. Bener Meriah | E23: 1 | F23: ='1.aceh'!H340 -> 10
C24: 18. | D24: Kab. Pidie Jaya | E24: 1 | F24: ='1.aceh'!H352 -> 8
C25: 19. | D25: Kota Banda Aceh | E25: 1 | F25: ='1.aceh'!H378 -> 3
C26: 20. | D26: Kota Sabang | E26: 0 | F26: ='1.aceh'!H384 -> 0
C27: 21. | D27: Kota Lhokseumawe | E27: 0 | F27: ='1.aceh'!H392 -> 0
C28: 22. | D28: Kota Langsa | E28: 1 | F28: ='1.aceh'!H401 -> 5
C29: 23. | D29: Kota Subussalam | E29: 0 | F29: ='1.aceh'!H410 -> 0
A31: Jumlah | E31: =SUM(E7:E29) -> 20 | F31: =SUM(F7:F29) -> 143
A33: 2. | B33: Sumatera Utara
C34: 1. | D34: Kab. Tapanuli Tengah | E34: 1 | F34: ='2.sumut'!H28 -> 0
C35: 2. | D35: Kab. Tapanuli Utara | E35: 1 | F35: ='2.sumut'!H47 -> 0
C36: 3. | D36: Kab. Tapanuli Selatan | E36: 0 | F36: ='2.sumut'!H65 -> 0
C37: 4. | D37: Kab. Nias | E37: 0 | F37: ='2.sumut'!H79 -> 0
C38: 5. | D38: Kab. Langkat | E38: 1 | F38: ='2.sumut'!H106 -> 3
C39: 6. | D39: Kab. Karo | E39: 0 | F39: ='2.sumut'!H127 -> 0
C40: 7. | D40: Kab. Deli Serdang | E40: 1 | F40: ='2.sumut'!H153 -> 22
C41: 8. | D41: Kab. Simalungun | E41: 0 | F41: ='2.sumut'!H188 -> 0
C42: 9. | D42: Kab. Asahan | E42: 1 | F42: ='2.sumut'!H217 -> 25
C43: 10. | D43: Kab. Labuhan Batu | E43: 1 | F43: ='2.sumut'!H230 -> 0 | G43: 25 maret 2019
C44: 11. | D44: Kab. Dairi | E44: 1 | F44: ='2.sumut'!H249 -> 1
C45: 12. | D45: Kab. Toba Samosir | E45: 0 | F45: ='2.sumut'!H269 -> 0
...

Sheet Sheet5

Sheet Sheet1

Sheet Sheet3
A1: DATA PATEN KAB/KOTA TAHUN 2017
A3: NO | B3: DAERAH | D3: DASAR HUKUM | E3: PELIMPAHAN KEWENANGAN
B4: KABUPATEN | C4: KOTA | E4: PERIZINAN | F4: NON PERIZINAN | G4: BINWAS DESA
A6: 1 | B6: KUPANG | D6: draft
A7: 2 | B7: MALUKU TENGAH
A8: 3 | B8: PARIGI MOUTONG | D8: draft
A9: 3 | B9: MELAWI | D9: DIKLAT MANAJEMEN PATEN
A10: 3 | B10: KAYONG UTARA | D10: DRAFT PELIMPAHAN
A11: 4 | B11: LAMANDAU | D11: PERBUP NO 10 TAHUN 2017
A12: 5 | B12: TULUNGAGUNG | D12: Bupati Tulungagung nomor 27 tahun 2015
A13: 6 | B13: LOMBOK UTARA
A14: 7 | B14: MUSI BANYUASIN | D14: DRAF PERBUP NOMOR …. 2017
A15: 8 | B15: SERAM BAGIAN BARAT | D15: DRAF PERBUP NOMO…. 2017
A16: 9 | B16: SIJUNJUNG | D16: DRAF PERBUP NOMO…. 2017
A17: 10 | B17: KAPUAS HULU | D17: Peraturan Bupati Kapuas Hulu nomor 34 tahun 2016, perubahan Perbup nomor 3 tahun 2016 tentang pelimpahan sebagian kewenangan Bupati kepada camat di wilayah Kapuas Hulu.
A18: 11 | B18: WAJO | D18: PERBUP NOMOR… TAHUN 2017 | E18: LAUNCING 1 KECAMATAN
A19: 12 | B19: KEPULAUAN SULA | D19: PERBUP NO 35 TAHUN 2017
A20: 13 | B20: SUMBAWA | D20: PERBUP NO 309 TAHUN 2017
A21: 14 | B21: BREBES | D21: PERBUP NO 082 TAHUN 2017
A22: 15 | B22: LOMBOK TIMUR | D22: PERBUP NO 188.45/369/PEM 2017
A23: 16 | C23: TOMOHON | D23: PERWAKO NO 19 TAHUN 2017
A24: 17 | B24: LUWU TIMUR | D24: KEP BUP NO I/1/TAHUN 2017
A25: 18 | C25: BIMA | D25: PERBUP NO 24 TAHUN 2017
A26: 19 | B26: BOLAANG MANGONDOW SELATAN | D26: PERBUP NO 13.A TAHUN 2017
A27: 20 | B27: JAYAWIJAYA | D27: PERBUB NO 13 TAHUN 2017
A28: 21 | B28: KEBUMEN | D28: PERUBAHAN KEDUA ATAS PERBUP NO 49 TAHUN 2014 TENTANG STANDAR PELAYANAN PROGRAM PELAYANAN SDMINISTRASI TERPADU KECAMATAN
A29: 22 | B29: SUKOHARJO | D29: PERBUP NO 1 TAHUN 2016
A30: 23 | B30: BANJARNEGARA | D30: PERUBAHAN KETIGA ATAS PERBUP NO 11TAHUN 2012 TENTANG PELIMPAHAN SEBAGIAN KEWENANGAN PEMERINTAHAN DARI BUPATI KEAPADA CAMAT UNTUK MENANGANI SEBAGIAN URUSAN OTONOMI DAERAH
A31: 24 | B31: KENDAL | D31: PERUBAHAN KEDUA ATAS PERBUP KENDAL NO 10 TAHUN 2013 TENTANG PENDELEGASIAN SEBAGIAN PELIMPAHAN SEBAGIAN KEWENANGAN BUPATI KENDAL KEPADA CAMAT DALAM RANGKA PELAYANAN ADMINISTRASI TERPADU KECAMATAN KAB KENDAL
A32: 25 | B32: SEMARANG | D32: NOMOR 138/0694/2017
A33: 26 | B33: KLUNGKUNG | D33: PERUBAHAN ATAS PERATURAN BUPATI KLUNGKUNG NOMOR 2 TAHUN 2014 TENTANG PELIMPAHAN SEBAGIAN KEWENANGAN BUPATI KEPADA CAMAT DAN PENYELENGGARAAN TUGAS-TUGAS UMUM Pemerintahan
A34: 27 | B34: KETAPANG | D34: PERBUP NO 21 TAHHN 2017
A35: 28 | B35: HULU SUNGAI TENGAH | D35: PERBUP 15 TAHUN 2017
A36: 29 | B36: BENGKAYAN | D36: PERBUP NO 52 TAHUN 2017
A37: 30 | B37: BASARANG | D37: TAHUN 2017
A38: 31 | B38: BARITO UTARA
A39: 32 | B39: SOPPENG | D39: PERBUP NO 1 TAHUN 2017
A40: 33 | B40: musi rawas | D40: perbub no.. Tahun 2017
A41: 34 | B41: banyuasin | D41: perbub no.. Tahun 2017
A42: 35 | B42: oku timur | D42: perbub no.. Tahun 2017
...

Sheet 1.aceh
A1: DATA PATEN
A3: NO. | B3: PROV | C3: NO. | D3: KAB | E3: KOTA | F3: NO. | G3: KEC | H3: PATEN | I3: BELUM PATEN | J3: TAHUN | R3: JENIS PERIZINAN YANG DILIMPAHKAN | S3: DASAR HUKUM | T3: KET
J4: 2010 | K4: 2011 | L4: 2012 | M4: 2013 | N4: 2014 | O4: 2015 | P4: 2016 | Q4: 2017
A5: 1 | B5: 2 | C5: 3 | D5: 4 | E5: 5 | F5: 6 | G5: 7 | H5: 8 | I5: 9 | J5: 10 | R5: 11 | S5: 12 | T5: 13
A7: 1. | B7: ACEH | C7: 1. | D7: Aceh Selatan | E7: - | F7: 1. | G7: Bakongan | H7: 1 | I7: 0 | J7: 0 | K7: 0 | L7: 0 | M7: 0 | N7: 0 | O7: 1 | R7: Belum ada data | S7: 1). Per. Bup. Aceh Selatan No. 19 Tahun 2009 ttg Pelimpahan Sebagian Kewenangan Pemkab Kepada Camat di Wil Kab. Aceh Selatan | T7: Inisiatif Pemda Surat No. 118/195/2015 tgl 9 Feb 2015
F8: 2. | G8: Kluet Utara | H8: 1 | I8: 0 | J8: 0 | K8: 0 | L8: 0 | M8: 0 | N8: 0 | O8: 1
F9: 3. | G9: Kluet Selatan | H9: 1 | I9: 0 | J9: 0 | K9: 0 | L9: 0 | M9: 0 | N9: 0 | O9: 1
F10: 4. | G10: Labuhan Haji | H10: 1 | I10: 0 | J10: 0 | K10: 0 | L10: 0 | M10: 0 | N10: 0 | O10: 1 | S10: 2). Kep. Bup. Aceh Selatan No. 445 Tahun 2014 tgl 7 Okt 2014 ttg Penetapan Kec Sebagai Penyelenggara PATEN Dalam Kab. Aceh Selatan Tahun 2014
F11: 5. | G11: Meukek | H11: 1 | I11: 0 | J11: 0 | K11: 0 | L11: 0 | M11: 0 | N11: 0 | O11: 1
F12: 6. | G12: Samadua | H12: 1 | I12: 0 | J12: 0 | K12: 0 | L12: 0 | M12: 0 | N12: 0 | O12: 1
F13: 7. | G13: Sawang | H13: 1 | I13: 0 | J13: 0 | K13: 0 | L13: 0 | M13: 0 | N13: 0 | O13: 1
F14: 8. | G14: Tapaktuan | H14: 1 | I14: 0 | J14: 0 | K14: 0 | L14: 0 | M14: 0 | N14: 0 | O14: 1
F15: 9. | G15: Trumon | H15: 1 | I15: 0 | J15: 0 | K15: 0 | L15: 0 | M15: 0 | N15: 0 | O15: 1
F16: 10. | G16: Pasi Raja | H16: 1 | I16: 0 | J16: 0 | K16: 0 | L16: 0 | M16: 0 | N16: 0 | O16: 1
F17: 11. | G17: Labuhan Haji Timur | H17: 1 | I17: 0 | J17: 0 | K17: 0 | L17: 0 | M17: 0 | N17: 0 | O17: 1
F18: 12. | G18: Labuhan Haji Barat | H18: 1 | I18: 0 | J18: 0 | K18: 0 | L18: 0 | M18: 0 | N18: 0 | O18: 1
F19: 13. | G19: Kluet Tengah | H19: 1 | I19: 0 | J19: 0 | K19: 0 | L19: 0 | M19: 0 | N19: 0 | O19: 1
F20: 14. | G20: Kluet Timur | H20: 1 | I20: 0 | J20: 0 | K20: 0 | L20: 0 | M20: 0 | N20: 0 | O20: 1
F21: 15. | G21: Bakongan Timur | H21: 1 | I21: 0 | J21: 0 | K21: 0 | L21: 0 | M21: 0 | N21: 0 | O21: 1
F22: 16. | G22: Trumon Timur | H22: 1 | I22: 0 | J22: 0 | K22: 0 | L22: 0 | M22: 0 | N22: 0 | O22: 1
... F24: 18. | G24: Trumon Tengah | H24: 1 | I24: 0 | J24: 0 | K24: 0 | L24: 0 | M24: 0 | N24: 0 | O24: 1
G26: Jumlah | H26: =SUM(H7:H24) -> 18 | I26: =SUM(I7:I24) -> 0 | J26: =SUM(J7:J24) -> 0 | K26: =SUM(K7:K24) -> 0 | L26: =SUM(L7:L24) -> 0 | M26: =SUM(M7:M24) -> 0 | N26: =SUM(N7:N24) -> 0 | O26: =SUM(O7:O24) -> 18 | P26: =SUM(P7:P24) -> 0
C29: 2. | D29: Aceh Tenggara | E29: - | F29: 1. | G29: Lawe Alas | H29: 0 | I29: 1 | J29: 0 | K29: 0 | L29: 0 | M29: 0 | N29: 0
F30: 2. | G30: Lawe Sigala-Gala | H30: 0 | I30: 1 | J30: 0 | K30: 0 | L30: 0 | M30: 0 | N30: 0
F31: 3. | G31: Bambel | H31: 0 | I31: 1 | J31: 0 | K31: 0 | L31: 0 | M31: 0 | N31: 0
F32: 4. | G32: Babussalam | H32: 0 | I32: 1 | J32: 0 | K32: 0 | L32: 0 | M32: 0 | N32: 0
F33: 5. | G33: Badar | H33: 0 | I33: 1 | J33: 0 | K33: 0 | L33: 0 | M33: 0 | N33: 0
F34: 6. | G34: Babul Makmur | H34: 0 | I34: 1 | J34: 0 | K34: 0 | L34: 0 | M34: 0 | N34: 0
F35: 7. | G35: Darul Hasanah | H35: 0 | I35: 1 | J35: 0 | K35: 0 | L35: 0 | M35: 0 | N35: 0
F36: 8. | G36: Lawe Bulan | H36: 0 | I36: 1 | J36: 0 | K36: 0 | L36: 0 | M36: 0 | N36: 0
F37: 9. | G37: Bukit Tusam | H37: 0 | I37: 1 | J37: 0 | K37: 0 | L37: 0 | M37: 0 | N37: 0
F38: 10. | G38: Semadam | H38: 0 | I38: 1 | J38: 0 | K38: 0 | L38: 0 | M38: 0 | N38: 0
F39: 11. | G39: Babul Rahmah | H39: 0 | I39: 1 | J39: 0 | K39: 0 | L39: 0 | M39: 0 | N39: 0
F40: 12. | G40: Ketambe | H40: 0 | I40: 1 | J40: 0 | K40: 0 | L40: 0 | M40: 0 | N40: 0
F41: 13. | G41: Deleng Pokhkisen | H41: 0 | I41: 1 | J41: 0 | K41: 0 | L41: 0 | M41: 0 | N41: 0
... F44: 16. | G44: Leuser | H44: 0 | I44: 1 | J44: 0 | K44: 0 | L44: 0 | M44: 0 | N44: 0
H46: =SUM(H29:H44) -> 0 | I46: =SUM(I29:I44) -> 16 | J46: =SUM(J29:J44) -> 0 | K46: =SUM(K29:K44) -> 0 | L46: =SUM(L29:L44) -> 0 | M46: =SUM(M29:M44) -> 0 | N46: =SUM(N29:N44) -> 0 | O46: =SUM(O29:O44) -> 0
C49: 3. | D49: Aceh Timur | E49: - | F49: 1. | G49: Darul Aman | H49: 1 | I49: 0 | J49: 0 | K49: 0 | L49: 0 | M49: 0 | N49: 0 | O49: 1 | R49: Belum ada data | S49: 1). Perbup. Aceh Timur No. 20 Tahun 2013 ttg Pelimpahan Sebagian Kewenangan Bup Kepada Camat | T49: Inisiatif Pemda
F50: 2. | G50: Julok | H50: 1 | I50: 0 | J50: 0 | K50: 0 | L50: 0 | M50: 0 | N50: 0 | O50: 1
F51: 3. | G51: Idi Rayeuk | H51: 1 | I51: 0 | J51: 0 | K51: 0 | L51: 0 | M51: 0 | N51: 0 | O51: 1
...

Sheet 2.sumut
A1: DATA PATEN
A3: NO. | B3: PROVINSI | C3: NO. | D3: KAB | E3: KOTA | F3: NO. | G3: KEC | H3: PATEN | I3: BELUM PATEN | J3: TAHUN | R3: JENIS PERIZINAN YANG DILIMPAHKAN | S3: DASAR HUKUM | T3: KET
J4: 2010 | K4: 2011 | L4: 2012 | M4: 2013 | N4: 2014 | O4: 2015 | P4: 2016 | Q4: 2017
A5: 1 | B5: 2 | C5: 3 | D5: 4 | E5: 5 | F5: 6 | G5: 7 | H5: 8 | I5: 9 | J5: 10 | P5: 11 | R5: 12 | S5: 13 | T5: 14
A7: 2. | B7: SUMUT | C7: 1. | D7: Tapanuli Tengah | E7: - | F7: 1. | G7: Barus | H7: 0 | I7: 1 | J7: 0 | K7: 0 | L7: 0 | M7: 0 | N7: 0
F8: 2. | G8: Sorkam | H8: 0 | I8: 1 | J8: 0 | K8: 0 | L8: 0 | M8: 0 | N8: 0
F9: 3. | G9: Pandan | H9: 0 | I9: 1 | J9: 0 | K9: 0 | L9: 0 | M9: 0 | N9: 0
F10: 4. | G10: Pinangsori | H10: 0 | I10: 1 | J10: 0 | K10: 0 | L10: 0 | M10: 0 | N10: 0
F11: 5. | G11: Manduamas | H11: 0 | I11: 1 | J11: 0 | K11: 0 | L11: 0 | M11: 0 | N11: 0
F12: 6. | G12: Kolang | H12: 0 | I12: 1 | J12: 0 | K12: 0 | L12: 0 | M12: 0 | N12: 0
F13: 7. | G13: Tapian Nauli | H13: 0 | I13: 1 | J13: 0 | K13: 0 | L13: 0 | M13: 0 | N13: 0
F14: 8. | G14: Sibabangun | H14: 0 | I14: 1 | J14: 0 | K14: 0 | L14: 0 | M14: 0 | N14: 0
F15: 9. | G15: Sosor Gadong | H15: 0 | I15: 1 | J15: 0 | K15: 0 | L15: 0 | M15: 0 | N15: 0
F16: 10. | G16: Sorkam Barat | H16: 0 | I16: 1 | J16: 0 | K16: 0 | L16: 0 | M16: 0 | N16: 0
F17: 11. | G17: Sirandorung | H17: 0 | I17: 1 | J17: 0 | K17: 0 | L17: 0 | M17: 0 | N17: 0
F18: 12. | G18: Andam Dewi | H18: 0 | I18: 1 | J18: 0 | K18: 0 | L18: 0 | M18: 0 | N18: 0
F19: 13. | G19: Sitahuis | H19: 0 | I19: 1 | J19: 0 | K19: 0 | L19: 0 | M19: 0 | N19: 0
... F26: 20. | G26: Sarudik | H26: 0 | I26: 1 | J26: 0 | K26: 0 | L26: 0 | M26: 0 | N26: 0
H28: =SUM(H7:H26) -> 0 | I28: =SUM(I7:I26) -> 20 | J28: =SUM(J7:J26) -> 0 | K28: =SUM(K7:K26) -> 0 | L28: =SUM(L7:L26) -> 0 | M28: =SUM(M7:M26) -> 0 | N28: =SUM(N7:N26) -> 0 | O28: =SUM(O7:O26) -> 0
C31: 2. | D31: Tapanuli Utara | E31: - | F31: 1. | G31: Tarutung | H31: 0 | I31: 1 | J31: 0 | K31: 0 | L31: 0 | M31: 0 | N31: 0 | R31: perbup taput nomor 40 tahun 2011 tentang pelimpahan kewenangan kepada camat di kabupaten taput
F32: 2. | G32: Siatas Barita | H32: 0 | I32: 1 | J32: 0 | K32: 0 | L32: 0 | M32: 0 | N32: 0
F33: 3. | G33: Adian Koting | H33: 0 | I33: 1 | J33: 0 | K33: 0 | L33: 0 | M33: 0 | N33: 0
F34: 4. | G34: Sipoholon | H34: 0 | I34: 1 | J34: 0 | K34: 0 | L34: 0 | M34: 0 | N34: 0
F35: 5. | G35: Pahae Julu | H35: 0 | I35: 1 | J35: 0 | K35: 0 | L35: 0 | M35: 0 | N35: 0
F36: 6. | G36: Pahae Jae | H36: 0 | I36: 1 | J36: 0 | K36: 0 | L36: 0 | M36: 0 | N36: 0
F37: 7. | G37: Simangumban | H37: 0 | I37: 1 | J37: 0 | K37: 0 | L37: 0 | M37: 0 | N37: 0
F38: 8. | G38: Purba Tua | H38: 0 | I38: 1 | J38: 0 | K38: 0 | L38: 0 | M38: 0 | N38: 0
F39: 9. | G39: Siborong-Borong | H39: 0 | I39: 1 | J39: 0 | K39: 0 | L39: 0 | M39: 0 | N39: 0
F40: 10. | G40: Pagaran | H40: 0 | I40: 1 | J40: 0 | K40: 0 | L40: 0 | M40: 0 | N40: 0
F41: 11. | G41: Parmonangan | H41: 0 | I41: 1 | J41: 0 | K41: 0 | L41: 0 | M41: 0 | N41: 0
F42: 12. | G42: Sipabutar | H42: 0 | I42: 1 | J42: 0 | K42: 0 | L42: 0 | M42: 0 | N42: 0
F43: 13. | G43: Pangaribuan | H43: 0 | I43: 1 | J43: 0 | K43: 0 | L43: 0 | M43: 0 | N43: 0
... F45: 15. | G45: Muara | H45: 0 | I45: 1 | J45: 0 | K45: 0 | L45: 0 | M45: 0 | N45: 0
H47: =SUM(H31:H45) -> 0 | I47: =SUM(I31:I45) -> 15 | J47: =SUM(J31:J45) -> 0 | K47: =SUM(K31:K45) -> 0 | L47: =SUM(L31:L45) -> 0 | M47: =SUM(M31:M45) -> 0 | N47: =SUM(N31:N45) -> 0 | O47: =SUM(O31:O45) -> 0
C50: 3. | D50: Tapanuli Selatan | E50: - | F50: 1. | G50: Angkola Barat | H50: 0 | I50: 1 | J50: 0 | K50: 0 | L50: 0 | M50: 0 | N50: 0
F51: 2. | G51: Batang Toru | H51: 0 | I51: 1 | J51: 0 | K51: 0 | L51: 0 | M51: 0 | N51: 0
F52: 3. | G52: Angkola Timur | H52: 0 | I52: 1 | J52: 0 | K52: 0 | L52: 0 | M52: 0 | N52: 0
F53: 4. | G53: Sipirok | H53: 0 | I53: 1 | J53: 0 | K53: 0 | L53: 0 | M53: 0 | N53: 0
F54: 5. | G54: Saipar Dolok Hole | H54: 0 | I54: 1 | J54: 0 | K54: 0 | L54: 0 | M54: 0 | N54: 0
F55: 6. | G55: Angkola Selatan | H55: 0 | I55: 1 | J55: 0 | K55: 0 | L55: 0 | M55: 0 | N55: 0
...

Sheet 3.sumbar
A1: DATA PATEN
A3: NO. | B3: PROVINSI | C3: NO. | D3: KAB | E3: KOTA | F3: NO. | G3: KEC | H3: PATEN | I3: BELUM PATEN | J3: TAHUN | R3: JENIS PERIZINAN YANG DILIMPAHKAN | S3: DASAR HUKUM | T3: KET
J4: 2010 | K4: 2011 | L4: 2012 | M4: 2013 | N4: 2014 | O4: 2015 | P4: 2016 | Q4: 2017
A5: 1 | B5: 2 | C5: 3 | D5: 4 | E5: 5 | F5: 6 | G5: 7 | H5: 8 | I5: 9 | J5: 10 | P5: 11 | Q5: 11 | R5: 12 | S5: 13 | T5: 14
A7: 3. | B7: SUMBAR | C7: 1. | D7: Pesisir Selatan | E7: - | F7: 1. | G7: Pancung Soal | H7: 0 | I7: 1 | J7: 0 | K7: 0 | L7: 0 | M7: 0 | N7: 0
F8: 2. | G8: Ranah Pesisir | H8: 0 | I8: 1 | J8: 0 | K8: 0 | L8: 0 | M8: 0 | N8: 0
F9: 3. | G9: Lengayang | H9: 0 | I9: 1 | J9: 0 | K9: 0 | L9: 0 | M9: 0 | N9: 0
F10: 4. | G10: Batang Kapas | H10: 0 | I10: 1 | J10: 0 | K10: 0 | L10: 0 | M10: 0 | N10: 0
F11: 5. | G11: IV Jurai | H11: 0 | I11: 1 | J11: 0 | K11: 0 | L11: 0 | M11: 0 | N11: 0
F12: 6. | G12: Bayang | H12: 0 | I12: 1 | J12: 0 | K12: 0 | L12: 0 | M12: 0 | N12: 0
F13: 7. | G13: Koto XI Tarusan | H13: 0 | I13: 1 | J13: 0 | K13: 0 | L13: 0 | M13: 0 | N13: 0
F14: 8. | G14: Sutera | H14: 0 | I14: 1 | J14: 0 | K14: 0 | L14: 0 | M14: 0 | N14: 0
F15: 9. | G15: Linggo Sari Baganti | H15: 0 | I15: 1 | J15: 0 | K15: 0 | L15: 0 | M15: 0 | N15: 0
F16: 10. | G16: Lunang | H16: 0 | I16: 1 | J16: 0 | K16: 0 | L16: 0 | M16: 0 | N16: 0
F17: 11. | G17: Basa Ampek Balai Tapan | H17: 0 | I17: 1 | J17: 0 | K17: 0 | L17: 0 | M17: 0 | N17: 0
F18: 12. | G18: IV Nagan Bayang Utara | H18: 0 | I18: 1 | J18: 0 | K18: 0 | L18: 0 | M18: 0 | N18: 0
F19: 13. | G19: Airpura | H19: 0 | I19: 1 | J19: 0 | K19: 0 | L19: 0 | M19: 0 | N19: 0
... F21: 15. | G21: Silaut | H21: 0 | I21: 1 | J21: 0 | K21: 0 | L21: 0 | M21: 0 | N21: 0
H23: =SUM(H7:H21) -> 0 | I23: =SUM(I7:I21) -> 15 | J23: =SUM(J7:J21) -> 0 | K23: =SUM(K7:K21) -> 0 | L23: =SUM(L7:L21) -> 0 | M23: =SUM(M7:M21) -> 0 | N23: =SUM(N7:N21) -> 0 | O23: =SUM(O7:O21) -> 0
C26: 2. | D26: Solok | E26: - | F26: 1. | G26: Pantai Cermin | H26: 0 | I26: 1 | J26: 0 | K26: 0 | L26: 0 | M26: 0 | N26: 0
F27: 2. | G27: Lembah Gumantri | H27: 0 | I27: 1 | J27: 0 | K27: 0 | L27: 0 | M27: 0 | N27: 0
F28: 3. | G28: Payung Sekaki | H28: 0 | I28: 1 | J28: 0 | K28: 0 | L28: 0 | M28: 0 | N28: 0
F29: 4. | G29: Lembang Jaya | H29: 0 | I29: 1 | J29: 0 | K29: 0 | L29: 0 | M29: 0 | N29: 0
F30: 5. | G30: Gunung Talang | H30: 0 | I30: 1 | J30: 0 | K30: 0 | L30: 0 | M30: 0 | N30: 0
F31: 6. | G31: Bukit Sundi | H31: 0 | I31: 1 | J31: 0 | K31: 0 | L31: 0 | M31: 0 | N31: 0
F32: 7. | G32: IX Kote Sei Lasi | H32: 0 | I32: 1 | J32: 0 | K32: 0 | L32: 0 | M32: 0 | N32: 0
F33: 8. | G33: Kubung | H33: 0 | I33: 1 | J33: 0 | K33: 0 | L33: 0 | M33: 0 | N33: 0
F34: 9. | G34: X Koto Singkarak | H34: 0 | I34: 1 | J34: 0 | K34: 0 | L34: 0 | M34: 0 | N34: 0
F35: 10. | G35: X Koto Diatas | H35: 0 | I35: 1 | J35: 0 | K35: 0 | L35: 0 | M35: 0 | N35: 0
F36: 11. | G36: Junjung Siri | H36: 0 | I36: 1 | J36: 0 | K36: 0 | L36: 0 | M36: 0 | N36: 0
F37: 12. | G37: Hiliran Gumantri | H37: 0 | I37: 1 | J37: 0 | K37: 0 | L37: 0 | M37: 0 | N37: 0
F38: 13. | G38: Tigo Lurah | H38: 0 | I38: 1 | J38: 0 | K38: 0 | L38: 0 | M38: 0 | N38: 0
F39: 14. | G39: Danau Kembar | H39: 0 | I39: 1 | J39: 0 | K39: 0 | L39: 0 | M39: 0 | N39: 0
H41: =SUM(H26:H39) -> 0 | I41: =SUM(I26:I39) -> 14 | J41: =SUM(J26:J39) -> 0 | K41: =SUM(K26:K39) -> 0 | L41: =SUM(L26:L39) -> 0 | M41: =SUM(M26:M39) -> 0 | N41: =SUM(N26:N39) -> 0 | O41: =SUM(O26:O39) -> 0
C44: 3. | D44: Sijunjung | E44: - | F44: 1. | G44: Tanjung Gadang | H44: 1 | J44: 0 | K44: 0 | L44: 0 | M44: 0 | N44: 0 | Q44: 1 | S44: perbup sijunjung no 30 tahun 2014 tentang pelimpahan sebagian wewenang bupati kepada camat
F45: 2. | G45: Sijunjung | H45: 1 | J45: 0 | K45: 0 | L45: 0 | M45: 0 | N45: 0 | Q45: 1 | S45: perbup sijunjung no 45 tahun 2014 tentang standar pelayanan perizinan dan non perizinan PATEN Di Kabupaten Sijunjung
F46: 3. | G46: IV Nagari | H46: 1 | J46: 0 | K46: 0 | L46: 0 | M46: 0 | N46: 0 | Q46: 1 | S46: perbup Sijunjung no 2 tahun 2015 tentang uraian tugas pelaksana PATEN Di kab Sijunjung
F47: 4. | G47: Kamang Baru | H47: 1 | J47: 0 | K47: 0 | L47: 0 | M47: 0 | N47: 0 | Q47: 1
F48: 5. | G48: Lubuak Tarok | H48: 1 | J48: 0 | K48: 0 | L48: 0 | M48: 0 | N48: 0 | Q48: 1
F49: 6. | G49: Koto VII | H49: 1 | J49: 0 | K49: 0 | L49: 0 | M49: 0 | N49: 0 | Q49: 1
...

Sheet 4.riau
A1: DATA PATEN
A3: NO. | B3: PROVINSI | C3: NO. | D3: KAB | E3: KOTA | F3: NO. | G3: KEC | H3: PATEN | I3: BELUM PATEN | J3: TAHUN | R3: JENIS PERIZINAN YANG DILIMPAHKAN | S3: DASAR HUKUM | T3: KET
J4: 2010 | K4: 2011 | L4: 2012 | M4: 2013 | N4: 2014 | O4: 2015 | P4: 2016 | Q4: 2017
A5: 1 | B5: 2 | C5: 3 | D5: 4 | E5: 5 | F5: 6 | G5: 7 | H5: 8 | I5: 9 | J5: 10 | R5: 11 | S5: 12 | T5: 13
A7: 4. | B7: RIAU | C7: 1. | D7: Kampar | E7: - | F7: 1. | G7: Bangkinang | H7: 0 | I7: 1 | J7: 0 | K7: 0 | L7: 0 | M7: 0 | N7: 0
F8: 2. | G8: Kampar | H8: 0 | I8: 1 | J8: 0 | K8: 0 | L8: 0 | M8: 0 | N8: 0
F9: 3. | G9: Tambang | H9: 0 | I9: 1 | J9: 0 | K9: 0 | L9: 0 | M9: 0 | N9: 0
F10: 4. | G10: XIII Koto Kampar | H10: 0 | I10: 1 | J10: 0 | K10: 0 | L10: 0 | M10: 0 | N10: 0
F11: 5. | G11: Kuok | H11: 0 | I11: 1 | J11: 0 | K11: 0 | L11: 0 | M11: 0 | N11: 0
F12: 6. | G12: Siak Hulu | H12: 0 | I12: 1 | J12: 0 | K12: 0 | L12: 0 | M12: 0 | N12: 0
F13: 7. | G13: Kampar Kiri | H13: 0 | I13: 1 | J13: 0 | K13: 0 | L13: 0 | M13: 0 | N13: 0
F14: 8. | G14: Kampar Kiri Hilir | H14: 0 | I14: 1 | J14: 0 | K14: 0 | L14: 0 | M14: 0 | N14: 0
F15: 9. | G15: Kampar Kiri Hulu | H15: 0 | I15: 1 | J15: 0 | K15: 0 | L15: 0 | M15: 0 | N15: 0
F16: 10. | G16: Tapung | H16: 0 | I16: 1 | J16: 0 | K16: 0 | L16: 0 | M16: 0 | N16: 0
F17: 11. | G17: Tapung Hilir | H17: 0 | I17: 1 | J17: 0 | K17: 0 | L17: 0 | M17: 0 | N17: 0
F18: 12. | G18: Tapung Hulu | H18: 0 | I18: 1 | J18: 0 | K18: 0 | L18: 0 | M18: 0 | N18: 0
F19: 13. | G19: Salo | H19: 0 | I19: 1 | J19: 0 | K19: 0 | L19: 0 | M19: 0 | N19: 0
... F27: 21. | G27: Koto Kampar Hulu | H27: 0 | I27: 1 | J27: 0 | K27: 0 | L27: 0 | M27: 0 | N27: 0
H29: =SUM(H7:H27) -> 0 | I29: =SUM(I7:I27) -> 21 | J29: =SUM(J7:J27) -> 0 | K29: =SUM(K7:K27) -> 0 | L29: =SUM(L7:L27) -> 0 | M29: =SUM(M7:M27) -> 0 | N29: =SUM(N7:N27) -> 0 | O29: =SUM(O7:O27) -> 0
C32: 2. | D32: Indragiri Hulu | E32: - | F32: 1. | G32: Rengat | H32: 0 | I32: 1 | J32: 0 | K32: 0 | L32: 0 | M32: 0 | N32: 0 | S32: Perbup Indragiri Hulu Nomor 25 Tahun 2013 tentang pelimpahan sebagian kewenangan pemerintahan dari bupati indragiri hulu kepada camat sekabupaten indragiri hulu
F33: 2. | G33: Rengat Barat | H33: 0 | I33: 1 | J33: 0 | K33: 0 | L33: 0 | M33: 0 | N33: 0
F34: 3. | G34: Kelayang | H34: 0 | I34: 1 | J34: 0 | K34: 0 | L34: 0 | M34: 0 | N34: 0
F35: 4. | G35: Pasir Penyu | H35: 0 | I35: 1 | J35: 0 | K35: 0 | L35: 0 | M35: 0 | N35: 0
F36: 5. | G36: Peranap | H36: 0 | I36: 1 | J36: 0 | K36: 0 | L36: 0 | M36: 0 | N36: 0
F37: 6. | G37: Siberida | H37: 0 | I37: 1 | J37: 0 | K37: 0 | L37: 0 | M37: 0 | N37: 0
F38: 7. | G38: Batang Cenaku | H38: 0 | I38: 1 | J38: 0 | K38: 0 | L38: 0 | M38: 0 | N38: 0
F39: 8. | G39: Batang Gangsal | H39: 0 | I39: 1 | J39: 0 | K39: 0 | L39: 0 | M39: 0 | N39: 0
F40: 9. | G40: Lirik | H40: 0 | I40: 1 | J40: 0 | K40: 0 | L40: 0 | M40: 0 | N40: 0
F41: 10. | G41: Kuala Cenaku | H41: 0 | I41: 1 | J41: 0 | K41: 0 | L41: 0 | M41: 0 | N41: 0
F42: 11. | G42: Sungai Lala | H42: 0 | I42: 1 | J42: 0 | K42: 0 | L42: 0 | M42: 0 | N42: 0
F43: 12. | G43: Lubuk Batu Raya | H43: 0 | I43: 1 | J43: 0 | K43: 0 | L43: 0 | M43: 0 | N43: 0
F44: 13. | G44: Rakit Kulim | H44: 0 | I44: 1 | J44: 0 | K44: 0 | L44: 0 | M44: 0 | N44: 0
F45: 14. | G45: Batang Peranap | H45: 0 | I45: 1 | J45: 0 | K45: 0 | L45: 0 | M45: 0 | N45: 0
H47: =SUM(H32:H45) -> 0 | I47: =SUM(I32:I45) -> 14 | J47: =SUM(J32:J45) -> 0 | K47: =SUM(K32:K45) -> 0 | L47: =SUM(L32:L45) -> 0 | M47: =SUM(M32:M45) -> 0 | N47: =SUM(N32:N45) -> 0 | O47: =SUM(O32:O45) -> 0
C50: 3. | D50: Bengkalis | E50: - | F50: 1. | G50: Bengkalis | H50: 0 | I50: 1 | J50: 0 | K50: 0 | L50: 0 | M50: 0 | N50: 0
F51: 2. | G51: Bantan | H51: 0 | I51: 1 | J51: 0 | K51: 0 | L51: 0 | M51: 0 | N51: 0
F52: 3. | G52: Bukit Batu | H52: 0 | I52: 1 | J52: 0 | K52: 0 | L52: 0 | M52: 0 | N52: 0
F53: 4. | G53: Mandau | H53: 0 | I53: 1 | J53: 0 | K53: 0 | L53: 0 | M53: 0 | N53: 0
F54: 5. | G54: Rupat | H54: 0 | I54: 1 | J54: 0 | K54: 0 | L54: 0 | M54: 0 | N54: 0
F55: 6. | G55: Rupat Utara | H55: 0 | I55: 1 | J55: 0 | K55: 0 | L55: 0 | M55: 0 | N55: 0
...

Sheet 5.jambi
A1: DATA PATEN
A3: NO. | B3: PROVINSI | C3: NO. | D3: KAB | E3: KOTA | F3: NO. | G3: KEC | H3: PATEN | I3: BELUM PATEN | J3: TAHUN | R3: JENIS PERIZINAN YANG DILIMPAHKAN | S3: DASAR HUKUM | T3: KET
J4: 2010 | K4: 2011 | L4: 2012 | M4: 2013 | N4: 2014 | O4: 2015 | P4: 2016 | Q4: 2017
A5: 1 | B5: 2 | C5: 3 | D5: 4 | E5: 5 | F5: 6 | G5: 7 | H5: 8 | I5: 9 | J5: 10 | R5: 11 | S5: 12 | T5: 13
A7: 5. | B7: JAMBI | C7: 1. | D7: Kerinci | E7: - | F7: 1. | G7: Gunung Raya | H7: 1 | I7: 0 | J7: 0 | K7: 0 | L7: 0 | M7: 0 | N7: 1 | O7: 1 | S7: perbup kerinci no 23 tahun 2014 tentang pelimpahan sebagian kewenangan bupati kerinci kepada camat untuk melaksanakan urusan pemda | T7: Kec. Gunung Raya, Sitinjau Laut & Gunung Tujuh, Lounching PATEN secara simbolis pada tgl 2 Okt 2014 di Jkt
F8: 2. | G8: Danau Kerinci | H8: 0 | I8: 1 | J8: 0 | K8: 0 | L8: 0 | M8: 0 | N8: 0
F9: 3. | G9: Sitinjau Laut | H9: 1 | I9: 0 | J9: 0 | K9: 0 | L9: 0 | M9: 0 | N9: 1 | O9: 1
F10: 4. | G10: Air Hangat | H10: 0 | I10: 1 | J10: 0 | K10: 0 | L10: 0 | M10: 0 | N10: 0
F11: 5. | G11: Gunung Kerinci | H11: 0 | I11: 1 | J11: 0 | K11: 0 | L11: 0 | M11: 0 | N11: 0
F12: 6. | G12: Batang Merangin | H12: 0 | I12: 1 | J12: 0 | K12: 0 | L12: 0 | M12: 0 | N12: 0
F13: 7. | G13: Keliling Danau | H13: 0 | I13: 1 | J13: 0 | K13: 0 | L13: 0 | M13: 0 | N13: 0
F14: 8. | G14: Kayu Aro | H14: 0 | I14: 1 | J14: 0 | K14: 0 | L14: 0 | M14: 0 | N14: 0
F15: 9. | G15: Air Hangat Timur | H15: 0 | I15: 1 | J15: 0 | K15: 0 | L15: 0 | M15: 0 | N15: 0
F16: 10. | G16: Gunung Tujuh | H16: 1 | I16: 0 | J16: 0 | K16: 0 | L16: 0 | M16: 0 | N16: 1 | O16: 1
F17: 11. | G17: Siulak | H17: 0 | I17: 1 | J17: 0 | K17: 0 | L17: 0 | M17: 0 | N17: 0
F18: 12. | G18: Depati Tujuh | H18: 0 | I18: 1 | J18: 0 | K18: 0 | L18: 0 | M18: 0 | N18: 0
F19: 13. | G19: Siulak Mukai | H19: 0 | I19: 1 | J19: 0 | K19: 0 | L19: 0 | M19: 0 | N19: 0
F20: 14. | G20: Kayu Aro Barat | H20: 0 | I20: 1 | J20: 0 | K20: 0 | L20: 0 | M20: 0 | N20: 0
F21: 15. | G21: Bukitkerman | H21: 0 | I21: 1 | J21: 0 | K21: 0 | L21: 0 | M21: 0 | N21: 0
F22: 16. | G22: Air Hangat Barat | H22: 0 | I22: 1 | J22: 0 | K22: 0 | L22: 0 | M22: 0 | N22: 0
H24: =SUM(H7:H22) -> 3 | I24: =SUM(I7:I22) -> 13 | J24: =SUM(J7:J22) -> 0 | K24: =SUM(K7:K22) -> 0 | L24: =SUM(L7:L22) -> 0 | M24: =SUM(M7:M22) -> 0 | N24: =SUM(N7:N22) -> 3 | O24: =SUM(O7:O22) -> 3
C27: 2. | D27: Merangin | E27: - | F27: 1. | G27: Jangkat | H27: 0 | I27: 1 | J27: 0 | K27: 0 | L27: 0 | M27: 0 | N27: 0
F28: 2. | G28: Bangko | H28: 0 | I28: 1 | J28: 0 | K28: 0 | L28: 0 | M28: 0 | N28: 0
F29: 3. | G29: Muara Siau | H29: 0 | I29: 1 | J29: 0 | K29: 0 | L29: 0 | M29: 0 | N29: 0
F30: 4. | G30: Sungai Manau | H30: 0 | I30: 1 | J30: 0 | K30: 0 | L30: 0 | M30: 0 | N30: 0
F31: 5. | G31: Tabir | H31: 0 | I31: 1 | J31: 0 | K31: 0 | L31: 0 | M31: 0 | N31: 0
F32: 6. | G32: Pamenang | H32: 0 | I32: 1 | J32: 0 | K32: 0 | L32: 0 | M32: 0 | N32: 0
F33: 7. | G33: Tabir Ulu | H33: 0 | I33: 1 | J33: 0 | K33: 0 | L33: 0 | M33: 0 | N33: 0
F34: 8. | G34: Tabir Selatan | H34: 0 | I34: 1 | J34: 0 | K34: 0 | L34: 0 | M34: 0 | N34: 0
F35: 9. | G35: Lembah Masurai | H35: 0 | I35: 1 | J35: 0 | K35: 0 | L35: 0 | M35: 0 | N35: 0
F36: 10. | G36: Bangko Barat | H36: 0 | I36: 1 | J36: 0 | K36: 0 | L36: 0 | M36: 0 | N36: 0
F37: 11. | G37: Nalo Tatan | H37: 0 | I37: 1 | J37: 0 | K37: 0 | L37: 0 | M37: 0 | N37: 0
F38: 12. | G38: Batang Masumai | H38: 0 | I38: 1 | J38: 0 | K38: 0 | L38: 0 | M38: 0 | N38: 0
F39: 13. | G39: Pamenang Barat | H39: 0 | I39: 1 | J39: 0 | K39: 0 | L39: 0 | M39: 0 | N39: 0
... F45: 19. | G45: Renah Pamenang | H45: 0 | I45: 1 | J45: 0 | K45: 0 | L45: 0 | M45: 0 | N45: 0
F46: 20. | G46: Pamenang Selatan | H46: 1 | J46: 0 | K46: 0 | L46: 0 | M46: 0 | N46: 0 | R46: Kepcam pamenang selatan nomor 25 tahun 2018 tentang SOP Paten Kec Pamenang Selatan
F47: 21. | G47: Margo Tabir | H47: 0 | I47: 1 | J47: 0 | K47: 0 | L47: 0 | M47: 0 | N47: 0
F48: 22. | G48: Tabir Lintas | H48: 0 | I48: 1 | J48: 0 | K48: 0 | L48: 0 | M48: 0 | N48: 0
F49: 23. | G49: Tabir Barat | H49: 0 | I49: 1 | J49: 0 | K49: 0 | L49: 0 | M49: 0 | N49: 0
F50: 24. | G50: Tiang Pumpung | H50: 0 | I50: 1 | J50: 0 | K50: 0 | L50: 0 | M50: 0 | N50: 0
...

Sheet 6.sumsel
A1: DATA PATEN
A3: NO. | B3: PROVINSI | C3: NO. | D3: KAB | E3: KOTA | F3: NO. | G3: KEC | H3: PATEN | I3: BELUM PATEN | J3: TAHUN | R3: JENIS PERIZINAN YANG DILIMPAHKAN | S3: DASAR HUKUM | T3: KET
J4: 2010 | K4: 2011 | L4: 2012 | M4: 2013 | N4: 2014 | O4: 2015 | P4: 2016 | Q4: 2017
A5: 1 | B5: 2 | C5: 3 | D5: 4 | E5: 5 | F5: 6 | G5: 7 | H5: 8 | I5: 9 | J5: 10 | R5: 11 | S5: 12 | T5: 13
A7: 6. | B7: SUMSEL | C7: 1. | D7: Ogan Komering Ulu | E7: - | F7: 1. | G7: Sosoh Buay Rayap | H7: 1 | I7: 0 | J7: 0 | K7: 0 | L7: 0 | M7: 0 | N7: 0 | O7: 1 | P7: 0 | R7: Tidak ada perizinan yang dilimpahkan ke kec | S7: 1). Kepbup. OKU No. 13 Thn 2002 ttg Pelimpahan Sebagian Kewenangan Bup. OKU Kepada Camat Dalam Kab. OKU
F8: 2. | G8: Pengandonan | H8: 1 | I8: 0 | J8: 0 | K8: 0 | L8: 0 | M8: 0 | N8: 0 | O8: 1 | P8: 0
F9: 3. | G9: Peninjauan | H9: 1 | I9: 0 | J9: 0 | K9: 0 | L9: 0 | M9: 0 | N9: 0 | O9: 1 | P9: 0
F10: 4. | G10: Baturaja Barat | H10: 1 | I10: 0 | J10: 0 | K10: 0 | L10: 0 | M10: 0 | N10: 0 | O10: 1 | P10: 0 | S10: 2). Perbup. OKU No. 18 Thn 2009 ttg Uraian Tugas Camat, Sekretaris, Kepala Sub Bag & Kasi pada Pemerintah Kec Dalam Kab. OKU
F11: 5. | G11: Baturaja Timur | H11: 1 | I11: 0 | J11: 0 | K11: 0 | L11: 0 | M11: 0 | N11: 0 | O11: 1 | P11: 0
F12: 6. | G12: Ulu Ogan | H12: 1 | I12: 0 | J12: 0 | K12: 0 | L12: 0 | M12: 0 | N12: 0 | O12: 1 | P12: 0
F13: 7. | G13: Semidang Aji | H13: 1 | I13: 0 | J13: 0 | K13: 0 | L13: 0 | M13: 0 | N13: 0 | O13: 1 | P13: 0 | S13: 3). Perbup. OKU No. 43 Thn 2014 ttg Uraian Tugas Personil Kec Dalam Penyelenggaraan PATEN
F14: 8. | G14: Lubuk Batang | H14: 1 | I14: 0 | J14: 0 | K14: 0 | L14: 0 | M14: 0 | N14: 0 | O14: 1 | P14: 0
F15: 9. | G15: Lengkiti | H15: 1 | I15: 0 | J15: 0 | K15: 0 | L15: 0 | M15: 0 | N15: 0 | O15: 1 | P15: 0
F16: 10. | G16: Sinar Peninjauan | H16: 1 | I16: 0 | J16: 0 | K16: 0 | L16: 0 | M16: 0 | N16: 0 | O16: 1 | P16: 0 | S16: 4). Perbup. OKU No. 44 Thn 2014 ttg Uraian ttg Standar PATEN
F17: 11. | G17: Lubuk Raja | H17: 1 | I17: 0 | J17: 0 | K17: 0 | L17: 0 | M17: 0 | N17: 0 | O17: 1 | P17: 0
F18: 12. | G18: Muara Jaya | H18: 1 | I18: 0 | J18: 0 | K18: 0 | L18: 0 | M18: 0 | N18: 0 | O18: 1 | P18: 0 | S18: 5). Kepbup. OKU No. 188/584/KPTS/2014 ttg Pembentukan Tim Teknis PATEN Kab. OKU
F19: 11. | G19: Kedaton Peninjauan (baru) | H19: 1 | I19: 0 | J19: 0 | K19: 0 | L19: 0 | M19: 0 | N19: 0 | O19: 0 | P19: 1
H21: =SUM(H7:H19) -> 13 | I21: =SUM(I7:I19) -> 0 | J21: =SUM(J7:J19) -> 0 | K21: =SUM(K7:K19) -> 0 | L21: =SUM(L7:L19) -> 0 | M21: =SUM(M7:M19) -> 0 | N21: =SUM(N7:N19) -> 0 | O21: =SUM(O7:O19) -> 12 | P21: =SUM(P7:P19) -> 1 | S21: 6). Kepbup. OKU No. 188/593/KPTS/2014 ttg Penetapan Penyelenggaraan PATEN
C25: 2. | D25: Ogan Komering Ilir | E25: - | F25: 1. | G25: Tanjung Lubuk | H25: 1 | I25: 0 | J25: 0 | K25: 0 | L25: 0 | M25: 0 | N25: 0 | O25: 0 | P25: 1 | R25: Izin usaha skala kecil dgn modal ≤ Rp. 30 jt, tidak termasuk tanah & bangunan, yaitu : | S25: 1). Perbup OKI No. 649 Thn 2014 tgl 15 Sept 2014 ttg Pelimpahan Sebagian Wewenang Bup kpd Camat Dalam Kab. OKI | T25: Launching secara bersama pada tgl 2 Oktober 2014 di Jakarta
F26: 2. | G26: Pedamaran | H26: 1 | I26: 0 | J26: 0 | K26: 0 | L26: 0 | M26: 0 | N26: 0 | O26: 0 | P26: 1
F27: 3. | G27: Mesuji | H27: 1 | I27: 0 | J27: 0 | K27: 0 | L27: 0 | M27: 0 | N27: 0 | O27: 0 | P27: 1 | R27: 1. Izin usaha salon
F28: 4. | G28: Kayu Agung | H28: 1 | I28: 0 | J28: 0 | K28: 0 | L28: 0 | M28: 0 | N28: 1 | O28: 0 | P28: 0 | R28: 2. Izin usaha bengkel | S28: 2). Perbup OKI No. 650 Thn 2014 tgl 15 Sept 2014 ttg Standar PATEN di Kab. OKI
F29: 5. | G29: Sitah Pulau Padang | H29: 1 | I29: 0 | J29: 0 | K29: 0 | L29: 0 | M29: 0 | N29: 0 | O29: 0 | P29: 1 | R29: 3. Izin usaha warung kopi
F30: 6. | G30: Tulung Selapan | H30: 1 | I30: 0 | J30: 0 | K30: 0 | L30: 0 | M30: 0 | N30: 0 | O30: 0 | P30: 1 | R30: 4. Izin usaha rental komputer | S30: 3). SK Bup. OKI No. 810/KEP/2014 tgl 29 Sept 2014 ttg Penetapan Kec Dalam Wil Kab. OKI Sebagai Penyelenggara PATEN
F31: 7. | G31: Pampangan | H31: 1 | I31: 0 | J31: 0 | K31: 0 | L31: 0 | M31: 0 | N31: 1 | O31: 0 | P31: 0 | R31: 5. Izin usaha rental warnet
F32: 8. | G32: Lempuing | H32: 1 | I32: 0 | J32: 0 | K32: 0 | L32: 0 | M32: 0 | N32: 1 | O32: 0 | P32: 0 | R32: 6. Izin usaha alat tulis kantor
F33: 9. | G33: Air Sugihan | H33: 1 | I33: 0 | J33: 0 | K33: 0 | L33: 0 | M33: 0 | N33: 0 | O33: 0 | P33: 1 | R33: 7. Izin usaha service elektronik
F34: 10. | G34: Sungai Menang | H34: 1 | I34: 0 | J34: 0 | K34: 0 | L34: 0 | M34: 0 | N34: 0 | O34: 0 | P34: 1 | R34: 8. Izin usaha catering
F35: 11. | G35: Jejawi | H35: 1 | I35: 0 | J35: 0 | K35: 0 | L35: 0 | M35: 0 | N35: 1 | O35: 0 | P35: 0 | R35: 9. Izin usaha penyewaan pelaminan
F36: 12. | G36: Cengai | H36: 1 | I36: 0 | J36: 0 | K36: 0 | L36: 0 | M36: 0 | N36: 0 | O36: 0 | P36: 1 | R36: 10. Izin usaha penyewaan tenda
F37: 13. | G37: Pangkalan Lampam | H37: 1 | I37: 0 | J37: 0 | K37: 0 | L37: 0 | M37: 0 | N37: 1 | O37: 0 | P37: 0 | R37: 11. Izin usaha pencucian mobil & motor
F38: 14. | G38: Mesuji Makmur | H38: 1 | I38: 0 | J38: 0 | K38: 0 | L38: 0 | M38: 0 | N38: 0 | O38: 0 | P38: 1 | R38: 12. Izin usaha penitipan kendaraan roda dua
F39: 15. | G39: Mesuji Raya | H39: 1 | I39: 0 | J39: 0 | K39: 0 | L39: 0 | M39: 0 | N39: 1 | O39: 0 | P39: 0 | R39: 13. Izin usaha konter HP
F40: 16. | G40: Lempuing Jaya | H40: 1 | I40: 0 | J40: 0 | K40: 0 | L40: 0 | M40: 0 | N40: 1 | O40: 0 | P40: 0 | R40: 14. Izin usaha rental PS
F41: 17. | G41: Teluk Gelam | H41: 1 | I41: 0 | J41: 0 | K41: 0 | L41: 0 | M41: 0 | N41: 0 | O41: 0 | P41: 1
F42: 18. | G42: Pedamaran Timur | H42: 1 | I42: 0 | J42: 0 | K42: 0 | L42: 0 | M42: 0 | N42: 0 | O42: 0 | P42: 1
H44: =SUM(H25:H42) -> 18 | I44: =SUM(I25:I42) -> 0 | J44: =SUM(J25:J42) -> 0 | K44: =SUM(K25:K42) -> 0 | L44: =SUM(L25:L42) -> 0 | M44: =SUM(M25:M42) -> 0 | N44: =SUM(N25:N42) -> 7 | O44: =SUM(O25:O42) -> 0 | P44: =SUM(P25:P42) -> 11
C47: 3. | D47: Muara Enim | E47: - | F47: 1. | G47: Tanjung Agung | H47: 1 | I47: 0 | J47: 1 | K47: 0 | L47: 0 | M47: 0 | N47: 0 | O47: 0 | P47: 0 | R47: Izin usaha dibawah 50 jt : | S47: 1). Perbup Muara Enim No. 22 Thn 2011 ttg Pelimpahan Sebagian Wewenang Bup Kpd Camat Dalam Kab. Muara Enim | T47: Uji coba PATEN di 4 Kec pada tahun 2010
F48: 2. | G48: Muara Enim | H48: 1 | I48: 0 | J48: 1 | K48: 0 | L48: 0 | M48: 0 | N48: 0 | O48: 0 | P48: 0 | R48: 1. Izin usaha salon
F49: 3. | G49: Rambang Dangku | H49: 1 | I49: 0 | J49: 0 | K49: 1 | L49: 0 | M49: 0 | N49: 0 | O49: 0 | P49: 0 | R49: 2. Izin usaha bengkel
...

Sheet 7.bengkulu
A1: DATA PATEN
A3: NO. | B3: PROVINSI | C3: NO. | D3: KAB | E3: KOTA | F3: NO. | G3: KEC | H3: PATEN | I3: BELUM PATEN | J3: TAHUN | R3: JENIS PERIZINAN YANG DILIMPAHKAN | S3: DASAR HUKUM | T3: KET
J4: 2010 | K4: 2011 | L4: 2012 | M4: 2013 | N4: 2014 | O4: 2015 | P4: 2016 | Q4: 2017
A5: 1 | B5: 2 | C5: 3 | D5: 4 | E5: 5 | F5: 6 | G5: 7 | H5: 8 | I5: 9 | J5: 10 | R5: 11 | S5: 12 | T5: 13
A7: 7. | B7: BENGKULU | C7: 1. | D7: Bengkulu Selatan | E7: - | F7: 1. | G7: Kedurang | H7: 0 | I7: 1 | J7: 0 | K7: 0 | L7: 0 | M7: 0 | N7: 0
F8: 2. | G8: Seginim | H8: 0 | I8: 1 | J8: 0 | K8: 0 | L8: 0 | M8: 0 | N8: 0
F9: 3. | G9: Pino | H9: 0 | I9: 1 | J9: 0 | K9: 0 | L9: 0 | M9: 0 | N9: 0
F10: 4. | G10: Manna | H10: 0 | I10: 1 | J10: 0 | K10: 0 | L10: 0 | M10: 0 | N10: 0
F11: 5. | G11: Kota Manna | H11: 0 | I11: 1 | J11: 0 | K11: 0 | L11: 0 | M11: 0 | N11: 0
F12: 6. | G12: Pino Raya | H12: 0 | I12: 1 | J12: 0 | K12: 0 | L12: 0 | M12: 0 | N12: 0
F13: 7. | G13: Kedurang Ilir | H13: 0 | I13: 1 | J13: 0 | K13: 0 | L13: 0 | M13: 0 | N13: 0
F14: 8. | G14: Air Nipis | H14: 0 | I14: 1 | J14: 0 | K14: 0 | L14: 0 | M14: 0 | N14: 0
F15: 9. | G15: Ulu Manna | H15: 0 | I15: 1 | J15: 0 | K15: 0 | L15: 0 | M15: 0 | N15: 0
F16: 10. | G16: Bunga Mas | H16: 0 | I16: 1 | J16: 0 | K16: 0 | L16: 0 | M16: 0 | N16: 0
F17: 11. | G17: Pasar Manna | H17: 0 | I17: 1 | J17: 0 | K17: 0 | L17: 0 | M17: 0 | N17: 0
H19: =SUM(H7:H17) -> 0 | I19: =SUM(I7:I17) -> 11 | J19: =SUM(J7:J17) -> 0 | K19: =SUM(K7:K17) -> 0 | L19: =SUM(L7:L17) -> 0 | M19: =SUM(M7:M17) -> 0 | N19: =SUM(N7:N17) -> 0 | O19: =SUM(O7:O17) -> 0
C22: 2. | D22: Rejang Lebong | E22: - | F22: 1. | G22: Kota Padang | H22: 0 | I22: 1 | J22: 0 | K22: 0 | L22: 0 | M22: 0 | N22: 0
F23: 2. | G23: Padang Ukak Tanding | H23: 0 | I23: 1 | J23: 0 | K23: 0 | L23: 0 | M23: 0 | N23: 0
F24: 3. | G24: Sindang Kelingi | H24: 0 | I24: 1 | J24: 0 | K24: 0 | L24: 0 | M24: 0 | N24: 0
F25: 4. | G25: Curup | H25: 0 | I25: 1 | J25: 0 | K25: 0 | L25: 0 | M25: 0 | N25: 0
F26: 5. | G26: Bermani Ulu | H26: 0 | I26: 1 | J26: 0 | K26: 0 | L26: 0 | M26: 0 | N26: 0
F27: 6. | G27: Selupu Rejang | H27: 0 | I27: 1 | J27: 0 | K27: 0 | L27: 0 | M27: 0 | N27: 0
F28: 7. | G28: Curup Utara | H28: 0 | I28: 1 | J28: 0 | K28: 0 | L28: 0 | M28: 0 | N28: 0
F29: 8. | G29: Curup Timur | H29: 0 | I29: 1 | J29: 0 | K29: 0 | L29: 0 | M29: 0 | N29: 0
F30: 9. | G30: Curup Selatan | H30: 0 | I30: 1 | J30: 0 | K30: 0 | L30: 0 | M30: 0 | N30: 0
F31: 10. | G31: Curup Tengah | H31: 0 | I31: 1 | J31: 0 | K31: 0 | L31: 0 | M31: 0 | N31: 0
F32: 11. | G32: Binduriang | H32: 0 | I32: 1 | J32: 0 | K32: 0 | L32: 0 | M32: 0 | N32: 0
F33: 12. | G33: Sindang Beliti Ulu | H33: 0 | I33: 1 | J33: 0 | K33: 0 | L33: 0 | M33: 0 | N33: 0
F34: 13. | G34: Sindang Dataran | H34: 0 | I34: 1 | J34: 0 | K34: 0 | L34: 0 | M34: 0 | N34: 0
... F36: 15. | G36: Bermani Ulu Raya | H36: 0 | I36: 1 | J36: 0 | K36: 0 | L36: 0 | M36: 0 | N36: 0
H38: =SUM(H22:H36) -> 0 | I38: =SUM(I22:I36) -> 15 | J38: =SUM(J22:J36) -> 0 | K38: =SUM(K22:K36) -> 0 | L38: =SUM(L22:L36) -> 0 | M38: =SUM(M22:M36) -> 0 | N38: =SUM(N22:N36) -> 0 | O38: =SUM(O22:O36) -> 0
C41: 3. | D41: Bengkulu Utara | E41: - | F41: 1. | G41: Enggano | H41: 1 | I41: 0 | J41: 0 | K41: 0 | L41: 0 | M41: 0 | N41: 0 | P41: 1
F42: 2. | G42: Kerkap | H42: 1 | I42: 0 | J42: 0 | K42: 0 | L42: 0 | M42: 0 | N42: 0 | P42: 1
F43: 3. | G43: Arga Makmur | H43: 1 | I43: 0 | J43: 0 | K43: 0 | L43: 0 | M43: 0 | N43: 0 | P43: 1
F44: 4. | G44: Giri Mulya | H44: 1 | I44: 0 | J44: 0 | K44: 0 | L44: 0 | M44: 0 | N44: 0 | P44: 1
F45: 5. | G45: Padang Jaya | H45: 1 | I45: 0 | J45: 0 | K45: 0 | L45: 0 | M45: 0 | N45: 0 | P45: 1
F46: 6. | G46: Lais | H46: 1 | I46: 0 | J46: 0 | K46: 0 | L46: 0 | M46: 0 | N46: 0 | P46: 1
F47: 7. | G47: Batik Nau | H47: 1 | I47: 0 | J47: 0 | K47: 0 | L47: 0 | M47: 0 | N47: 0 | P47: 1
F48: 8. | G48: Ketahun | H48: 1 | I48: 0 | J48: 0 | K48: 0 | L48: 0 | M48: 0 | N48: 0 | P48: 1
F49: 9. | G49: Napal Putih | H49: 1 | I49: 0 | J49: 0 | K49: 0 | L49: 0 | M49: 0 | N49: 0 | P49: 1
...

Sheet 8.lampung
A1: DATA PATEN
A3: NO. | B3: PROVINSI | C3: NO. | D3: KAB | E3: KOTA | F3: NO. | G3: KEC | H3: PATEN | I3: BELUM PATEN | J3: TAHUN | R3: JENIS PERIZINAN YANG DILIMPAHKAN | S3: DASAR HUKUM | T3: KET
J4: 2010 | K4: 2011 | L4: 2012 | M4: 2013 | N4: 2014 | O4: 2015 | P4: 2016 | Q4: 2017
A5: 1 | B5: 2 | C5: 3 | D5: 4 | E5: 5 | F5: 6 | G5: 7 | H5: 8 | I5: 9 | J5: 10 | R5: 11 | S5: 12 | T5: 13
A7: 8. | B7: LAMPUNG | C7: 1. | D7: Lampung Selatan | E7: - | F7: 1. | G7: Natar | H7: 1 | I7: 0 | J7: 0 | K7: 0 | L7: 0 | M7: 0 | N7: 0 | O7: 0 | R7: 1. IMB Rumha tempat tinggal bangunan tidak bertingkat luas , 100m2 | S7: 1). SK Bup. Lampung Selatan No. B/596/I.01/HK/2013 tgl 29 Agt 2013 ttg Pembentukan Tim Teknis PATEN Kab. Lampung Selatan Thn 2013
F8: 2. | G8: Tanjung Bintang | H8: 1 | I8: 0 | J8: 0 | K8: 0 | L8: 0 | M8: 0 | N8: 0 | O8: 0 | P8: 1
F9: 3. | G9: Kalianda | H9: 1 | I9: 0 | J9: 0 | K9: 0 | L9: 0 | M9: 0 | N9: 0 | O9: 0 | P9: 1 | R9: 2. IMB usaha kecil ukuran < 20m2
F10: 4. | G10: Sidomulyo | H10: 1 | I10: 0 | J10: 0 | K10: 0 | L10: 0 | M10: 0 | N10: 0 | O10: 0 | P10: 1 | R10: 3. Izin gangguan perusahaan usaha perseorangan bukan berbentuk badan hukum (PT atau CV) luas usaha <36 m2 dgn tenaga kerja < 5 org
F11: 5. | G11: Katibung | H11: 1 | I11: 0 | J11: 0 | K11: 0 | L11: 0 | M11: 0 | N11: 0 | O11: 0 | P11: 1 | S11: 2). SK Bup. Lampung Selatan No. B/645/I.01/HK/2013 tgl 6 Nov 2013 ttg Penetapan Kec Natar Sbg Pilot Project PATEN Kab. Lampung Selatan Thn 2013
F12: 6. | G12: Penengahan | H12: 1 | I12: 0 | J12: 0 | K12: 0 | L12: 0 | M12: 0 | N12: 0 | O12: 0 | P12: 1
F13: 7. | G13: Palas | H13: 1 | I13: 0 | J13: 0 | K13: 0 | L13: 0 | M13: 0 | N13: 0 | O13: 0 | P13: 1
F14: 8. | G14: Jati Agung | H14: 1 | I14: 0 | J14: 0 | K14: 0 | L14: 0 | M14: 0 | N14: 0 | O14: 0 | P14: 1 | R14: 4. SIUP berbentuk perseorangan tidak berbadan hukum
F15: 9. | G15: Ketapang | H15: 1 | I15: 0 | J15: 0 | K15: 0 | L15: 0 | M15: 0 | N15: 0 | O15: 0 | P15: 1
F16: 10. | G16: Sragi | H16: 1 | I16: 0 | J16: 0 | K16: 0 | L16: 0 | M16: 0 | N16: 0 | O16: 0 | P16: 1 | R16: 5. Pemberian izin usaha berbentuk perseorangan TDP tidak berbadan hukum dgn modal kekayaan < 50jt diluar bangunan & tanah, pekerja dari anggota keluarga | S16: Perbup Lampung Selatan Nomor : 47 Tahun 2013 tentang Pelimpahan sebagian kewenangan Bupati kepada Camat untuk melaksanakan urusan pemerintahan daerah kabupaten lampung selatan
F17: 11. | G17: Raja Basa | H17: 1 | I17: 0 | J17: 0 | K17: 0 | L17: 0 | M17: 0 | N17: 0 | O17: 0 | P17: 1
F18: 12. | G18: Candipuro | H18: 1 | I18: 0 | J18: 0 | K18: 0 | L18: 0 | M18: 0 | N18: 0 | O18: 0 | P18: 1
F19: 13. | G19: Merbau Mataram | H19: 1 | I19: 0 | J19: 0 | K19: 0 | L19: 0 | M19: 0 | N19: 0 | O19: 0 | P19: 1
F20: 14. | G20: Bakauheni | H20: 1 | I20: 0 | J20: 0 | K20: 0 | L20: 0 | M20: 0 | N20: 0 | O20: 0 | P20: 1 | R20: 6. Pemberian izin usaha merk (HO) berbentuk perseorangan tidak berbadan hukum
F21: 15. | G21: Tanjung Sari | H21: 1 | I21: 0 | J21: 0 | K21: 0 | L21: 0 | M21: 0 | N21: 0 | O21: 0 | P21: 1
F22: 16. | G22: Way Sulan | H22: 1 | I22: 0 | J22: 0 | K22: 0 | L22: 0 | M22: 0 | N22: 0 | O22: 0 | P22: 1 | R22: 7. Pemberian izin usaha untuk intensitas keci, home industri/pengrajin (TDI)
F23: 17. | G23: Way Panji | H23: 1 | I23: 0 | J23: 0 | K23: 0 | L23: 0 | M23: 0 | N23: 0 | O23: 0 | P23: 1
R24: 8. Pemberian izin usaha gerabatan/klontongan
H25: =SUM(H7:H23) -> 17 | I25: =SUM(I7:I23) -> 0 | J25: =SUM(J7:J23) -> 0 | K25: =SUM(K7:K23) -> 0 | L25: =SUM(L7:L23) -> 0 | M25: =SUM(M7:M23) -> 0 | N25: =SUM(N7:N23) -> 0 | O25: =SUM(O7:O23) -> 0 | P25: =SUM(P7:P23) -> 16 | R25: 9. Pemberian izin usaha hasil bumi dengan luas bangunan < 36m2
C29: 2. | D29: Lampung Tengah | F29: 1. | G29: Kalirejo | H29: 0 | I29: 1 | J29: 0 | K29: 0 | L29: 0 | M29: 0 | N29: 0 | S29: Perbup Lampung Tengah Nomor 11.A Tahun 2013 tentang Pelimpahan Sebagian Kewenangan Pemerintahan Dari Bupati Kepada Camat
F30: 2. | G30: Bangun Rejo | H30: 0 | I30: 1 | J30: 0 | K30: 0 | L30: 0 | M30: 0 | N30: 0
F31: 3. | G31: Padang Ratu | H31: 0 | I31: 1 | J31: 0 | K31: 0 | L31: 0 | M31: 0 | N31: 0
F32: 4. | G32: Gunung Sugih | H32: 0 | I32: 1 | J32: 0 | K32: 0 | L32: 0 | M32: 0 | N32: 0
F33: 5. | G33: Trimurjo | H33: 0 | I33: 1 | J33: 0 | K33: 0 | L33: 0 | M33: 0 | N33: 0
F34: 6. | G34: Punggur | H34: 0 | I34: 1 | J34: 0 | K34: 0 | L34: 0 | M34: 0 | N34: 0
F35: 7. | G35: Terbanggi Besar | H35: 0 | I35: 1 | J35: 0 | K35: 0 | L35: 0 | M35: 0 | N35: 0
F36: 8. | G36: Seputih Raman | H36: 0 | I36: 1 | J36: 0 | K36: 0 | L36: 0 | M36: 0 | N36: 0
F37: 9. | G37: Rumbia | H37: 0 | I37: 1 | J37: 0 | K37: 0 | L37: 0 | M37: 0 | N37: 0
F38: 10. | G38: Seputih Banyak | H38: 0 | I38: 1 | J38: 0 | K38: 0 | L38: 0 | M38: 0 | N38: 0
F39: 11. | G39: Seputih Mataram | H39: 0 | I39: 1 | J39: 0 | K39: 0 | L39: 0 | M39: 0 | N39: 0
F40: 12. | G40: Seputih Surabaya | H40: 0 | I40: 1 | J40: 0 | K40: 0 | L40: 0 | M40: 0 | N40: 0
F41: 13. | G41: Terusan Nunyai | H41: 0 | I41: 1 | J41: 0 | K41: 0 | L41: 0 | M41: 0 | N41: 0
... F56: 28. | G56: Putra Rumbia | H56: 0 | I56: 1 | J56: 0 | K56: 0 | L56: 0 | M56: 0 | N56: 0
H58: =SUM(H29:H56) -> 0 | I58: =SUM(I29:I56) -> 28 | J58: =SUM(J29:J56) -> 0 | K58: =SUM(K29:K56) -> 0 | L58: =SUM(L29:L56) -> 0 | M58: =SUM(M29:M56) -> 0 | N58: =SUM(N29:N56) -> 0 | O58: =SUM(O29:O56) -> 0 | P58: =SUM(P29:P56) -> 0
C61: 3. | D61: Lampung Utara | F61: 1. | G61: Bukit Kemuning | H61: 0 | I61: 1 | J61: 0 | K61: 0 | L61: 0 | M61: 0 | N61: 0
F62: 2. | G62: Kotabumi | H62: 0 | I62: 1 | J62: 0 | K62: 0 | L62: 0 | M62: 0 | N62: 0
...

Sheet 9.kep.babel
A1: DATA PATEN
A3: NO. | B3: PROVINSI | C3: NO. | D3: KAB | E3: KOTA | F3: NO. | G3: KEC | H3: PATEN | I3: BELUM PATEN | J3: TAHUN | R3: JENIS PERIZINAN YANG DILIMPAHKAN | S3: DASAR HUKUM | T3: KET
J4: 2010 | K4: 2011 | L4: 2012 | M4: 2013 | N4: 2014 | O4: 2015 | P4: 2016 | Q4: 2017
A5: 1 | B5: 2 | C5: 3 | D5: 4 | E5: 5 | F5: 6 | G5: 7 | H5: 8 | I5: 9 | J5: 10 | R5: 11 | S5: 12 | T5: 13
A7: 9. | B7: KEP. BABEL | C7: 1. | D7: Bangka | E7: - | F7: 1. | G7: Sungailiat | H7: 1 | I7: 0 | J7: 0 | K7: 0 | L7: 0 | M7: 0 | N7: 0 | O7: 1 | P7: 0 | R7: 1. Izin pertunjukan/hiburan 8 jenis | S7: 1). SK Bup. Bangka No. 188.45/563.4/I/2013 tgl 27 Sept 2013 ttg Penetapan Tim Teknis Pembentukan PATEN
F8: 2. | G8: Belinyu | H8: 1 | I8: 0 | J8: 0 | K8: 0 | L8: 0 | M8: 0 | N8: 0 | O8: 1 | P8: 0 | R8: 2. TDP & tanda daftar industri skala kecil
F9: 3. | G9: Merawang | H9: 1 | I9: 0 | J9: 0 | K9: 0 | L9: 0 | M9: 0 | N9: 0 | O9: 1 | P9: 0 | R9: 3. IUK salon kecantikan skala kecil
F10: 4. | G10: Mendo Barat | H10: 1 | I10: 0 | J10: 0 | K10: 0 | L10: 0 | M10: 0 | N10: 0 | O10: 1 | P10: 0 | R10: 4. IMB (permanen kelas B, permanen 1/2 bata pilar & semi permanen) s.d 150m2 | S10: 2). Perbup Bangka No. 25 Thn 2013 tgl 4 Nov 2013 ttg Pendelegasian Sebagian Wewenang Bup Kpd Kec Sebagai Penyelenggara PATEN di Kab. Bangka
F11: 5. | G11: Pemali | H11: 1 | I11: 0 | J11: 0 | K11: 0 | L11: 0 | M11: 0 | N11: 0 | O11: 1 | P11: 0
F12: 6. | G12: Bakam | H12: 1 | I12: 0 | J12: 0 | K12: 0 | L12: 0 | M12: 0 | N12: 0 | O12: 1 | P12: 0 | R12: 5. Izin rumah makan/warung skala kecil
F13: 7. | G13: Riau Silip | H13: 1 | I13: 0 | J13: 0 | K13: 0 | L13: 0 | M13: 0 | N13: 0 | O13: 1 | P13: 0 | R13: 6. Izin temapt usaha pedagang kaki lima
F14: 8. | G14: Puding Besar | H14: 1 | I14: 0 | J14: 0 | K14: 0 | L14: 0 | M14: 0 | N14: 0 | O14: 1 | P14: 0 | R14: 7. Izin gangguan kegiatan usaha jasa seperti : bengkel kendaraan bermotor, bengkel bubut skala kecil | S14: 3). Perbup Bangka No. 26 Thn 2013 tgl 4 Nov 2013 ttg Standar PATEN di Kab. Bangka
H16: =SUM(H7:H14) -> 8 | I16: =SUM(I7:I14) -> 0 | J16: =SUM(J7:J14) -> 0 | K16: =SUM(K7:K14) -> 0 | L16: =SUM(L7:L14) -> 0 | M16: =SUM(M7:M14) -> 0 | N16: =SUM(N7:N14) -> 0 | O16: =SUM(O7:O14) -> 8 | P16: =SUM(P7:P14) -> 0 | S16: 4). SK Bup. Bangka No. 188.45/595/I/2013 tgl 25 Okt 2013 ttg Penetapan Kec Sebagai Penyelenggara PATEN
R17: 8. Izin membuka tanah s.d 20.000m2 (untuk orang perorangan)
R19: 9. Izin SITU & SIUP 24 jenis
R20: Izin yang dilimpahkan 43 jenis
C23: 2. | D23: Belitung | E23: - | F23: 1. | G23: Tanjung Pandan | H23: 0 | I23: 1 | J23: 0 | K23: 0 | L23: 0 | M23: 0 | N23: 0 | O23: 0 | P23: 0
F24: 2. | G24: Membalong | H24: 0 | I24: 1 | J24: 0 | K24: 0 | L24: 0 | M24: 0 | N24: 0 | O24: 0 | P24: 0
F25: 3. | G25: Selat Nasik | H25: 0 | I25: 1 | J25: 0 | K25: 0 | L25: 0 | M25: 0 | N25: 0 | O25: 0 | P25: 0
F26: 4. | G26: Sijuk | H26: 0 | I26: 1 | J26: 0 | K26: 0 | L26: 0 | M26: 0 | N26: 0 | O26: 0 | P26: 0
F27: 5. | G27: Badau | H27: 0 | I27: 1 | J27: 0 | K27: 0 | L27: 0 | M27: 0 | N27: 0 | O27: 0 | P27: 0
H29: =SUM(H23:H27) -> 0 | I29: =SUM(I23:I27) -> 5 | J29: =SUM(J23:J27) -> 0 | K29: =SUM(K23:K27) -> 0 | L29: =SUM(L23:L27) -> 0 | M29: =SUM(M23:M27) -> 0 | N29: =SUM(N23:N27) -> 0 | O29: =SUM(O23:O27) -> 0
C32: 3. | D32: Bangka Selatan | E32: - | F32: 1. | G32: Toboali | H32: 1 | I32: 0 | J32: 0 | K32: 0 | L32: 0 | M32: 0 | N32: 1 | O32: =-O32 -> 0 | T32: Launching secara bersama pada tgl 2 Oktober 2014 di Jakarta
F33: 2. | G33: Lepar Pongok | H33: 0 | I33: 1 | J33: 0 | K33: 0 | L33: 0 | M33: 0 | N33: 0 | O33: 0
F34: 3. | G34: Air Gegas | H34: 1 | I34: 0 | J34: 0 | K34: 0 | L34: 0 | M34: 0 | N34: 1 | O34: 0
F35: 4. | G35: Simpang Rimba | H35: 0 | I35: 1 | J35: 0 | K35: 0 | L35: 0 | M35: 0 | N35: 0 | T35: Belum ada berkas
F36: 5. | G36: Payung | H36: 0 | I36: 1 | J36: 0 | K36: 0 | L36: 0 | M36: 0 | N36: 0
F37: 6. | G37: Tukak Sadai | H37: 0 | I37: 1 | J37: 0 | K37: 0 | L37: 0 | M37: 0 | N37: 0
F38: 7. | G38: Pulaubesar | H38: 0 | I38: 1 | J38: 0 | K38: 0 | L38: 0 | M38: 0 | N38: 0
F39: 8. | G39: Kepulauan Pongok | H39: 0 | I39: 1 | J39: 0 | K39: 0 | L39: 0 | M39: 0 | N39: 0
H41: =SUM(H32:H39) -> 2 | I41: =SUM(I32:I39) -> 6 | J41: =SUM(J32:J39) -> 0 | K41: =SUM(K32:K39) -> 0 | L41: =SUM(L32:L39) -> 0 | M41: =SUM(M32:M39) -> 0 | N41: =SUM(N32:N39) -> 2 | O41: =SUM(O32:O39) -> 2
C44: 4. | D44: Bangka Tengah | E44: - | F44: 1. | G44: Koba | H44: 1 | I44: 0 | J44: 0 | K44: 0 | L44: 0 | M44: 0 | N44: 1 | O44: 1 | S44: Perbup Bangka Tengah Nomor 38 Tahun 2015 tentang Perubahan atas Perbup Nomor 29 Tahun 2012 tentang Pelimpahan sebagian kewenangan bupati kepada camat | T44: Launching secara bersama pada tgl 2 Oktober 2014 di Jakarta
F45: 2. | G45: Pangkalan Baru | H45: 1 | I45: 0 | J45: 0 | K45: 0 | L45: 0 | M45: 0 | N45: 1 | O45: 1
F46: 3. | G46: Sungai Selan | H46: 1 | I46: 0 | J46: 0 | K46: 0 | L46: 0 | M46: 0 | N46: 1 | O46: 1
F47: 4. | G47: Simpang Katis | H47: 1 | I47: 0 | J47: 0 | K47: 0 | L47: 0 | M47: 0 | N47: 1 | O47: 1 | T47: Belum ada berkas
F48: 5. | G48: Namang | H48: 1 | I48: 0 | J48: 0 | K48: 0 | L48: 0 | M48: 0 | N48: 1 | O48: 1
F49: 6. | G49: Lubuk Besar | H49: 1 | I49: 0 | J49: 0 | K49: 0 | L49: 0 | M49: 0 | N49: 1 | O49: 1
H51: =SUM(H44:H49) -> 6 | I51: =SUM(I44:I49) -> 0 | J51: =SUM(J44:J49) -> 0 | K51: =SUM(K44:K49) -> 0 | L51: =SUM(L44:L49) -> 0 | M51: =SUM(M44:M49) -> 0 | N51: =SUM(N44:N49) -> 6 | O51: =SUM(O44:O49) -> 6
C54: 5. | D54: Bangka Barat | E54: - | F54: 1. | G54: Mentok | H54: 1 | I54: 0 | J54: 0 | K54: 0 | L54: 0 | M54: 0 | N54: 1 | O54: 0 | P54: 0 | R54: 1. Izin gangguan 7 jenis | S54: 1). Perbup Bangka Barat No. 25 Thn 2014 tgl 6 Agt 2014 ttg Pelimpahan Kewenangan Bup kpd Camat
F55: 2. | G55: Simpang Teritis | H55: 1 | I55: 0 | J55: 0 | K55: 0 | L55: 0 | M55: 0 | N55: 1 | O55: 0 | P55: 0 | R55: 2. Izin usaha perikanan 4 jenis
...

Sheet 10.kepri
A1: DATA PATEN
A3: NO. | B3: PROVINSI | C3: NO. | D3: KAB | E3: KOTA | F3: NO. | G3: KEC | H3: PATEN | I3: BELUM PATEN | J3: TAHUN | R3: JENIS PERIZINAN YANG DILIMPAHKAN | S3: DASAR HUKUM | T3: KET
J4: 2010 | K4: 2011 | L4: 2012 | M4: 2013 | N4: 2014 | O4: 2015 | P4: 2016 | Q4: 2017
A5: 1 | B5: 2 | C5: 3 | D5: 4 | E5: 5 | F5: 6 | G5: 7 | H5: 8 | I5: 9 | J5: 10 | R5: 11 | S5: 12 | T5: 13
A7: 10. | B7: KEPRI | C7: 1. | D7: Bintan | E7: - | F7: 1. | G7: Gunung Kijang | H7: 1 | I7: 0 | J7: 0 | K7: 0 | L7: 0 | M7: 1 | N7: 0 | O7: 1 | P7: 0 | R7: 1. IMB tidak bertingkat dgn luas bangunan maks 500m2 | S7: 1). Perbup. Bintan No. 8 Thh 2009 tgl 14 Jan 2009 ttg Pelimpahan Sebagian Kewenangan Pemkab. Bintan kpd Camat
F8: 2. | G8: Bintan Timur | H8: 1 | I8: 0 | J8: 0 | K8: 0 | L8: 0 | M8: 1 | N8: 0 | O8: 1 | P8: 0
F9: 3. | G9: Bintan Utara | H9: 1 | I9: 0 | J9: 0 | K9: 0 | L9: 0 | M9: 1 | N9: 0 | O9: 1 | P9: 0 | R9: 2. SITU yg tidak berbadan hukum
F10: 4. | G10: Teluk Bintan | H10: 1 | I10: 0 | J10: 0 | K10: 0 | L10: 0 | M10: 1 | N10: 0 | O10: 1 | P10: 0 | R10: 3. Izin penggunaan jalan selain untuk kepentingan lalu lintas lokal | S10: 2). SK Bup Bintan No.215/IV/2013 tgl 11 April 2013 ttg Pembentukan Tim Teknis PATEN di Kab. Bintan
F11: 5. | G11: Tambelan | H11: 1 | I11: 0 | J11: 0 | K11: 0 | L11: 0 | M11: 1 | N11: 0 | O11: 1 | P11: 0
F12: 6. | G12: Telok Sebong | H12: 1 | I12: 0 | J12: 0 | K12: 0 | L12: 0 | M12: 1 | N12: 0 | O12: 1 | P12: 0
F13: 7. | G13: Topaya | H13: 1 | I13: 0 | J13: 0 | K13: 0 | L13: 0 | M13: 1 | N13: 0 | O13: 1 | P13: 0 | S13: 3). SK Bup Bintan No.355/VII/2013 tgl 2 Juli 2013 ttg Penetapan Kec Sebagai Penyelenggara PATEN
F14: 8. | G14: Mantang | H14: 1 | I14: 0 | J14: 0 | K14: 0 | L14: 0 | M14: 1 | N14: 0 | O14: 1 | P14: 0
F15: 9. | G15: Bintan Pesisir | H15: 1 | I15: 0 | J15: 0 | K15: 0 | L15: 0 | M15: 1 | N15: 0 | O15: 1 | P15: 0
F16: 10. | G16: Seri Kuala Lobam | H16: 1 | I16: 0 | J16: 0 | K16: 0 | L16: 0 | M16: 1 | N16: 0 | O16: 1 | P16: 0 | S16: 4). SK Bup Bintan No.356/VII/2013 tgl 2 Juli 2013 ttg Standar Pelayanan di Kec
H18: =SUM(H7:H16) -> 10 | I18: =SUM(I7:I16) -> 0 | J18: =SUM(J7:J16) -> 0 | K18: =SUM(K7:K16) -> 0 | L18: =SUM(L7:L16) -> 0 | M18: =SUM(M7:M16) -> 10 | N18: =SUM(N7:N16) -> 0 | O18: =SUM(O7:O16) -> 10 | P18: =SUM(P7:P16) -> 0 | S18: 5). SK Bup Bintan No.357/VII/2013 tgl 2 Juli 2013 ttg Penetapan Kode Etik Penyelenggara PATEN di Kab. Bintan
S21: 6) Perbup Bintan Nomor 7 tahun 2016 tentang Perub atas perbup nomor 8 tahun 2009 tentang pelimpahan sebagian wewenang pemkab kepada camat
C23: 2. | D23: Karimun | F23: 1. | G23: Moro | H23: 1 | I23: 0 | J23: 0 | K23: 0 | L23: 0 | M23: 0 | N23: 1 | O23: 1 | P23: 0 | R23: 1. IMB rumah tempat tinggal 1 lantai dg luas bangunan < 200m2 | S23: 1). SK Bup. Karimun No. 208. D Thn 2013 tgl 22 Okt 2013 ttg Pembentukan Tim Teknis PATEN di Kab. Karimun
F24: 2. | G24: Kundor | H24: 1 | I24: 0 | J24: 0 | K24: 0 | L24: 0 | M24: 0 | N24: 1 | O24: 1 | P24: 0
F25: 3. | G25: Karimun | H25: 1 | I25: 0 | J25: 0 | K25: 0 | L25: 0 | M25: 0 | N25: 1 | O25: 1 | P25: 0 | R25: 2. IMB kantor swasta 1 lantai dg luas bangunan < 200m2
F26: 4. | G26: Meral | H26: 1 | I26: 0 | J26: 0 | K26: 0 | L26: 0 | M26: 0 | N26: 1 | O26: 1 | P26: 0 | S26: 2). Perbup. Karimun No. 17 Thn 2013 tgl 2 Des 2013 ttg Pelimpahan Sebagian Kewenangan Bup kpd Camat Untuk Melaksanakan Urusan Pemerintahan Daerah di Kab. Karimun
F27: 5. | G27: Tebing | H27: 1 | I27: 0 | J27: 0 | K27: 0 | L27: 0 | M27: 0 | N27: 1 | O27: 1 | P27: 0 | R27: 3. IMB pergudangan/pertokoan 1 lantai dg luas bangunan < 200m2
F28: 6. | G28: Buru | H28: 1 | I28: 0 | J28: 0 | K28: 0 | L28: 0 | M28: 0 | N28: 1 | O28: 1 | P28: 0
F29: 7. | G29: Kundor Utara | H29: 1 | I29: 0 | J29: 0 | K29: 0 | L29: 0 | M29: 0 | N29: 1 | O29: 1 | P29: 0 | R29: 4. SITU perorangan yg tidak berbadan hukum, seperti kedai, toko, usaha ekonomi masyarakat
F30: 8. | G30: Kundor Barat | H30: 1 | I30: 0 | J30: 0 | K30: 0 | L30: 0 | M30: 0 | N30: 1 | O30: 1 | P30: 0 | S30: 3). Perbup. Karimun No. 18 Thn 2013 tgl 2 Des 2013 ttg Pedoman PATEN di Kab. Karimun
F31: 9. | G31: Durai | H31: 1 | I31: 0 | J31: 0 | K31: 0 | L31: 0 | M31: 0 | N31: 1 | O31: 1 | P31: 0
F32: 10. | G32: Merai Barat | H32: 1 | I32: 0 | J32: 0 | K32: 0 | L32: 0 | M32: 0 | N32: 1 | O32: 1 | P32: 0 | S32: 4). SK Bup. Karimun No. 207. B Thn 2013 tgl 6 Des 2013 ttg Penetapan Kec sbg Penyelenggara PATEN se- Kab. Karimun
F33: 11. | G33: Ungar | H33: 1 | I33: 0 | J33: 0 | K33: 0 | L33: 0 | M33: 0 | N33: 1 | O33: 1 | P33: 0
F34: 12. | G34: Belat | H34: 1 | I34: 0 | J34: 0 | K34: 0 | L34: 0 | M34: 0 | N34: 1 | O34: 1 | P34: 0
H36: =SUM(H23:H34) -> 12 | I36: =SUM(I23:I34) -> 0 | J36: =SUM(J23:J34) -> 0 | K36: =SUM(K23:K34) -> 0 | L36: =SUM(L23:L34) -> 0 | M36: =SUM(M23:M34) -> 0 | N36: =SUM(N23:N34) -> 12 | O36: =SUM(O23:O34) -> 12 | P36: =SUM(P23:P34) -> 0
C39: 3. | D39: Natuna | F39: 1. | G39: Midai | H39: 1 | I39: 0 | J39: 0 | K39: 0 | L39: 0 | M39: 0 | N39: 0 | O39: 1 | P39: 0 | R39: 1. SITU non badan hukum dgn luas bangunan maks 50m2 | S39: 1). SK Bup. Natuna No. 119 Thn 2013 tgl 1 Mei 2013 ttg Pembentukan Tim Teknis PATEN Kab. Natuna
F40: 2. | G40: Bunguran Barat | H40: 1 | I40: 0 | J40: 0 | K40: 0 | L40: 0 | M40: 0 | N40: 0 | O40: 1 | P40: 0
F41: 3. | G41: Serasan | H41: 1 | I41: 0 | J41: 0 | K41: 0 | L41: 0 | M41: 0 | N41: 0 | O41: 1 | P41: 0 | R41: 2. Izin bengkel umum kendaraan bermotor yg non badan hukum
F42: 4. | G42: Bunguran Timur | H42: 1 | I42: 0 | J42: 0 | K42: 0 | L42: 0 | M42: 0 | N42: 0 | O42: 1 | P42: 0 | S42: 2). Perbup. Natuna No. 48 Thn 2013 tgl 5 Des 2013 ttg Pelimpahan Sebagian Kewenangan Bup kpd Camat Untuk Melaksanakann Urusan Pemerintahan
F43: 5. | G43: Bunguran Utara | H43: 1 | I43: 0 | J43: 0 | K43: 0 | L43: 0 | M43: 0 | N43: 0 | O43: 1 | P43: 0 | R43: 3. TDP pariwisata skala kecil
F44: 6. | G44: Subi | H44: 1 | I44: 0 | J44: 0 | K44: 0 | L44: 0 | M44: 0 | N44: 0 | O44: 1 | P44: 0 | R44: 4. Izin optikal
F45: 7. | G45: Pulau Laut | H45: 1 | I45: 0 | J45: 0 | K45: 0 | L45: 0 | M45: 0 | N45: 0 | O45: 1 | P45: 0 | R45: 5. Izin balai pengobatan
F46: 8. | G46: Pulau Tiga | H46: 1 | I46: 0 | J46: 0 | K46: 0 | L46: 0 | M46: 0 | N46: 0 | O46: 1 | P46: 0 | R46: 6. Surat izin pangkalan (SIP BB< bensin, solar & minyak tanah) | S46: 3). Perbup. Natuna No. 49 Thn 2013 tgl 5 Des 2013 ttg Standar Pelayanan Perizinan & Non Perizinan Pada Kec se- Kab. Natuna
F47: 9. | G47: Bunguran Timur Laut | H47: 1 | I47: 0 | J47: 0 | K47: 0 | L47: 0 | M47: 0 | N47: 0 | O47: 1 | P47: 0
F48: 10. | G48: Bunguran Tengah | H48: 1 | I48: 0 | J48: 0 | K48: 0 | L48: 0 | M48: 0 | N48: 0 | O48: 1 | P48: 0 | R48: 7. Izin keramaian yg tidak mengarah pada PEKAT
F49: 11. | G49: Bunguran Selatan | H49: 1 | I49: 0 | J49: 0 | K49: 0 | L49: 0 | M49: 0 | N49: 0 | O49: 1 | P49: 0 | S49: 4). SK Bup. Natuna No. 80 Thn 2014 tgl 5 Maret 2014 ttg Penetapan Kec Sebagai Penyelenggara PATEN se - Kab. Natuna
...

Sheet 11.dki jkt
A1: DATA PATEN
A3: NO. | B3: PROVINSI | C3: NO. | D3: KAB | E3: KOTA | F3: NO. | G3: KEC | H3: PATEN | I3: BELUM PATEN | J3: TAHUN | Q3: JENIS PERIZINAN YANG DILIMPAHKAN | R3: DASAR HUKUM | S3: KET
J4: 2010 | K4: 2011 | L4: 2012 | M4: 2013 | N4: 2014 | O4: 2015 | P4: 2016
A5: 1 | B5: 2 | C5: 3 | D5: 4 | E5: 5 | F5: 6 | G5: 7 | H5: 8 | I5: 9 | J5: 10 | Q5: 11 | R5: 12 | S5: 13
A7: 11. | B7: DKI JAKARTA | C7: 1. | D7: Adm Kep. Seribu | E7: - | F7: 1. | G7: Kep. Seribu Utara | H7: 0 | I7: 1 | J7: 0 | K7: 0 | L7: 0 | M7: 0 | N7: 0
F8: 2. | G8: Kep. Seribu Selatan | H8: 0 | I8: 1 | J8: 0 | K8: 0 | L8: 0 | M8: 0 | N8: 0
H10: =SUM(H7:H8) -> 0 | I10: =SUM(I7:I8) -> 2 | J10: =SUM(J7:J8) -> 0 | K10: =SUM(K7:K8) -> 0 | L10: =SUM(L7:L8) -> 0 | M10: =SUM(M7:M8) -> 0 | N10: =SUM(N7:N8) -> 0 | O10: =SUM(O7:O8) -> 0
C13: 2. | D13: - | E13: Adm Jakarta Pusat | F13: 1. | G13: Gambir | H13: 0 | I13: 1 | J13: 0 | K13: 0 | L13: 0 | M13: 0 | N13: 0 | Q13: Ada 22 jenis perizinan | R13: Pergub DKI Jakarta No. 117 Thn 2013 tgl 10 Okt 2013 ttg Penyelenggaraan PATEN
F14: 2. | G14: Sawah Besar | H14: 1 | I14: 0 | J14: 0 | K14: 0 | L14: 0 | M14: 1 | N14: 0 | O14: 0
F15: 3. | G15: Kemayoran | H15: 0 | I15: 1 | J15: 0 | K15: 0 | L15: 0 | M15: 0 | N15: 0
F16: 4. | G16: Senen | H16: 1 | I16: 0 | J16: 0 | K16: 0 | L16: 0 | M16: 1 | N16: 0 | O16: 0
F17: 5. | G17: Cempaka Putih | H17: 0 | I17: 1 | J17: 0 | K17: 0 | L17: 0 | M17: 0 | N17: 0
F18: 6. | G18: Menteng | H18: 0 | I18: 1 | J18: 0 | K18: 0 | L18: 0 | M18: 0 | N18: 0
F19: 7. | G19: Tanah Abang | H19: 0 | I19: 1 | J19: 0 | K19: 0 | L19: 0 | M19: 0 | N19: 0
F20: 8. | G20: Johar Baru | H20: 0 | I20: 1 | J20: 0 | K20: 0 | L20: 0 | M20: 0 | N20: 0
H22: =SUM(H13:H20) -> 2 | I22: =SUM(I13:I20) -> 6 | J22: =SUM(J13:J20) -> 0 | K22: =SUM(K13:K20) -> 0 | L22: =SUM(L13:L20) -> 0 | M22: =SUM(M13:M20) -> 2 | N22: =SUM(N13:N20) -> 0 | O22: =SUM(O13:O20) -> 0
C25: 3. | D25: - | E25: Adm Jakarta Utara | F25: 1. | G25: Penjaringan | H25: 0 | I25: 1 | J25: 0 | K25: 0 | L25: 0 | M25: 0 | N25: 0 | Q25: Ada 22 jenis perizinan | R25: Pergub DKI Jakarta No. 117 Thn 2013 tgl 10 Okt 2013 ttg Penyelenggaraan PATEN
F26: 2. | G26: Tanjung Priuk | H26: 0 | I26: 1 | J26: 0 | K26: 0 | L26: 0 | M26: 0 | N26: 0
F27: 3. | G27: Koja | H27: 0 | I27: 1 | J27: 0 | K27: 0 | L27: 0 | M27: 0 | N27: 0
F28: 4. | G28: Cilincing | H28: 1 | I28: 0 | J28: 0 | K28: 0 | L28: 0 | M28: 1 | N28: 0 | O28: 0
F29: 5. | G29: Pademangan | H29: 1 | I29: 0 | J29: 0 | K29: 0 | L29: 0 | M29: 1 | N29: 0 | O29: 0
F30: 6. | G30: Kelapa Gading | H30: 0 | I30: 1 | J30: 0 | K30: 0 | L30: 0 | M30: 0 | N30: 0
H32: =SUM(H25:H30) -> 2 | I32: =SUM(I25:I30) -> 4 | J32: =SUM(J25:J30) -> 0 | K32: =SUM(K25:K30) -> 0 | L32: =SUM(L25:L30) -> 0 | M32: =SUM(M25:M30) -> 2 | N32: =SUM(N25:N30) -> 0 | O32: =SUM(O25:O30) -> 0
C35: 4. | D35: - | E35: Adm Jakarta Barat | F35: 1. | G35: Cengkareng | H35: 0 | I35: 1 | J35: 0 | K35: 0 | L35: 0 | M35: 0 | N35: 0 | Q35: Ada 22 jenis perizinan | R35: Pergub DKI Jakarta No. 117 Thn 2013 tgl 10 Okt 2013 ttg Penyelenggaraan PATEN
F36: 2. | G36: Grogol Petamburan | H36: 1 | I36: 0 | J36: 0 | K36: 0 | L36: 0 | M36: 1 | N36: 0 | O36: 0
F37: 3. | G37: Taman Sari | H37: 0 | I37: 1 | J37: 0 | K37: 0 | L37: 0 | M37: 0 | N37: 0
F38: 4. | G38: Tambora | H38: 0 | I38: 1 | J38: 0 | K38: 0 | L38: 0 | M38: 0 | N38: 0
F39: 5. | G39: Kebon Jeruk | H39: 1 | I39: 0 | J39: 0 | K39: 0 | L39: 0 | M39: 1 | N39: 0 | O39: 0
F40: 6. | G40: Kalideres | H40: 0 | I40: 1 | J40: 0 | K40: 0 | L40: 0 | M40: 0 | N40: 0
F41: 7. | G41: Pal Merah | H41: 0 | I41: 1 | J41: 0 | K41: 0 | L41: 0 | M41: 0 | N41: 0
F42: 8. | G42: Kembangan | H42: 0 | I42: 1 | J42: 0 | K42: 0 | L42: 0 | M42: 0 | N42: 0
