Workbook

Sheet REKAP PATEN 
A1: DATA RINCIAN PERKEMBANGAN PENERAPAN PELAYANAN ADMINISTRASI TERPADU KECAMATAN (PATEN)
A4: No | B4: Provinsi | C4: Kabupaten/Kota | E4: Jumlah Kab/Kota Pelaksana PATEN | F4: Jumlah Kecamatan yang Telah Melaksanakan PATEN
A6: 1. | B6: Aceh
C7: 1. | D7: Kab. Aceh Selatan | E7: 1 | F7: ='1.aceh'!H26 -> 18
C8: 2. | D8: Kab. Aceh Tenggara | E8: 1 | F8: ='1.aceh'!H46 -> 0
C9: 3. | D9: Kab. Aceh Timur | E9: 1 | F9: ='1.aceh'!H74 -> 20
C10: 4. | D10: Kab. Aceh Tengah | E10: 1 | F10: ='1.aceh'!H92 -> 2
C11: 5. | D11: Kab. Aceh Barat | E11: 1 | F11: ='1.aceh'!H108 -> 3
C12: 6. | D12: Kab. Aceh Besar | E12: 1 | F12: ='1.aceh'!H135 -> 2
C13: 7. | D13: Kab. Pidie | E13: 1 | F13: ='1.aceh'!H162 -> 6
C14: 8. | D14: Kab. Aceh Utara | E14: 1 | F14: ='1.aceh'!H193 -> 14
C15: 9. | D15: Kab. Simeulue | E15: 1 | F15: ='1.aceh'!H207 -> 0
C16: 10. | D16: Kab. Aceh Singkil | E16: 1 | F16: ='1.aceh'!H222 -> 0
C17: 11. | D17: Kab. Bireuen | E17: 1 | F17: ='1.aceh'!H243 -> 17
C18: 12. | D18: Kab. Aceh Barat Daya | E18: 1 | F18: ='1.aceh'!H260 -> 9
C19: 13. | D19: Kab. Gayo Luwes | E19: 1 | F19: 11 | G19: 25 maret 2019
C20: 14. | D20: Kab. Aceh Jaya | E20: 1 | F20: ='1.aceh'!H288 -> 3
C21: 15. | D21: Kab. Nagan Raya | E21: 1 | F21: ='1.aceh'!H302 -> 0
C22: 16. | D22: Kab. Aceh Tamiang | E22: 1 | F22: ='1.aceh'!H318 -> 12
C23: 17. | D23: Kab. Bener Meriah | E23: 1 | F23: ='1.aceh'!H340 -> 10
C24: 18. | D24: Kab. Pidie Jaya | E24: 1 | F24: ='1.aceh'!H352 -> 8
C25: 19. | D25: Kota Banda Aceh | E25: 1 | F25: ='1.aceh'!H378 -> 3
C26: 20. | D26: Kota Sabang | E26: 0 | F26: ='1.aceh'!H384 -> 0
C27: 21. | D27: Kota Lhokseumawe | E27: 0 | F27: ='1.aceh'!H392 -> 0
C28: 22. | D28: Kota Langsa | E28: 1 | F28: ='1.aceh'!H401 -> 5
C29: 23. | D29: Kota Subussalam | E29: 0 | F29: ='1.aceh'!H410 -> 0
A31: Jumlah | E31: =SUM(E7:E29) -> 20 | F31: =SUM(F7:F29) -> 143
A33: 2. | B33: Sumatera Utara
C34: 1. | D34: Kab. Tapanuli Tengah | E34: 1 | F34: ='2.sumut'!H28 -> 0
C35: 2. | D35: Kab. Tapanuli Utara | E35: 1 | F35: ='2.sumut'!H47 -> 0
C36: 3. | D36: Kab. Tapanuli Selatan | E36: 0 | F36: ='2.sumut'!H65 -> 0
C37: 4. | D37: Kab. Nias | E37: 0 | F37: ='2.sumut'!H79 -> 0
C38: 5. | D38: Kab. Langkat | E38: 1 | F38: ='2.sumut'!H106 -> 3
C39: 6. | D39: Kab. Karo | E39: 0 | F39: ='2.sumut'!H127 -> 0
C40: 7. | D40: Kab. Deli Serdang | E40: 1 | F40: ='2.sumut'!H153 -> 22
C41: 8. | D41: Kab. Simalungun | E41: 0 | F41: ='2.sumut'!H188 -> 0
C42: 9. | D42: Kab. Asahan | E42: 1 | F42: ='2.sumut'!H217 -> 25
C43: 10. | D43: Kab. Labuhan Batu | E43: 1 | F43: ='2.sumut'!H230 -> 0 | G43: 25 maret 2019
C44: 11. | D44: Kab. Dairi | E44: 1 | F44: ='2.sumut'!H249 -> 1
C45: 12. | D45: Kab. Toba Samosir | E45: 0 | F45: ='2.sumut'!H269 -> 0
C46: 13. | D46: Kab. Mandailing Natal | E46: 1 | F46: ='2.sumut'!H296 -> 0 | G46: 28 Maret 2019
C47: 14. | D47: Kab. Nias Selatan | E47: 0 | F47: ='2.sumut'!H331 -> 0
C48: 15. | D48: Kab. Pakpak Bharat | E48: 1 | F48: ='2.sumut'!H343 -> 8
C49: 16. | D49: Kab. Humbang Hasundutan | E49: 1 | F49: ='2.sumut'!H357 -> 0 | G49: 28 Maret 2019
C50: 17. | D50: Kab. Samosir | E50: 1 | F50: ='2.sumut'!H370 -> 3
C51: 18. | D51: Kab. Serdang Bedagai | E51: 1 | F51: ='2.sumut'!H391 -> 17
C52: 19. | D52: Kab. Batu Bara | E52: 0 | F52: ='2.sumut'!H402 -> 0
C53: 20. | D53: Kab. Padang Lawas Utara | E53: 0 | F53: ='2.sumut'!H415 -> 0
C54: 21. | D54: Kab. Padang Lawas | E54: 1 | F54: ='2.sumut'!H431 -> 1
C55: 22. | D55: Kab. Labuhan Batu Selatan | E55: 0 | F55: ='2.sumut'!H440 -> 0
C56: 23. | D56: Kab. Labuhan Batu Utara | E56: 1 | F56: ='2.sumut'!H452 -> 1
C57: 24. | D57: Kab. Nias Utara | E57: 0 | F57: ='2.sumut'!H467 -> 0
C58: 25. | D58: Kab. Nias Barat | E58: 1 | F58: ='2.sumut'!H479 -> 1
C59: 26. | D59: Kota Medan | E59: 0 | F59: ='2.sumut'!H504 -> 0
C60: 27. | D60: Kota Pematang Siantar | E60: 0 | F60: ='2.sumut'!H516 -> 0
C61: 28. | D61: Kota Sibolga | E61: 1 | F61: ='2.sumut'!H524 -> 1 | G61: 25 MARET 2019
C62: 29. | D62: Kota Tanjung Balai | E62: 1 | F62: 1 | G62: 25 MARET 2019
C63: 30. | D63: Kota Binjai | E63: 0 | F63: ='2.sumut'!H543 -> 0
C64: 31. | D64: Kota Tebing Tinggi | E64: 1 | F64: ='2.sumut'!H552 -> 5
C65: 32. | D65: Kota Padangsidimpuan | E65: 1 | F65: ='2.sumut'!H562 -> 6
C66: 33. | D66: Kota Gunung Sitoli | E66: 0 | F66: ='2.sumut'!H584 -> 0
A68: Jumlah | E68: =SUM(E34:E66) -> 19 | F68: =SUM(F34:F66) -> 95
A70: 3. | B70: Sumatera Barat
C71: 1. | D71: Kab. Pesisir Selatan | E71: 1 | F71: ='3.sumbar'!H23 -> 0
C72: 2. | D72: Kab. Solok | E72: 1 | F72: 2
C73: 3. | D73: Kab. Sijunjung | E73: 1 | F73: ='3.sumbar'!H53 -> 8
C74: 4. | D74: Kab. Tanah Datar | E74: 1 | F74: ='3.sumbar'!H71 -> 0
C75: 5. | D75: Kab. Padang Pariaman | E75: 1 | F75: ='3.sumbar'!H92 -> 17
C76: 6. | D76: Kab. Agam | E76: 1 | F76: ='3.sumbar'!H112 -> 0
C77: 7. | D77: Kab. Lima Puluh Kota | E77: 1 | F77: ='3.sumbar'!H129 -> 6
C78: 8. | D78: Kab. Pasaman | E78: 1 | F78: ='3.sumbar'!H156 -> 12
C79: 9. | D79: Kab. Kep. Mentawai | E79: 1 | F79: ='3.sumbar'!H170 -> 0
C80: 10. | D80: Kab. Dharmasraya | E80: 1 | F80: ='3.sumbar'!H185 -> 11
C81: 11. | D81: Kab. Solok Selatan | E81: 1 | F81: 1
C82: 12. | D82: Kab. Pasaman Barat | E82: 1 | F82: ='3.sumbar'!H211 -> 0
C83: 13. | D83: Kota Padang | E83: 1 | F83: ='3.sumbar'!H226 -> 11
C84: 14. | D84: Kota Solok | E84: 1 | F84: 0
C85: 15. | D85: Kota Sawah Lunto | E85: 1 | F85: ='3.sumbar'!H240 -> 0
C86: 16. | D86: Kota Padang Panjang | E86: 1 | F86: ='3.sumbar'!H246 -> 0
C87: 17. | D87: Kota Bukittinggi | E87: 1 | F87: ='3.sumbar'!H253 -> 0
C88: 18. | D88: Kota Payakumbuh | E88: 1 | F88: ='3.sumbar'!H262 -> 1
C89: 19. | D89: Kota Pariaman | E89: 1 | F89: ='3.sumbar'!H270 -> 4
A91: Jumlah | E91: =SUM(E71:E89) -> 19 | F91: =SUM(F71:F89) -> 73
A93: 4. | B93: Riau
C94: 1. | D94: Kab. Kampar | E94: 1 | F94: ='4.riau'!H29 -> 0
C95: 2. | D95: Kab. Indragiri Hulu | E95: 1 | F95: ='4.riau'!H47 -> 0 | G95: 25 Maret 2019
C96: 3. | D96: Kab. Bengkalis | E96: 0 | F96: ='4.riau'!H59 -> 0
C97: 4. | D97: Kab. Indragiri Hilir | E97: 1 | F97: ='4.riau'!H83 -> 20
C98: 5. | D98: Kab. Pelalawan | E98: 0 | F98: ='4.riau'!H105 -> 0
C99: 6. | D99: Kab. Rokan Hulu | E99: 1 | F99: ='4.riau'!H125 -> 16
C100: 7. | D100: Kab. Rokan Hilir | E100: 1 | F100: ='4.riau'!H144 -> 0
C101: 8. | D101: Kab. Siak | E101: 1 | F101: ='4.riau'!H162 -> 14
C102: 9. | D102: Kab. Kuantan Singingi | E102: 1 | F102: ='4.riau'!H183 -> 15
C103: 10. | D103: Kab. Kep. Meranti | E103: 1 | F103: ='4.riau'!H212 -> 9 | G103: 25 maret 2019
C104: 11. | D104: Kota Pekanbaru | E104: 1 | F104: 1
C105: 12. | D105: Kota Dumai | E105: 0 | F105: ='4.riau'!H239 -> 0
A107: Jumlah | E107: =SUM(E94:E106) -> 9 | F107: =SUM(F94:F106) -> 75
A109: 5. | B109: Jambi
C110: 1. | D110: Kab. Kerinci | E110: 1 | F110: ='5.jambi'!H24 -> 3
C111: 2. | D111: Kab. Merangin | E111: 1 | F111: 1 | G111: 28 maret 2019
...

Sheet Sheet5

Sheet Sheet1

Sheet Sheet3
A1: DATA PATEN KAB/KOTA TAHUN 2017
A3: NO | B3: DAERAH | D3: DASAR HUKUM | E3: PELIMPAHAN KEWENANGAN
B4: KABUPATEN | C4: KOTA | E4: PERIZINAN | F4: NON PERIZINAN | G4: BINWAS DESA
A6: 1 | B6: KUPANG | D6: draft
A7: 2 | B7: MALUKU TENGAH
A8: 3 | B8: PARIGI MOUTONG | D8: draft
A9: 3 | B9: MELAWI | D9: DIKLAT MANAJEMEN PATEN
A10: 3 | B10: KAYONG UTARA | D10: DRAFT PELIMPAHAN
A11: 4 | B11: LAMANDAU | D11: PERBUP NO 10 TAHUN 2017
A12: 5 | B12: TULUNGAGUNG | D12: Bupati Tulungagung nomor 27 tahun 2015
A13: 6 | B13: LOMBOK UTARA
A14: 7 | B14: MUSI BANYUASIN | D14: DRAF PERBUP NOMOR …. 2017
A15: 8 | B15: SERAM BAGIAN BARAT | D15: DRAF PERBUP NOMO…. 2017
A16: 9 | B16: SIJUNJUNG | D16: DRAF PERBUP NOMO…. 2017
A17: 10 | B17: KAPUAS HULU | D17: Peraturan Bupati Kapuas Hulu nomor 34 tahun 2016, perubahan Perbup nomor 3 tahun 2016 tentang pelimpahan sebagian kewenangan Bupati kepada camat di wilayah Kapuas Hulu.
A18: 11 | B18: WAJO | D18: PERBUP NOMOR… TAHUN 2017 | E18: LAUNCING 1 KECAMATAN
A19: 12 | B19: KEPULAUAN SULA | D19: PERBUP NO 35 TAHUN 2017
A20: 13 | B20: SUMBAWA | D20: PERBUP NO 309 TAHUN 2017
A21: 14 | B21: BREBES | D21: PERBUP NO 082 TAHUN 2017
A22: 15 | B22: LOMBOK TIMUR | D22: PERBUP NO 188.45/369/PEM 2017
A23: 16 | C23: TOMOHON | D23: PERWAKO NO 19 TAHUN 2017
A24: 17 | B24: LUWU TIMUR | D24: KEP BUP NO I/1/TAHUN 2017
A25: 18 | C25: BIMA | D25: PERBUP NO 24 TAHUN 2017
A26: 19 | B26: BOLAANG MANGONDOW SELATAN | D26: PERBUP NO 13.A TAHUN 2017
A27: 20 | B27: JAYAWIJAYA | D27: PERBUB NO 13 TAHUN 2017
A28: 21 | B28: KEBUMEN | D28: PERUBAHAN KEDUA ATAS PERBUP NO 49 TAHUN 2014 TENTANG STANDAR PELAYANAN PROGRAM PELAYANAN SDMINISTRASI TERPADU KECAMATAN
A29: 22 | B29: SUKOHARJO | D29: PERBUP NO 1 TAHUN 2016
A30: 23 | B30: BANJARNEGARA | D30: PERUBAHAN KETIGA ATAS PERBUP NO 11TAHUN 2012 TENTANG PELIMPAHAN SEBAGIAN KEWENANGAN PEMERINTAHAN DARI BUPATI KEAPADA CAMAT UNTUK MENANGANI SEBAGIAN URUSAN OTONOMI DAERAH
A31: 24 | B31: KENDAL | D31: PERUBAHAN KEDUA ATAS PERBUP KENDAL NO 10 TAHUN 2013 TENTANG PENDELEGASIAN SEBAGIAN PELIMPAHAN SEBAGIAN KEWENANGAN BUPATI KENDAL KEPADA CAMAT DALAM RANGKA PELAYANAN ADMINISTRASI TERPADU KECAMATAN KAB KENDAL
A32: 25 | B32: SEMARANG | D32: NOMOR 138/0694/2017
A33: 26 | B33: KLUNGKUNG | D33: PERUBAHAN ATAS PERATURAN BUPATI KLUNGKUNG NOMOR 2 TAHUN 2014 TENTANG PELIMPAHAN SEBAGIAN KEWENANGAN BUPATI KEPADA CAMAT DAN PENYELENGGARAAN TUGAS-TUGAS UMUM Pemerintahan
A34: 27 | B34: KETAPANG | D34: PERBUP NO 21 TAHHN 2017
A35: 28 | B35: HULU SUNGAI TENGAH | D35: PERBUP 15 TAHUN 2017
A36: 29 | B36: BENGKAYAN | D36: PERBUP NO 52 TAHUN 2017
A37: 30 | B37: BASARANG | D37: TAHUN 2017
A38: 31 | B38: BARITO UTARA
A39: 32 | B39: SOPPENG | D39: PERBUP NO 1 TAHUN 2017
A40: 33 | B40: musi rawas | D40: perbub no.. Tahun 2017
A41: 34 | B41: banyuasin | D41: perbub no.. Tahun 2017
A42: 35 | B42: oku timur | D42: perbub no.. Tahun 2017
A43: 36 | B43: kota pagar alam | D43: perbup no 228 th 2016
A44: 37 | B44: kota lubuk linggau | D44: perbub no.. Tahun 2017

Sheet 1.aceh
A1: DATA PATEN
A3: NO. | B3: PROV | C3: NO. | D3: KAB | E3: KOTA | F3: NO. | G3: KEC | H3: PATEN | I3: BELUM PATEN | J3: TAHUN | R3: JENIS PERIZINAN YANG DILIMPAHKAN | S3: DASAR HUKUM | T3: KET
J4: 2010 | K4: 2011 | L4: 2012 | M4: 2013 | N4: 2014 | O4: 2015 | P4: 2016 | Q4: 2017
A5: 1 | B5: 2 | C5: 3 | D5: 4 | E5: 5 | F5: 6 | G5: 7 | H5: 8 | I5: 9 | J5: 10 | R5: 11 | S5: 12 | T5: 13
A7: 1. | B7: ACEH | C7: 1. | D7: Aceh Selatan | E7: - | F7: 1. | G7: Bakongan | H7: 1 | I7: 0 | J7: 0 | K7: 0 | L7: 0 | M7: 0 | N7: 0 | O7: 1 | R7: Belum ada data | S7: 1). Per. Bup. Aceh Selatan No. 19 Tahun 2009 ttg Pelimpahan Sebagian Kewenangan Pemkab Kepada Camat di Wil Kab. Aceh Selatan | T7: Inisiatif Pemda Surat No. 118/195/2015 tgl 9 Feb 2015
F8: 2. | G8: Kluet Utara | H8: 1 | I8: 0 | J8: 0 | K8: 0 | L8: 0 | M8: 0 | N8: 0 | O8: 1
F9: 3. | G9: Kluet Selatan | H9: 1 | I9: 0 | J9: 0 | K9: 0 | L9: 0 | M9: 0 | N9: 0 | O9: 1
F10: 4. | G10: Labuhan Haji | H10: 1 | I10: 0 | J10: 0 | K10: 0 | L10: 0 | M10: 0 | N10: 0 | O10: 1 | S10: 2). Kep. Bup. Aceh Selatan No. 445 Tahun 2014 tgl 7 Okt 2014 ttg Penetapan Kec Sebagai Penyelenggara PATEN Dalam Kab. Aceh Selatan Tahun 2014
F11: 5. | G11: Meukek | H11: 1 | I11: 0 | J11: 0 | K11: 0 | L11: 0 | M11: 0 | N11: 0 | O11: 1
F12: 6. | G12: Samadua | H12: 1 | I12: 0 | J12: 0 | K12: 0 | L12: 0 | M12: 0 | N12: 0 | O12: 1
F13: 7. | G13: Sawang | H13: 1 | I13: 0 | J13: 0 | K13: 0 | L13: 0 | M13: 0 | N13: 0 | O13: 1
F14: 8. | G14: Tapaktuan | H14: 1 | I14: 0 | J14: 0 | K14: 0 | L14: 0 | M14: 0 | N14: 0 | O14: 1
F15: 9. | G15: Trumon | H15: 1 | I15: 0 | J15: 0 | K15: 0 | L15: 0 | M15: 0 | N15: 0 | O15: 1
F16: 10. | G16: Pasi Raja | H16: 1 | I16: 0 | J16: 0 | K16: 0 | L16: 0 | M16: 0 | N16: 0 | O16: 1
F17: 11. | G17: Labuhan Haji Timur | H17: 1 | I17: 0 | J17: 0 | K17: 0 | L17: 0 | M17: 0 | N17: 0 | O17: 1
F18: 12. | G18: Labuhan Haji Barat | H18: 1 | I18: 0 | J18: 0 | K18: 0 | L18: 0 | M18: 0 | N18: 0 | O18: 1
F19: 13. | G19: Kluet Tengah | H19: 1 | I19: 0 | J19: 0 | K19: 0 | L19: 0 | M19: 0 | N19: 0 | O19: 1
F20: 14. | G20: Kluet Timur | H20: 1 | I20: 0 | J20: 0 | K20: 0 | L20: 0 | M20: 0 | N20: 0 | O20: 1
F21: 15. | G21: Bakongan Timur | H21: 1 | I21: 0 | J21: 0 | K21: 0 | L21: 0 | M21: 0 | N21: 0 | O21: 1
F22: 16. | G22: Trumon Timur | H22: 1 | I22: 0 | J22: 0 | K22: 0 | L22: 0 | M22: 0 | N22: 0 | O22: 1
... F24: 18. | G24: Trumon Tengah | H24: 1 | I24: 0 | J24: 0 | K24: 0 | L24: 0 | M24: 0 | N24: 0 | O24: 1
G26: Jumlah | H26: =SUM(H7:H24) -> 18 | I26: =SUM(I7:I24) -> 0 | J26: =SUM(J7:J24) -> 0 | K26: =SUM(K7:K24) -> 0 | L26: =SUM(L7:L24) -> 0 | M26: =SUM(M7:M24) -> 0 | N26: =SUM(N7:N24) -> 0 | O26: =SUM(O7:O24) -> 18 | P26: =SUM(P7:P24) -> 0
C29: 2. | D29: Aceh Tenggara | E29: - | F29: 1. | G29: Lawe Alas | H29: 0 | I29: 1 | J29: 0 | K29: 0 | L29: 0 | M29: 0 | N29: 0
F30: 2. | G30: Lawe Sigala-Gala | H30: 0 | I30: 1 | J30: 0 | K30: 0 | L30: 0 | M30: 0 | N30: 0
F31: 3. | G31: Bambel | H31: 0 | I31: 1 | J31: 0 | K31: 0 | L31: 0 | M31: 0 | N31: 0
F32: 4. | G32: Babussalam | H32: 0 | I32: 1 | J32: 0 | K32: 0 | L32: 0 | M32: 0 | N32: 0
F33: 5. | G33: Badar | H33: 0 | I33: 1 | J33: 0 | K33: 0 | L33: 0 | M33: 0 | N33: 0
F34: 6. | G34: Babul Makmur | H34: 0 | I34: 1 | J34: 0 | K34: 0 | L34: 0 | M34: 0 | N34: 0
F35: 7. | G35: Darul Hasanah | H35: 0 | I35: 1 | J35: 0 | K35: 0 | L35: 0 | M35: 0 | N35: 0
F36: 8. | G36: Lawe Bulan | H36: 0 | I36: 1 | J36: 0 | K36: 0 | L36: 0 | M36: 0 | N36: 0
F37: 9. | G37: Bukit Tusam | H37: 0 | I37: 1 | J37: 0 | K37: 0 | L37: 0 | M37: 0 | N37: 0
F38: 10. | G38: Semadam | H38: 0 | I38: 1 | J38: 0 | K38: 0 | L38: 0 | M38: 0 | N38: 0
F39: 11. | G39: Babul Rahmah | H39: 0 | I39: 1 | J39: 0 | K39: 0 | L39: 0 | M39: 0 | N39: 0
F40: 12. | G40: Ketambe | H40: 0 | I40: 1 | J40: 0 | K40: 0 | L40: 0 | M40: 0 | N40: 0
F41: 13. | G41: Deleng Pokhkisen | H41: 0 | I41: 1 | J41: 0 | K41: 0 | L41: 0 | M41: 0 | N41: 0
... F44: 16. | G44: Leuser | H44: 0 | I44: 1 | J44: 0 | K44: 0 | L44: 0 | M44: 0 | N44: 0
H46: =SUM(H29:H44) -> 0 | I46: =SUM(I29:I44) -> 16 | J46: =SUM(J29:J44) -> 0 | K46: =SUM(K29:K44) -> 0 | L46: =SUM(L29:L44) -> 0 | M46: =SUM(M29:M44) -> 0 | N46: =SUM(N29:N44) -> 0 | O46: =SUM(O29:O44) -> 0
C49: 3. | D49: Aceh Timur | E49: - | F49: 1. | G49: Darul Aman | H49: 1 | I49: 0 | J49: 0 | K49: 0 | L49: 0 | M49: 0 | N49: 0 | O49: 1 | R49: Belum ada data | S49: 1). Perbup. Aceh Timur No. 20 Tahun 2013 ttg Pelimpahan Sebagian Kewenangan Bup Kepada Camat | T49: Inisiatif Pemda
F50: 2. | G50: Julok | H50: 1 | I50: 0 | J50: 0 | K50: 0 | L50: 0 | M50: 0 | N50: 0 | O50: 1
F51: 3. | G51: Idi Rayeuk | H51: 1 | I51: 0 | J51: 0 | K51: 0 | L51: 0 | M51: 0 | N51: 0 | O51: 1
F52: 4. | G52: Birem Bayeun | H52: 1 | I52: 0 | J52: 0 | K52: 0 | L52: 0 | M52: 0 | N52: 0 | O52: 1 | S52: 2). Kep. Bup. Aceh Timur No. 138/187/2014 ttg Penetapan Kec Sebagai Penyelenggara PATEN Dalam Kab. Aceh Timur
F53: 5. | G53: Serbajadi | H53: 1 | I53: 0 | J53: 0 | K53: 0 | L53: 0 | M53: 0 | N53: 0 | O53: 1
F54: 6. | G54: Nurussalam | H54: 1 | I54: 0 | J54: 0 | K54: 0 | L54: 0 | M54: 0 | N54: 0 | O54: 1
F55: 7. | G55: Peureulak | H55: 1 | I55: 0 | J55: 0 | K55: 0 | L55: 0 | M55: 0 | N55: 0 | O55: 1
F56: 8. | G56: Rantau Selamat | H56: 1 | I56: 0 | J56: 0 | K56: 0 | L56: 0 | M56: 0 | N56: 0 | O56: 1
F57: 9. | G57: Simpang Ulim | H57: 1 | I57: 0 | J57: 0 | K57: 0 | L57: 0 | M57: 0 | N57: 0 | O57: 1
F58: 10. | G58: Rantau Peureulak | H58: 1 | I58: 0 | J58: 0 | K58: 0 | L58: 0 | M58: 0 | N58: 0 | O58: 1
F59: 11. | G59: Pante Bidari | H59: 1 | I59: 0 | J59: 0 | K59: 0 | L59: 0 | M59: 0 | N59: 0 | O59: 1
F60: 12. | G60: Madat | H60: 1 | I60: 0 | J60: 0 | K60: 0 | L60: 0 | M60: 0 | N60: 0 | O60: 1
F61: 13. | G61: Indra Makmu | H61: 0 | I61: 1 | J61: 0 | K61: 0 | L61: 0 | M61: 0 | N61: 0
F62: 14. | G62: Idi Tunong | H62: 1 | I62: 0 | J62: 0 | K62: 0 | L62: 0 | M62: 0 | N62: 0 | O62: 1
F63: 15. | G63: Banda Alam | H63: 0 | I63: 1 | J63: 0 | K63: 0 | L63: 0 | M63: 0 | N63: 0
F64: 16. | G64: Peudawa | H64: 1 | I64: 0 | J64: 0 | K64: 0 | L64: 0 | M64: 0 | N64: 0 | O64: 1
F65: 17. | G65: Peureulak Timur | H65: 1 | I65: 0 | J65: 0 | K65: 0 | L65: 0 | M65: 0 | N65: 0 | O65: 1
F66: 18. | G66: Peureulak Barat | H66: 1 | I66: 0 | J66: 0 | K66: 0 | L66: 0 | M66: 0 | N66: 0 | O66: 1
F67: 19. | G67: Sungai Raya | H67: 1 | I67: 0 | J67: 0 | K67: 0 | L67: 0 | M67: 0 | N67: 0 | O67: 1
F68: 20. | G68: Simpang Jernih | H68: 0 | I68: 1 | J68: 0 | K68: 0 | L68: 0 | M68: 0 | N68: 0
F69: 21. | G69: Darul Ihsan | H69: 0 | I69: 1 | J69: 0 | K69: 0 | L69: 0 | M69: 0 | N69: 0
F70: 22. | G70: Darul Falah | H70: 1 | I70: 0 | J70: 0 | K70: 0 | L70: 0 | M70: 0 | N70: 0 | O70: 1
F71: 23. | G71: Idi Timur | H71: 1 | I71: 0 | J71: 0 | K71: 0 | L71: 0 | M71: 0 | N71: 0 | O71: 1
F72: 24. | G72: Peunaron | H72: 1 | I72: 0 | J72: 0 | K72: 0 | L72: 0 | M72: 0 | N72: 0 | O72: 1
H74: =SUM(H49:H72) -> 20 | I74: =SUM(I49:I72) -> 4 | J74: =SUM(J49:J72) -> 0 | K74: =SUM(K49:K72) -> 0 | L74: =SUM(L49:L72) -> 0 | M74: =SUM(M49:M72) -> 0 | N74: =SUM(N49:N72) -> 0 | O74: =SUM(O49:O72) -> 20
C77: 4. | D77: Aceh Tengah | E77: - | F77: 1. | G77: Linge | H77: 0 | I77: 1 | J77: 0 | K77: 0 | L77: 0 | M77: 0 | N77: 0
F78: 2. | G78: Silih Nara | H78: 1 | I78: 0 | J78: 0 | K78: 0 | L78: 0 | M78: 0 | N78: 0 | O78: 1 | S78: Kep. Bup. Aceh Tengah No. 173 Thn. 2007 ttg Pelimpahan Sebagian Kewenangan Bup. Aceh Tengah kpd Camat Dalam Kab. Aceh Tengah | T78: Dampingan project Logica phase 2
F79: 3. | G79: Bebesen | H79: 1 | I79: 0 | J79: 0 | K79: 0 | L79: 0 | M79: 0 | N79: 0 | O79: 1 | T79: Dampingan project Logica phase 2
F80: 4. | G80: Pegasing | H80: 0 | I80: 1 | J80: 0 | K80: 0 | L80: 0 | M80: 0 | N80: 0
F81: 5. | G81: Bintang | H81: 0 | I81: 1 | J81: 0 | K81: 0 | L81: 0 | M81: 0 | N81: 0
F82: 6. | G82: Ketol | H82: 0 | I82: 1 | J82: 0 | K82: 0 | L82: 0 | M82: 0 | N82: 0
F83: 7. | G83: Kebayakan | H83: 0 | I83: 1 | J83: 0 | K83: 0 | L83: 0 | M83: 0 | N83: 0
F84: 8. | G84: Kute Panang | H84: 0 | I84: 1 | J84: 0 | K84: 0 | L84: 0 | M84: 0 | N84: 0
F85: 9. | G85: Celala | H85: 0 | I85: 1 | J85: 0 | K85: 0 | L85: 0 | M85: 0 | N85: 0
F86: 10. | G86: Laut Tawar | H86: 0 | I86: 1 | J86: 0 | K86: 0 | L86: 0 | M86: 0 | N86: 0
F87: 11. | G87: Atu Lintang | H87: 0 | I87: 1 | J87: 0 | K87: 0 | L87: 0 | M87: 0 | N87: 0
F88: 12. | G88: Jagong Jeget | H88: 0 | I88: 1 | J88: 0 | K88: 0 | L88: 0 | M88: 0 | N88: 0
F89: 13. | G89: Bies | H89: 0 | I89: 1 | J89: 0 | K89: 0 | L89: 0 | M89: 0 | N89: 0
F90: 14. | G90: Rusip Antara | H90: 0 | I90: 1 | J90: 0 | K90: 0 | L90: 0 | M90: 0 | N90: 0
H92: =SUM(H77:H90) -> 2 | I92: =SUM(I77:I90) -> 12 | J92: =SUM(J77:J90) -> 0 | K92: =SUM(K77:K90) -> 0 | L92: =SUM(L77:L90) -> 0 | M92: =SUM(M77:M90) -> 0 | N92: =SUM(N77:N90) -> 0 | O92: =SUM(O77:O90) -> 2
C95: 5. | D95: Aceh Barat | E95: - | F95: 1. | G95: Johan Pahlawan | H95: 1 | I95: 0 | J95: 1 | K95: 0 | L95: 0 | M95: 0 | N95: 0 | O95: 1 | S95: Perbup. Aceh Barat No. 5 Thn 2009 ttg Pelimpahan Sebagian Kewenangan Pemkab Bid. Pembinaan Pemerintahan Mukim dan Gampong, Perizinan, Pendapatan Kab, Pendidikan Dasar dan Kesehatan kpd Camat | T95: Kec. Johan Pahlawan, Arongan Lalambek dan Samatiga merupakan perintis penerapan PATEN di Aceh & Nasional yg merupakan dampingan Project Logica phase I pada Tahun 2008 dgn nama Peyananan Satu Pintu Kecamatan (PSPK)
F96: 2. | G96: Kaway XVI | H96: 0 | I96: 1 | J96: 0 | K96: 0 | L96: 0 | M96: 0 | N96: 0
F97: 3. | G97: Sungai Mas | H97: 0 | I97: 1 | J97: 0 | K97: 0 | L97: 0 | M97: 0 | N97: 0
F98: 4. | G98: Woyla | H98: 0 | I98: 1 | J98: 0 | K98: 0 | L98: 0 | M98: 0 | N98: 0
F99: 5. | G99: Samatiga | H99: 1 | I99: 0 | J99: 1 | K99: 0 | L99: 0 | M99: 0 | N99: 0 | O99: 1
F100: 6. | G100: Bubon | H100: 0 | I100: 1 | J100: 0 | K100: 0 | L100: 0 | M100: 0 | N100: 0
F101: 7. | G101: Arongan Lambalek | H101: 1 | I101: 0 | J101: 1 | K101: 0 | L101: 0 | M101: 0 | N101: 0 | O101: 1 | S101: Perbup Aceh Barat Nomor 41 Tahun 2018 tentang pelimpahan sebagian kewenangan buapti kepada camat
F102: 8. | G102: Pante Ceureumen | H102: 0 | I102: 1 | J102: 0 | K102: 0 | L102: 0 | M102: 0 | N102: 0
F103: 9. | G103: Meureubo | H103: 0 | I103: 1 | J103: 0 | K103: 0 | L103: 0 | M103: 0 | N103: 0
F104: 10. | G104: Woyla Barat | H104: 0 | I104: 1 | J104: 0 | K104: 0 | L104: 0 | M104: 0 | N104: 0
F105: 11. | G105: Woyla Timur | H105: 0 | I105: 1 | J105: 0 | K105: 0 | L105: 0 | M105: 0 | N105: 0
F106: 12. | G106: Panton Reu | H106: 0 | I106: 1 | J106: 0 | K106: 0 | L106: 0 | M106: 0 | N106: 0
H108: =SUM(H95:H106) -> 3 | I108: =SUM(I95:I106) -> 9 | J108: =SUM(J95:J106) -> 3 | K108: =SUM(K95:K106) -> 0 | L108: =SUM(L95:L106) -> 0 | M108: =SUM(M95:M106) -> 0 | N108: =SUM(N95:N106) -> 0 | O108: =SUM(O95:O106) -> 3
C111: 6. | D111: Aceh Besar | E111: - | F111: 1. | G111: Lhoong | H111: 0 | I111: 1 | J111: 0 | K111: 0 | L111: 0 | M111: 0 | N111: 0 | R111: SITU : | S111: 1). Perbup Aceh Besar No. 07 Th 2008 tgl 25 Juni 2008 ttg Pelimpahan Sebagian Kewenangan Pemerintah Kab. Kpd Camat Dalam Kab. Aceh Besar
F112: 2. | G112: Lhoknga | H112: 0 | I112: 1 | J112: 0 | K112: 0 | L112: 0 | M112: 0 | N112: 0 | R112: 1. Peralatan kantor dan sekolah
F113: 3. | G113: Indrapuri | H113: 0 | I113: 1 | J113: 0 | K113: 0 | L113: 0 | M113: 0 | N113: 0 | R113: 2. Penjahit dan taylor
F114: 4. | G114: Seulimeum | H114: 0 | I114: 1 | J114: 0 | K114: 0 | L114: 0 | M114: 0 | N114: 0 | R114: 3. Aksesori
F115: 5. | G115: Montasik | H115: 0 | I115: 1 | J115: 0 | K115: 0 | L115: 0 | M115: 0 | N115: 0 | R115: 4. Kebutuhan rumah tangga
F116: 6. | G116: Sukamakmur | H116: 0 | I116: 1 | J116: 0 | K116: 0 | L116: 0 | M116: 0 | N116: 0 | R116: 5. Telekomunikasi dan publikasi
F117: 7. | G117: Darul Imarah | H117: 0 | I117: 1 | J117: 0 | K117: 0 | L117: 0 | M117: 0 | N117: 0 | R117: 6. Rental
F118: 8. | G118: Peukan Bada | H118: 1 | I118: 0 | J118: 1 | K118: 0 | L118: 0 | M118: 0 | N118: 0 | O118: 1 | R118: 7. Hasil usaha pertanian/peternakan & sejenisnya | S118: 2). Kec. Peukan Bada dan Baitussalam merupakan perintis penerapan PATEN di Aceh & Nasional yg merupakan dampingan Project Logica phase I pada Tahun 2008 dgn nama Peyananan Satu Pintu Kecamatan (PSPK) | T118: Dampingan project Logica phase 1 Tahun 2008
F119: 9. | G119: Mesjid Raya | H119: 0 | I119: 1 | J119: 0 | K119: 0 | L119: 0 | M119: 0 | N119: 0 | R119: 8. Usaha rempah-rempah & sejenisnya
F120: 10. | G120: Ingin Jaya | H120: 0 | I120: 1 | J120: 0 | K120: 0 | L120: 0 | M120: 0 | N120: 0 | R120: 9. Usaha penjualan elektronik & sejenisnya
...

Sheet 2.sumut
A1: DATA PATEN
A3: NO. | B3: PROVINSI | C3: NO. | D3: KAB | E3: KOTA | F3: NO. | G3: KEC | H3: PATEN | I3: BELUM PATEN | J3: TAHUN | R3: JENIS PERIZINAN YANG DILIMPAHKAN | S3: DASAR HUKUM | T3: KET
J4: 2010 | K4: 2011 | L4: 2012 | M4: 2013 | N4: 2014 | O4: 2015 | P4: 2016 | Q4: 2017
A5: 1 | B5: 2 | C5: 3 | D5: 4 | E5: 5 | F5: 6 | G5: 7 | H5: 8 | I5: 9 | J5: 10 | P5: 11 | R5: 12 | S5: 13 | T5: 14
A7: 2. | B7: SUMUT | C7: 1. | D7: Tapanuli Tengah | E7: - | F7: 1. | G7: Barus | H7: 0 | I7: 1 | J7: 0 | K7: 0 | L7: 0 | M7: 0 | N7: 0
F8: 2. | G8: Sorkam | H8: 0 | I8: 1 | J8: 0 | K8: 0 | L8: 0 | M8: 0 | N8: 0
F9: 3. | G9: Pandan | H9: 0 | I9: 1 | J9: 0 | K9: 0 | L9: 0 | M9: 0 | N9: 0
F10: 4. | G10: Pinangsori | H10: 0 | I10: 1 | J10: 0 | K10: 0 | L10: 0 | M10: 0 | N10: 0
F11: 5. | G11: Manduamas | H11: 0 | I11: 1 | J11: 0 | K11: 0 | L11: 0 | M11: 0 | N11: 0
F12: 6. | G12: Kolang | H12: 0 | I12: 1 | J12: 0 | K12: 0 | L12: 0 | M12: 0 | N12: 0
F13: 7. | G13: Tapian Nauli | H13: 0 | I13: 1 | J13: 0 | K13: 0 | L13: 0 | M13: 0 | N13: 0
F14: 8. | G14: Sibabangun | H14: 0 | I14: 1 | J14: 0 | K14: 0 | L14: 0 | M14: 0 | N14: 0
F15: 9. | G15: Sosor Gadong | H15: 0 | I15: 1 | J15: 0 | K15: 0 | L15: 0 | M15: 0 | N15: 0
F16: 10. | G16: Sorkam Barat | H16: 0 | I16: 1 | J16: 0 | K16: 0 | L16: 0 | M16: 0 | N16: 0
F17: 11. | G17: Sirandorung | H17: 0 | I17: 1 | J17: 0 | K17: 0 | L17: 0 | M17: 0 | N17: 0
F18: 12. | G18: Andam Dewi | H18: 0 | I18: 1 | J18: 0 | K18: 0 | L18: 0 | M18: 0 | N18: 0
F19: 13. | G19: Sitahuis | H19: 0 | I19: 1 | J19: 0 | K19: 0 | L19: 0 | M19: 0 | N19: 0
... F26: 20. | G26: Sarudik | H26: 0 | I26: 1 | J26: 0 | K26: 0 | L26: 0 | M26: 0 | N26: 0
H28: =SUM(H7:H26) -> 0 | I28: =SUM(I7:I26) -> 20 | J28: =SUM(J7:J26) -> 0 | K28: =SUM(K7:K26) -> 0 | L28: =SUM(L7:L26) -> 0 | M28: =SUM(M7:M26) -> 0 | N28: =SUM(N7:N26) -> 0 | O28: =SUM(O7:O26) -> 0
C31: 2. | D31: Tapanuli Utara | E31: - | F31: 1. | G31: Tarutung | H31: 0 | I31: 1 | J31: 0 | K31: 0 | L31: 0 | M31: 0 | N31: 0 | R31: perbup taput nomor 40 tahun 2011 tentang pelimpahan kewenangan kepada camat di kabupaten taput
F32: 2. | G32: Siatas Barita | H32: 0 | I32: 1 | J32: 0 | K32: 0 | L32: 0 | M32: 0 | N32: 0
F33: 3. | G33: Adian Koting | H33: 0 | I33: 1 | J33: 0 | K33: 0 | L33: 0 | M33: 0 | N33: 0
F34: 4. | G34: Sipoholon | H34: 0 | I34: 1 | J34: 0 | K34: 0 | L34: 0 | M34: 0 | N34: 0
F35: 5. | G35: Pahae Julu | H35: 0 | I35: 1 | J35: 0 | K35: 0 | L35: 0 | M35: 0 | N35: 0
F36: 6. | G36: Pahae Jae | H36: 0 | I36: 1 | J36: 0 | K36: 0 | L36: 0 | M36: 0 | N36: 0
F37: 7. | G37: Simangumban | H37: 0 | I37: 1 | J37: 0 | K37: 0 | L37: 0 | M37: 0 | N37: 0
F38: 8. | G38: Purba Tua | H38: 0 | I38: 1 | J38: 0 | K38: 0 | L38: 0 | M38: 0 | N38: 0
F39: 9. | G39: Siborong-Borong | H39: 0 | I39: 1 | J39: 0 | K39: 0 | L39: 0 | M39: 0 | N39: 0
F40: 10. | G40: Pagaran | H40: 0 | I40: 1 | J40: 0 | K40: 0 | L40: 0 | M40: 0 | N40: 0
F41: 11. | G41: Parmonangan | H41: 0 | I41: 1 | J41: 0 | K41: 0 | L41: 0 | M41: 0 | N41: 0
F42: 12. | G42: Sipabutar | H42: 0 | I42: 1 | J42: 0 | K42: 0 | L42: 0 | M42: 0 | N42: 0
F43: 13. | G43: Pangaribuan | H43: 0 | I43: 1 | J43: 0 | K43: 0 | L43: 0 | M43: 0 | N43: 0
... F45: 15. | G45: Muara | H45: 0 | I45: 1 | J45: 0 | K45: 0 | L45: 0 | M45: 0 | N45: 0
H47: =SUM(H31:H45) -> 0 | I47: =SUM(I31:I45) -> 15 | J47: =SUM(J31:J45) -> 0 | K47: =SUM(K31:K45) -> 0 | L47: =SUM(L31:L45) -> 0 | M47: =SUM(M31:M45) -> 0 | N47: =SUM(N31:N45) -> 0 | O47: =SUM(O31:O45) -> 0
C50: 3. | D50: Tapanuli Selatan | E50: - | F50: 1. | G50: Angkola Barat | H50: 0 | I50: 1 | J50: 0 | K50: 0 | L50: 0 | M50: 0 | N50: 0
F51: 2. | G51: Batang Toru | H51: 0 | I51: 1 | J51: 0 | K51: 0 | L51: 0 | M51: 0 | N51: 0
F52: 3. | G52: Angkola Timur | H52: 0 | I52: 1 | J52: 0 | K52: 0 | L52: 0 | M52: 0 | N52: 0
F53: 4. | G53: Sipirok | H53: 0 | I53: 1 | J53: 0 | K53: 0 | L53: 0 | M53: 0 | N53: 0
F54: 5. | G54: Saipar Dolok Hole | H54: 0 | I54: 1 | J54: 0 | K54: 0 | L54: 0 | M54: 0 | N54: 0
F55: 6. | G55: Angkola Selatan | H55: 0 | I55: 1 | J55: 0 | K55: 0 | L55: 0 | M55: 0 | N55: 0
F56: 7. | G56: Batang Angkola | H56: 0 | I56: 1 | J56: 0 | K56: 0 | L56: 0 | M56: 0 | N56: 0
F57: 8. | G57: Arse | H57: 0 | I57: 1 | J57: 0 | K57: 0 | L57: 0 | M57: 0 | N57: 0
F58: 9. | G58: Marancar | H58: 0 | I58: 1 | J58: 0 | K58: 0 | L58: 0 | M58: 0 | N58: 0
F59: 10. | G59: Sayur Matinggi | H59: 0 | I59: 1 | J59: 0 | K59: 0 | L59: 0 | M59: 0 | N59: 0
F60: 11. | G60: Aek Bilah | H60: 0 | I60: 1 | J60: 0 | K60: 0 | L60: 0 | M60: 0 | N60: 0
F61: 12. | G61: Muara Batang Toru | H61: 0 | I61: 1 | J61: 0 | K61: 0 | L61: 0 | M61: 0 | N61: 0
F62: 13. | G62: Tano Tombangan Angkola | H62: 0 | I62: 1 | J62: 0 | K62: 0 | L62: 0 | M62: 0 | N62: 0
F63: 14. | G63: Angkola Sangkunur | H63: 0 | I63: 1 | J63: 0 | K63: 0 | L63: 0 | M63: 0 | N63: 0
H65: =SUM(H50:H63) -> 0 | I65: =SUM(I50:I63) -> 14 | J65: =SUM(J50:J63) -> 0 | K65: =SUM(K50:K63) -> 0 | L65: =SUM(L50:L63) -> 0 | M65: =SUM(M50:M63) -> 0 | N65: =SUM(N50:N63) -> 0 | O65: =SUM(O50:O63) -> 0
C68: 4. | D68: Nias | E68: - | F68: 1. | G68: Hiliduho | H68: 0 | I68: 1 | J68: 0 | K68: 0 | L68: 0 | M68: 0 | N68: 0
F69: 2. | G69: Gido | H69: 0 | I69: 1 | J69: 0 | K69: 0 | L69: 0 | M69: 0 | N69: 0
F70: 3. | G70: Idano Gawo | H70: 0 | I70: 1 | J70: 0 | K70: 0 | L70: 0 | M70: 0 | N70: 0
F71: 4. | G71: Bawolato | H71: 0 | I71: 1 | J71: 0 | K71: 0 | L71: 0 | M71: 0 | N71: 0
F72: 5. | G72: Hiliserangkai | H72: 0 | I72: 1 | J72: 0 | K72: 0 | L72: 0 | M72: 0 | N72: 0
F73: 6. | G73: Botomuzoi | H73: 0 | I73: 1 | J73: 0 | K73: 0 | L73: 0 | M73: 0 | N73: 0
F74: 7. | G74: Ulugawo | H74: 0 | I74: 1 | J74: 0 | K74: 0 | L74: 0 | M74: 0 | N74: 0
F75: 8. | G75: Ma'u | H75: 0 | I75: 1 | J75: 0 | K75: 0 | L75: 0 | M75: 0 | N75: 0
F76: 9. | G76: Somolo-Molo | H76: 0 | I76: 1 | J76: 0 | K76: 0 | L76: 0 | M76: 0 | N76: 0
F77: 10. | G77: Sogae'adu | H77: 0 | I77: 1 | J77: 0 | K77: 0 | L77: 0 | M77: 0 | N77: 0
H79: =SUM(H68:H77) -> 0 | I79: =SUM(I68:I77) -> 10 | J79: =SUM(J68:J77) -> 0 | K79: =SUM(K68:K77) -> 0 | L79: =SUM(L68:L77) -> 0 | M79: =SUM(M68:M77) -> 0 | N79: =SUM(N68:N77) -> 0 | O79: =SUM(O68:O77) -> 0
C82: 5. | D82: Langkat | E82: - | F82: 1. | G82: Bahorok | H82: 0 | I82: 1 | J82: 0 | K82: 0 | L82: 0 | M82: 0 | N82: 0
F83: 2. | G83: Salapian | H83: 0 | I83: 1 | J83: 0 | K83: 0 | L83: 0 | M83: 0 | N83: 0
F84: 3. | G84: Kuala | H84: 1 | I84: 0 | J84: 0 | K84: 0 | L84: 0 | M84: 0 | N84: 0 | P84: 1
F85: 4. | G85: Sei Bingei | H85: 0 | I85: 1 | J85: 0 | K85: 0 | L85: 0 | M85: 0 | N85: 0
F86: 5. | G86: Binjai | H86: 0 | I86: 1 | J86: 0 | K86: 0 | L86: 0 | M86: 0 | N86: 0
F87: 6. | G87: Selesai | H87: 0 | I87: 1 | J87: 0 | K87: 0 | L87: 0 | M87: 0 | N87: 0
F88: 7. | G88: Stabat | H88: 1 | I88: 0 | J88: 0 | K88: 0 | L88: 0 | M88: 0 | N88: 0 | P88: 1
F89: 8. | G89: Wampu | H89: 0 | I89: 1 | J89: 0 | K89: 0 | L89: 0 | M89: 0 | N89: 0
F90: 9. | G90: Secanggang | H90: 0 | I90: 1 | J90: 0 | K90: 0 | L90: 0 | M90: 0 | N90: 0
F91: 10. | G91: Hinai | H91: 0 | I91: 1 | J91: 0 | K91: 0 | L91: 0 | M91: 0 | N91: 0
F92: 11. | G92: Tanjung Pura | H92: 0 | I92: 1 | J92: 0 | K92: 0 | L92: 0 | M92: 0 | N92: 0
F93: 12. | G93: Padang Tualang | H93: 0 | I93: 1 | J93: 0 | K93: 0 | L93: 0 | M93: 0 | N93: 0
F94: 13. | G94: Gebang | H94: 0 | I94: 1 | J94: 0 | K94: 0 | L94: 0 | M94: 0 | N94: 0
F95: 14. | G95: Babalan | H95: 0 | I95: 1 | J95: 0 | K95: 0 | L95: 0 | M95: 0 | N95: 0
F96: 15. | G96: Pangkalan Susu | H96: 0 | I96: 1 | J96: 0 | K96: 0 | L96: 0 | M96: 0 | N96: 0
F97: 16. | G97: Besitang | H97: 1 | I97: 0 | J97: 0 | K97: 0 | L97: 0 | M97: 0 | N97: 0 | P97: 1
F98: 17. | G98: Sei Lepan | H98: 0 | I98: 1 | J98: 0 | K98: 0 | L98: 0 | M98: 0 | N98: 0
F99: 18. | G99: Brandan Barat | H99: 0 | I99: 1 | J99: 0 | K99: 0 | L99: 0 | M99: 0 | N99: 0
F100: 19. | G100: Batang Serangan | H100: 0 | I100: 1 | J100: 0 | K100: 0 | L100: 0 | M100: 0 | N100: 0
F101: 20. | G101: Sawit Seberang | H101: 0 | I101: 1 | J101: 0 | K101: 0 | L101: 0 | M101: 0 | N101: 0
F102: 21. | G102: Sirapit | H102: 0 | I102: 1 | J102: 0 | K102: 0 | L102: 0 | M102: 0 | N102: 0
F103: 22. | G103: Kutambaru | H103: 0 | I103: 1 | J103: 0 | K103: 0 | L103: 0 | M103: 0 | N103: 0
F104: 23. | G104: Pematang Jaya | H104: 0 | I104: 1 | J104: 0 | K104: 0 | L104: 0 | M104: 0 | N104: 0
H106: =SUM(H82:H104) -> 3 | I106: =SUM(I82:I104) -> 20 | J106: =SUM(J82:J104) -> 0 | K106: =SUM(K82:K104) -> 0 | L106: =SUM(L82:L104) -> 0 | M106: =SUM(M82:M104) -> 0 | N106: =SUM(N82:N104) -> 0 | O106: =SUM(O82:O104) -> 0
C109: 6. | D109: Karo | E109: - | F109: 1. | G109: Kabanjahe | H109: 0 | I109: 1 | J109: 0 | K109: 0 | L109: 0 | M109: 0 | N109: 0
F110: 2. | G110: Berastagi | H110: 0 | I110: 1 | J110: 0 | K110: 0 | L110: 0 | M110: 0 | N110: 0
F111: 3. | G111: Barusjahe | H111: 0 | I111: 1 | J111: 0 | K111: 0 | L111: 0 | M111: 0 | N111: 0
F112: 4. | G112: Tigapanah | H112: 0 | I112: 1 | J112: 0 | K112: 0 | L112: 0 | M112: 0 | N112: 0
F113: 5. | G113: Merek | H113: 0 | I113: 1 | J113: 0 | K113: 0 | L113: 0 | M113: 0 | N113: 0
F114: 6. | G114: Munte | H114: 0 | I114: 1 | J114: 0 | K114: 0 | L114: 0 | M114: 0 | N114: 0
F115: 7. | G115: Juhar | H115: 0 | I115: 1 | J115: 0 | K115: 0 | L115: 0 | M115: 0 | N115: 0
F116: 8. | G116: Tigabinanga | H116: 0 | I116: 1 | J116: 0 | K116: 0 | L116: 0 | M116: 0 | N116: 0
F117: 9. | G117: Laubaleng | H117: 0 | I117: 1 | J117: 0 | K117: 0 | L117: 0 | M117: 0 | N117: 0
F118: 10. | G118: Mardingding | H118: 0 | I118: 1 | J118: 0 | K118: 0 | L118: 0 | M118: 0 | N118: 0
F119: 11. | G119: Payung | H119: 0 | I119: 1 | J119: 0 | K119: 0 | L119: 0 | M119: 0 | N119: 0
F120: 12. | G120: Simpang Empat | H120: 0 | I120: 1 | J120: 0 | K120: 0 | L120: 0 | M120: 0 | N120: 0
F121: 13. | G121: Kutabuluh | H121: 0 | I121: 1 | J121: 0 | K121: 0 | L121: 0 | M121: 0 | N121: 0
... F125: 17. | G125: Tigan Derket | H125: 0 | I125: 1 | J125: 0 | K125: 0 | L125: 0 | M125: 0 | N125: 0
H127: =SUM(H109:H125) -> 0 | I127: =SUM(I109:I125) -> 17 | J127: =SUM(J109:J125) -> 0 | K127: =SUM(K109:K125) -> 0 | L127: =SUM(L109:L125) -> 0 | M127: =SUM(M109:M125) -> 0 | N127: =SUM(N109:N125) -> 0 | O127: =SUM(O109:O125) -> 0
C130: 7. | D130: Deli Serdang | E130: - | F130: 1. | G130: Gunung Meriah | H130: 1 | I130: 0 | J130: 0 | K130: 0 | L130: 0 | M130: 0 | N130: 0 | P130: 1
...

Sheet 3.sumbar
A1: DATA PATEN
A3: NO. | B3: PROVINSI | C3: NO. | D3: KAB | E3: KOTA | F3: NO. | G3: KEC | H3: PATEN | I3: BELUM PATEN | J3: TAHUN | R3: JENIS PERIZINAN YANG DILIMPAHKAN | S3: DASAR HUKUM | T3: KET
J4: 2010 | K4: 2011 | L4: 2012 | M4: 2013 | N4: 2014 | O4: 2015 | P4: 2016 | Q4: 2017
A5: 1 | B5: 2 | C5: 3 | D5: 4 | E5: 5 | F5: 6 | G5: 7 | H5: 8 | I5: 9 | J5: 10 | P5: 11 | Q5: 11 | R5: 12 | S5: 13 | T5: 14
A7: 3. | B7: SUMBAR | C7: 1. | D7: Pesisir Selatan | E7: - | F7: 1. | G7: Pancung Soal | H7: 0 | I7: 1 | J7: 0 | K7: 0 | L7: 0 | M7: 0 | N7: 0
F8: 2. | G8: Ranah Pesisir | H8: 0 | I8: 1 | J8: 0 | K8: 0 | L8: 0 | M8: 0 | N8: 0
F9: 3. | G9: Lengayang | H9: 0 | I9: 1 | J9: 0 | K9: 0 | L9: 0 | M9: 0 | N9: 0
F10: 4. | G10: Batang Kapas | H10: 0 | I10: 1 | J10: 0 | K10: 0 | L10: 0 | M10: 0 | N10: 0
F11: 5. | G11: IV Jurai | H11: 0 | I11: 1 | J11: 0 | K11: 0 | L11: 0 | M11: 0 | N11: 0
F12: 6. | G12: Bayang | H12: 0 | I12: 1 | J12: 0 | K12: 0 | L12: 0 | M12: 0 | N12: 0
F13: 7. | G13: Koto XI Tarusan | H13: 0 | I13: 1 | J13: 0 | K13: 0 | L13: 0 | M13: 0 | N13: 0
F14: 8. | G14: Sutera | H14: 0 | I14: 1 | J14: 0 | K14: 0 | L14: 0 | M14: 0 | N14: 0
F15: 9. | G15: Linggo Sari Baganti | H15: 0 | I15: 1 | J15: 0 | K15: 0 | L15: 0 | M15: 0 | N15: 0
F16: 10. | G16: Lunang | H16: 0 | I16: 1 | J16: 0 | K16: 0 | L16: 0 | M16: 0 | N16: 0
F17: 11. | G17: Basa Ampek Balai Tapan | H17: 0 | I17: 1 | J17: 0 | K17: 0 | L17: 0 | M17: 0 | N17: 0
F18: 12. | G18: IV Nagan Bayang Utara | H18: 0 | I18: 1 | J18: 0 | K18: 0 | L18: 0 | M18: 0 | N18: 0
F19: 13. | G19: Airpura | H19: 0 | I19: 1 | J19: 0 | K19: 0 | L19: 0 | M19: 0 | N19: 0
... F21: 15. | G21: Silaut | H21: 0 | I21: 1 | J21: 0 | K21: 0 | L21: 0 | M21: 0 | N21: 0
H23: =SUM(H7:H21) -> 0 | I23: =SUM(I7:I21) -> 15 | J23: =SUM(J7:J21) -> 0 | K23: =SUM(K7:K21) -> 0 | L23: =SUM(L7:L21) -> 0 | M23: =SUM(M7:M21) -> 0 | N23: =SUM(N7:N21) -> 0 | O23: =SUM(O7:O21) -> 0
C26: 2. | D26: Solok | E26: - | F26: 1. | G26: Pantai Cermin | H26: 0 | I26: 1 | J26: 0 | K26: 0 | L26: 0 | M26: 0 | N26: 0
F27: 2. | G27: Lembah Gumantri | H27: 0 | I27: 1 | J27: 0 | K27: 0 | L27: 0 | M27: 0 | N27: 0
F28: 3. | G28: Payung Sekaki | H28: 0 | I28: 1 | J28: 0 | K28: 0 | L28: 0 | M28: 0 | N28: 0
F29: 4. | G29: Lembang Jaya | H29: 0 | I29: 1 | J29: 0 | K29: 0 | L29: 0 | M29: 0 | N29: 0
F30: 5. | G30: Gunung Talang | H30: 0 | I30: 1 | J30: 0 | K30: 0 | L30: 0 | M30: 0 | N30: 0
F31: 6. | G31: Bukit Sundi | H31: 0 | I31: 1 | J31: 0 | K31: 0 | L31: 0 | M31: 0 | N31: 0
F32: 7. | G32: IX Kote Sei Lasi | H32: 0 | I32: 1 | J32: 0 | K32: 0 | L32: 0 | M32: 0 | N32: 0
F33: 8. | G33: Kubung | H33: 0 | I33: 1 | J33: 0 | K33: 0 | L33: 0 | M33: 0 | N33: 0
F34: 9. | G34: X Koto Singkarak | H34: 0 | I34: 1 | J34: 0 | K34: 0 | L34: 0 | M34: 0 | N34: 0
F35: 10. | G35: X Koto Diatas | H35: 0 | I35: 1 | J35: 0 | K35: 0 | L35: 0 | M35: 0 | N35: 0
F36: 11. | G36: Junjung Siri | H36: 0 | I36: 1 | J36: 0 | K36: 0 | L36: 0 | M36: 0 | N36: 0
F37: 12. | G37: Hiliran Gumantri | H37: 0 | I37: 1 | J37: 0 | K37: 0 | L37: 0 | M37: 0 | N37: 0
F38: 13. | G38: Tigo Lurah | H38: 0 | I38: 1 | J38: 0 | K38: 0 | L38: 0 | M38: 0 | N38: 0
F39: 14. | G39: Danau Kembar | H39: 0 | I39: 1 | J39: 0 | K39: 0 | L39: 0 | M39: 0 | N39: 0
H41: =SUM(H26:H39) -> 0 | I41: =SUM(I26:I39) -> 14 | J41: =SUM(J26:J39) -> 0 | K41: =SUM(K26:K39) -> 0 | L41: =SUM(L26:L39) -> 0 | M41: =SUM(M26:M39) -> 0 | N41: =SUM(N26:N39) -> 0 | O41: =SUM(O26:O39) -> 0
C44: 3. | D44: Sijunjung | E44: - | F44: 1. | G44: Tanjung Gadang | H44: 1 | J44: 0 | K44: 0 | L44: 0 | M44: 0 | N44: 0 | Q44: 1 | S44: perbup sijunjung no 30 tahun 2014 tentang pelimpahan sebagian wewenang bupati kepada camat
F45: 2. | G45: Sijunjung | H45: 1 | J45: 0 | K45: 0 | L45: 0 | M45: 0 | N45: 0 | Q45: 1 | S45: perbup sijunjung no 45 tahun 2014 tentang standar pelayanan perizinan dan non perizinan PATEN Di Kabupaten Sijunjung
F46: 3. | G46: IV Nagari | H46: 1 | J46: 0 | K46: 0 | L46: 0 | M46: 0 | N46: 0 | Q46: 1 | S46: perbup Sijunjung no 2 tahun 2015 tentang uraian tugas pelaksana PATEN Di kab Sijunjung
F47: 4. | G47: Kamang Baru | H47: 1 | J47: 0 | K47: 0 | L47: 0 | M47: 0 | N47: 0 | Q47: 1
F48: 5. | G48: Lubuak Tarok | H48: 1 | J48: 0 | K48: 0 | L48: 0 | M48: 0 | N48: 0 | Q48: 1
F49: 6. | G49: Koto VII | H49: 1 | J49: 0 | K49: 0 | L49: 0 | M49: 0 | N49: 0 | Q49: 1
F50: 7. | G50: Sumpur Kudus | H50: 1 | J50: 0 | K50: 0 | L50: 0 | M50: 0 | N50: 0 | Q50: 1
F51: 8. | G51: Kupitan | H51: 1 | J51: 0 | K51: 0 | L51: 0 | M51: 0 | N51: 0 | Q51: 1
H53: =SUM(H44:H51) -> 8 | I53: =SUM(I44:I51) -> 0 | J53: =SUM(J44:J51) -> 0 | K53: =SUM(K44:K51) -> 0 | L53: =SUM(L44:L51) -> 0 | M53: =SUM(M44:M51) -> 0 | N53: =SUM(N44:N51) -> 0 | O53: =SUM(O44:O51) -> 0
C56: 4. | D56: Tanah Datar | E56: - | F56: 1. | G56: X Koto | H56: 0 | I56: 1 | J56: 0 | K56: 0 | L56: 0 | M56: 0 | N56: 0 | S56: Peraturan bupati Tanah Datar Nomor 52 Tahun 2015 tentang Uraian Tugas Pelaksana PATEN Di Kabupaten Tanah Datar
F57: 2. | G57: Batipuh | H57: 0 | I57: 1 | J57: 0 | K57: 0 | L57: 0 | M57: 0 | N57: 0
F58: 3. | G58: Rambatan | H58: 0 | I58: 1 | J58: 0 | K58: 0 | L58: 0 | M58: 0 | N58: 0
F59: 4. | G59: Lima Kaum | H59: 0 | I59: 1 | J59: 0 | K59: 0 | L59: 0 | M59: 0 | N59: 0
F60: 5. | G60: Tanjung Emas | H60: 0 | I60: 1 | J60: 0 | K60: 0 | L60: 0 | M60: 0 | N60: 0 | S60: Perbup Tanah Datar Nomor 51 Tahun 2015 tentang Perubahan atas Perbup Tanah Datar Nomor 40 Tahun 2015 tentang Pelimpahan sebagian kewenangan Bupati kepada Camat
F61: 6. | G61: Lintau Buo | H61: 0 | I61: 1 | J61: 0 | K61: 0 | L61: 0 | M61: 0 | N61: 0
F62: 7. | G62: Sungayang | H62: 0 | I62: 1 | J62: 0 | K62: 0 | L62: 0 | M62: 0 | N62: 0
F63: 8. | G63: Sungai Tarab | H63: 0 | I63: 1 | J63: 0 | K63: 0 | L63: 0 | M63: 0 | N63: 0
F64: 9. | G64: Pariangan | H64: 0 | I64: 1 | J64: 0 | K64: 0 | L64: 0 | M64: 0 | N64: 0
F65: 10. | G65: Salimpauang | H65: 0 | I65: 1 | J65: 0 | K65: 0 | L65: 0 | M65: 0 | N65: 0
F66: 11. | G66: Padang Ganting | H66: 0 | I66: 1 | J66: 0 | K66: 0 | L66: 0 | M66: 0 | N66: 0
F67: 12. | G67: Tanjuang Baru | H67: 0 | I67: 1 | J67: 0 | K67: 0 | L67: 0 | M67: 0 | N67: 0
F68: 13. | G68: Lintau Buo Utara | H68: 0 | I68: 1 | J68: 0 | K68: 0 | L68: 0 | M68: 0 | N68: 0
F69: 14. | G69: Batipuah Selatan | H69: 0 | I69: 1 | J69: 0 | K69: 0 | L69: 0 | M69: 0 | N69: 0
H71: =SUM(H56:H69) -> 0 | I71: =SUM(I56:I69) -> 14 | J71: =SUM(J56:J69) -> 0 | K71: =SUM(K56:K69) -> 0 | L71: =SUM(L56:L69) -> 0 | M71: =SUM(M56:M69) -> 0 | N71: =SUM(N56:N69) -> 0 | O71: =SUM(O56:O69) -> 0
C74: 5. | D74: Padang Pariaman | E74: - | F74: 1. | G74: Lubuk Alung | H74: 1 | I74: 0 | J74: 0 | K74: 0 | L74: 0 | M74: 0 | N74: 1 | O74: 1 | R74: Data ketinggalan | S74: Kep. Bup. Padang Pariaman No. 167/KEP/BPP/ 2014 ttg Penetapan Kec Sebagai Penyelenggara PATEN di Kab. Padang Pariaman | T74: Diresmikan tgl 2 Juni 2014 di Kec. Lubuk Aluang
F75: 2. | G75: Batang Anai | H75: 1 | I75: 0 | J75: 0 | K75: 0 | L75: 0 | M75: 0 | N75: 1 | O75: 1
F76: 3. | G76: Nan Sabaris | H76: 1 | I76: 0 | J76: 0 | K76: 0 | L76: 0 | M76: 0 | N76: 1 | O76: 1
F77: 4. | G77: 2 x 11 Enam Lingkung | H77: 1 | I77: 0 | J77: 0 | K77: 0 | L77: 0 | M77: 0 | N77: 1 | O77: 1
F78: 5. | G78: VII Koto Sungai Sarik | H78: 1 | I78: 0 | J78: 0 | K78: 0 | L78: 0 | M78: 0 | N78: 1 | O78: 1 | S78: Perbup Padang Pariaman NO 29 Tahun 2018 tentang perub atas perbup padang pariaman no 8 tahun 2014 tentang pelimpahan sebagian wewenang bupati kepada camat untuk menangani sebagian urusan otda
F79: 6. | G79: V Koto Kampung Dalam | H79: 1 | I79: 0 | J79: 0 | K79: 0 | L79: 0 | M79: 0 | N79: 1 | O79: 1
F80: 7. | G80: Sungai Garingging | H80: 1 | I80: 0 | J80: 0 | K80: 0 | L80: 0 | M80: 0 | N80: 1 | O80: 1
F81: 8. | G81: Sungai Limau | H81: 1 | I81: 0 | J81: 0 | K81: 0 | L81: 0 | M81: 0 | N81: 1 | O81: 1
F82: 9. | G82: IV Koto Aur Malintang | H82: 1 | I82: 0 | J82: 0 | K82: 0 | L82: 0 | M82: 0 | N82: 1 | O82: 1
F83: 10. | G83: Ulakan Tapakih | H83: 1 | I83: 0 | J83: 0 | K83: 0 | L83: 0 | M83: 0 | N83: 1 | O83: 1
F84: 11. | G84: Sintuak Toboh Gadang | H84: 1 | I84: 0 | J84: 0 | K84: 0 | L84: 0 | M84: 0 | N84: 1 | O84: 1
F85: 12. | G85: Padang Sago | H85: 1 | I85: 0 | J85: 0 | K85: 0 | L85: 0 | M85: 0 | N85: 1 | O85: 1
F86: 13. | G86: Batang Gasan | H86: 1 | I86: 0 | J86: 0 | K86: 0 | L86: 0 | M86: 0 | N86: 1 | O86: 1
F87: 14. | G87: V Koto Timur | H87: 1 | I87: 0 | J87: 0 | K87: 0 | L87: 0 | M87: 0 | N87: 1 | O87: 1
F88: 15. | G88: 2 x 11 Kayu Tanam | H88: 1 | I88: 0 | J88: 0 | K88: 0 | L88: 0 | M88: 0 | N88: 1 | O88: 1
F89: 16. | G89: Patamuan | H89: 1 | I89: 0 | J89: 0 | K89: 0 | L89: 0 | M89: 0 | N89: 1 | O89: 1
F90: 17. | G90: Enam Lingkung | H90: 1 | I90: 0 | J90: 0 | K90: 0 | L90: 0 | M90: 0 | N90: 1 | O90: 1
H92: =SUM(H74:H90) -> 17 | I92: =SUM(I74:I90) -> 0 | J92: =SUM(J74:J90) -> 0 | K92: =SUM(K74:K90) -> 0 | L92: =SUM(L74:L90) -> 0 | M92: =SUM(M74:M90) -> 0 | N92: =SUM(N74:N90) -> 17 | O92: =SUM(O74:O90) -> 17
C95: 6. | D95: Agam | E95: - | F95: 1. | G95: Tanjung Mutiara | H95: 0 | I95: 1 | J95: 0 | K95: 0 | L95: 0 | M95: 0 | N95: 0 | S95: Perbup nomor 30 tahun 2014 tentang pelimpahan sebagian kewenangan Bupati Agam kepada camat untuk melaksanakan urusan pemda
F96: 2. | G96: Lubuk Basung | H96: 0 | I96: 1 | J96: 0 | K96: 0 | L96: 0 | M96: 0 | N96: 0
F97: 3. | G97: Tanjung Raya | H97: 0 | I97: 1 | J97: 0 | K97: 0 | L97: 0 | M97: 0 | N97: 0
F98: 4. | G98: Matur | H98: 0 | I98: 1 | J98: 0 | K98: 0 | L98: 0 | M98: 0 | N98: 0
F99: 5. | G99: IV Koto | H99: 0 | I99: 1 | J99: 0 | K99: 0 | L99: 0 | M99: 0 | N99: 0
F100: 6. | G100: Banuhampu | H100: 0 | I100: 1 | J100: 0 | K100: 0 | L100: 0 | M100: 0 | N100: 0
F101: 7. | G101: IV Angkat Candung | H101: 0 | I101: 1 | J101: 0 | K101: 0 | L101: 0 | M101: 0 | N101: 0
F102: 8. | G102: Baso | H102: 0 | I102: 1 | J102: 0 | K102: 0 | L102: 0 | M102: 0 | N102: 0
F103: 9. | G103: Tilatang Kamang | H103: 0 | I103: 1 | J103: 0 | K103: 0 | L103: 0 | M103: 0 | N103: 0
F104: 10. | G104: Palupuh | H104: 0 | I104: 1 | J104: 0 | K104: 0 | L104: 0 | M104: 0 | N104: 0
F105: 11. | G105: Palembayan | H105: 0 | I105: 1 | J105: 0 | K105: 0 | L105: 0 | M105: 0 | N105: 0
F106: 12. | G106: Sungai Puah | H106: 0 | I106: 1 | J106: 0 | K106: 0 | L106: 0 | M106: 0 | N106: 0
F107: 13. | G107: Ampek Nagari | H107: 0 | I107: 1 | J107: 0 | K107: 0 | L107: 0 | M107: 0 | N107: 0
... F110: 16. | G110: Malalak | H110: 0 | I110: 1 | J110: 0 | K110: 0 | L110: 0 | M110: 0 | N110: 0
H112: =SUM(H95:H110) -> 0 | I112: =SUM(I95:I110) -> 16 | J112: =SUM(J95:J110) -> 0 | K112: =SUM(K95:K110) -> 0 | L112: =SUM(L95:L110) -> 0 | M112: =SUM(M95:M110) -> 0 | N112: =SUM(N95:N110) -> 0 | O112: =SUM(O95:O110) -> 0
C115: 7. | D115: Lima Puluh Kota | E115: - | F115: 1. | G115: Suliki | H115: 0 | I115: 1 | J115: 0 | K115: 0 | L115: 0 | M115: 0 | N115: 0 | R115: 1. Izin penggunaan fasilitas umum | S115: 1). Perbup Lima Puluh Kota No. 61 Tahun 2013 tgl 12 Nov 2013 ttg Pedoman Pelaksanaan PATEN di Kab. Lima Puluh Kota | T115: Belum diresmikan
F116: 2. | G116: Guguak | H116: 0 | I116: 1 | J116: 0 | K116: 0 | L116: 0 | M116: 0 | N116: 0 | R116: 2. Izin pengelolaan pemondokan/kos2an
F117: 3. | G117: Payakumbuh | H117: 0 | I117: 1 | J117: 0 | K117: 0 | L117: 0 | M117: 0 | N117: 0 | R117: 3. Izin pendirian papan iklan/reklame
F118: 4. | G118: Luak | H118: 0 | I118: 1 | J118: 0 | K118: 0 | L118: 0 | M118: 0 | N118: 0 | R118: 4. Izin pemasangan baliho/umbul2 | S118: 2). Perbup Lima Puluh Kota No. 62 Tahun 2013 tgl 18 Nov 2013 ttg Pendelegasian Sebagian Kewenangan Bup kpd Camat Dalam Bidang Pelayanan Perizinan & Non Perizinan di Kab. Lima Puluh Kota
F119: 5. | G119: Harau | H119: 1 | I119: 0 | J119: 0 | K119: 0 | L119: 0 | M119: 1 | N119: 0 | O119: 1 | R119: 5. IMB tidak bertingkat dan/atau luas s.d. 100m²
F120: 6. | G120: Pangkalan Koto Baru | H120: 0 | I120: 1 | J120: 0 | K120: 0 | L120: 0 | M120: 0 | N120: 0
F121: 7. | G121: Kapur IX | H121: 1 | I121: 0 | J121: 0 | K121: 0 | L121: 0 | M121: 1 | N121: 0 | O121: 1
F122: 8. | G122: Gunuang Omeh | H122: 0 | I122: 1 | J122: 0 | K122: 0 | L122: 0 | M122: 0 | N122: 0
F123: 9. | G123: Lareh Sago Halaban | H123: 1 | I123: 0 | J123: 0 | K123: 0 | L123: 0 | M123: 1 | N123: 0 | O123: 1 | S123: 3). SK Bup Lima Puluh Kota No. 585 Tahun 2013 tgl 8 Nov 2013 ttg Penetapan Kec Percontohan Penyelenggara PATEN di Kab. Lima Puluh Kota
...

Sheet 4.riau
A1: DATA PATEN
A3: NO. | B3: PROVINSI | C3: NO. | D3: KAB | E3: KOTA | F3: NO. | G3: KEC | H3: PATEN | I3: BELUM PATEN | J3: TAHUN | R3: JENIS PERIZINAN YANG DILIMPAHKAN | S3: DASAR HUKUM | T3: KET
J4: 2010 | K4: 2011 | L4: 2012 | M4: 2013 | N4: 2014 | O4: 2015 | P4: 2016 | Q4: 2017
A5: 1 | B5: 2 | C5: 3 | D5: 4 | E5: 5 | F5: 6 | G5: 7 | H5: 8 | I5: 9 | J5: 10 | R5: 11 | S5: 12 | T5: 13
A7: 4. | B7: RIAU | C7: 1. | D7: Kampar | E7: - | F7: 1. | G7: Bangkinang | H7: 0 | I7: 1 | J7: 0 | K7: 0 | L7: 0 | M7: 0 | N7: 0
F8: 2. | G8: Kampar | H8: 0 | I8: 1 | J8: 0 | K8: 0 | L8: 0 | M8: 0 | N8: 0
F9: 3. | G9: Tambang | H9: 0 | I9: 1 | J9: 0 | K9: 0 | L9: 0 | M9: 0 | N9: 0
F10: 4. | G10: XIII Koto Kampar | H10: 0 | I10: 1 | J10: 0 | K10: 0 | L10: 0 | M10: 0 | N10: 0
F11: 5. | G11: Kuok | H11: 0 | I11: 1 | J11: 0 | K11: 0 | L11: 0 | M11: 0 | N11: 0
F12: 6. | G12: Siak Hulu | H12: 0 | I12: 1 | J12: 0 | K12: 0 | L12: 0 | M12: 0 | N12: 0
F13: 7. | G13: Kampar Kiri | H13: 0 | I13: 1 | J13: 0 | K13: 0 | L13: 0 | M13: 0 | N13: 0
F14: 8. | G14: Kampar Kiri Hilir | H14: 0 | I14: 1 | J14: 0 | K14: 0 | L14: 0 | M14: 0 | N14: 0
F15: 9. | G15: Kampar Kiri Hulu | H15: 0 | I15: 1 | J15: 0 | K15: 0 | L15: 0 | M15: 0 | N15: 0
F16: 10. | G16: Tapung | H16: 0 | I16: 1 | J16: 0 | K16: 0 | L16: 0 | M16: 0 | N16: 0
F17: 11. | G17: Tapung Hilir | H17: 0 | I17: 1 | J17: 0 | K17: 0 | L17: 0 | M17: 0 | N17: 0
F18: 12. | G18: Tapung Hulu | H18: 0 | I18: 1 | J18: 0 | K18: 0 | L18: 0 | M18: 0 | N18: 0
F19: 13. | G19: Salo | H19: 0 | I19: 1 | J19: 0 | K19: 0 | L19: 0 | M19: 0 | N19: 0
... F27: 21. | G27: Koto Kampar Hulu | H27: 0 | I27: 1 | J27: 0 | K27: 0 | L27: 0 | M27: 0 | N27: 0
H29: =SUM(H7:H27) -> 0 | I29: =SUM(I7:I27) -> 21 | J29: =SUM(J7:J27) -> 0 | K29: =SUM(K7:K27) -> 0 | L29: =SUM(L7:L27) -> 0 | M29: =SUM(M7:M27) -> 0 | N29: =SUM(N7:N27) -> 0 | O29: =SUM(O7:O27) -> 0
C32: 2. | D32: Indragiri Hulu | E32: - | F32: 1. | G32: Rengat | H32: 0 | I32: 1 | J32: 0 | K32: 0 | L32: 0 | M32: 0 | N32: 0 | S32: Perbup Indragiri Hulu Nomor 25 Tahun 2013 tentang pelimpahan sebagian kewenangan pemerintahan dari bupati indragiri hulu kepada camat sekabupaten indragiri hulu
F33: 2. | G33: Rengat Barat | H33: 0 | I33: 1 | J33: 0 | K33: 0 | L33: 0 | M33: 0 | N33: 0
F34: 3. | G34: Kelayang | H34: 0 | I34: 1 | J34: 0 | K34: 0 | L34: 0 | M34: 0 | N34: 0
F35: 4. | G35: Pasir Penyu | H35: 0 | I35: 1 | J35: 0 | K35: 0 | L35: 0 | M35: 0 | N35: 0
F36: 5. | G36: Peranap | H36: 0 | I36: 1 | J36: 0 | K36: 0 | L36: 0 | M36: 0 | N36: 0
F37: 6. | G37: Siberida | H37: 0 | I37: 1 | J37: 0 | K37: 0 | L37: 0 | M37: 0 | N37: 0
F38: 7. | G38: Batang Cenaku | H38: 0 | I38: 1 | J38: 0 | K38: 0 | L38: 0 | M38: 0 | N38: 0
F39: 8. | G39: Batang Gangsal | H39: 0 | I39: 1 | J39: 0 | K39: 0 | L39: 0 | M39: 0 | N39: 0
F40: 9. | G40: Lirik | H40: 0 | I40: 1 | J40: 0 | K40: 0 | L40: 0 | M40: 0 | N40: 0
F41: 10. | G41: Kuala Cenaku | H41: 0 | I41: 1 | J41: 0 | K41: 0 | L41: 0 | M41: 0 | N41: 0
F42: 11. | G42: Sungai Lala | H42: 0 | I42: 1 | J42: 0 | K42: 0 | L42: 0 | M42: 0 | N42: 0
F43: 12. | G43: Lubuk Batu Raya | H43: 0 | I43: 1 | J43: 0 | K43: 0 | L43: 0 | M43: 0 | N43: 0
F44: 13. | G44: Rakit Kulim | H44: 0 | I44: 1 | J44: 0 | K44: 0 | L44: 0 | M44: 0 | N44: 0
F45: 14. | G45: Batang Peranap | H45: 0 | I45: 1 | J45: 0 | K45: 0 | L45: 0 | M45: 0 | N45: 0
H47: =SUM(H32:H45) -> 0 | I47: =SUM(I32:I45) -> 14 | J47: =SUM(J32:J45) -> 0 | K47: =SUM(K32:K45) -> 0 | L47: =SUM(L32:L45) -> 0 | M47: =SUM(M32:M45) -> 0 | N47: =SUM(N32:N45) -> 0 | O47: =SUM(O32:O45) -> 0
C50: 3. | D50: Bengkalis | E50: - | F50: 1. | G50: Bengkalis | H50: 0 | I50: 1 | J50: 0 | K50: 0 | L50: 0 | M50: 0 | N50: 0
F51: 2. | G51: Bantan | H51: 0 | I51: 1 | J51: 0 | K51: 0 | L51: 0 | M51: 0 | N51: 0
F52: 3. | G52: Bukit Batu | H52: 0 | I52: 1 | J52: 0 | K52: 0 | L52: 0 | M52: 0 | N52: 0
F53: 4. | G53: Mandau | H53: 0 | I53: 1 | J53: 0 | K53: 0 | L53: 0 | M53: 0 | N53: 0
F54: 5. | G54: Rupat | H54: 0 | I54: 1 | J54: 0 | K54: 0 | L54: 0 | M54: 0 | N54: 0
F55: 6. | G55: Rupat Utara | H55: 0 | I55: 1 | J55: 0 | K55: 0 | L55: 0 | M55: 0 | N55: 0
F56: 7. | G56: Siak Kecil | H56: 0 | I56: 1 | J56: 0 | K56: 0 | L56: 0 | M56: 0 | N56: 0
F57: 8. | G57: Pinggir | H57: 0 | I57: 1 | J57: 0 | K57: 0 | L57: 0 | M57: 0 | N57: 0
H59: =SUM(H50:H57) -> 0 | I59: =SUM(I50:I57) -> 8 | J59: =SUM(J50:J57) -> 0 | K59: =SUM(K50:K57) -> 0 | L59: =SUM(L50:L57) -> 0 | M59: =SUM(M50:M57) -> 0 | N59: =SUM(N50:N57) -> 0 | O59: =SUM(O50:O57) -> 0
C62: 4. | D62: Indragiri Hilir | E62: - | F62: 1. | G62: Reteh | H62: 1 | I62: 0 | J62: 0 | K62: 0 | L62: 0 | M62: 1 | N62: 1 | O62: 1 | R62: 1. IMB (Rumah tempat tinggal non permanen, rumah tempat tinggal semi permanen, kios non/semi permanen | S62: 1). Perbup Inhil No. 14 Thn 2013 tgl 21 Mei 2013 ttg Pelimpahan Sebagian Kewenangan Bup kpd Camat Untuk Melaksanakan Urusan Pemerintahan Daerah
F63: 2. | G63: Enok | H63: 1 | I63: 0 | J63: 0 | K63: 0 | L63: 0 | M63: 1 | N63: 1 | O63: 1
F64: 3. | G64: Kuala Indragiri | H64: 1 | I64: 0 | J64: 0 | K64: 0 | L64: 0 | M64: 1 | N64: 1 | O64: 1
F65: 4. | G65: Tembilahan | H65: 1 | I65: 0 | J65: 0 | K65: 0 | L65: 0 | M65: 1 | N65: 1 | O65: 1 | R65: 2. Izin tempat usaha (HO) (kios dgn ukuran max 12m², warung kedai tempat penjualan makanan & minuman, pengecer BBM, penginapan, wisma)
F66: 5. | G66: Tempuling | H66: 1 | I66: 0 | J66: 0 | K66: 0 | L66: 0 | M66: 1 | N66: 1 | O66: 1 | S66: 2). Perbup Inhil No. 19 Thn 2013 tgl 10 Jun i 2013 ttg Penguatan PATEN (lampiran Uraian Tugas Pelaksanan Teknis PATEN & SP PATEN
F67: 6. | G67: Gaung Anak Serka | H67: 1 | I67: 0 | J67: 0 | K67: 0 | L67: 0 | M67: 1 | N67: 1 | O67: 1
F68: 7. | G68: Mandah | H68: 1 | I68: 0 | J68: 0 | K68: 0 | L68: 0 | M68: 1 | N68: 1 | O68: 1
F69: 8. | G69: Kateman | H69: 1 | I69: 0 | J69: 0 | K69: 0 | L69: 0 | M69: 1 | N69: 1 | O69: 1 | R69: 3. Izin reklame (kain spanduk/umbul2; stiker dalam bentuk label; reklame berjalan pada kendaraan; reklame udara; reklame suara) | S69: 3). SK Bup. Inhil No. 357/IX/HK-2013 tgl 3 Sept 2013 ttg Pembentukan Tim Teknis PATEN di Kab. Inhil Thn 2013
F70: 9. | G70: Keritang | H70: 1 | I70: 0 | J70: 0 | K70: 0 | L70: 0 | M70: 1 | N70: 1 | O70: 1
F71: 10. | G71: Tanah Merah | H71: 1 | I71: 0 | J71: 0 | K71: 0 | L71: 0 | M71: 1 | N71: 1 | O71: 1
F72: 11. | G72: Batang Tuaka | H72: 1 | I72: 0 | J72: 0 | K72: 0 | L72: 0 | M72: 1 | N72: 1 | O72: 1 | R72: 4. Izin keramaian (acara pernikahan, aqiqah, sunatan, selamatan haji, rekreasi & hiburan yg sifatnya insidentil (jangka waktu 1 bulan))
F73: 12. | G73: Gaung | H73: 1 | I73: 0 | J73: 0 | K73: 0 | L73: 0 | M73: 1 | N73: 1 | O73: 1
F74: 13. | G74: Tembilahan Hulu | H74: 1 | I74: 0 | J74: 0 | K74: 0 | L74: 0 | M74: 1 | N74: 1 | O74: 1
F75: 14. | G75: Kemuning | H75: 1 | I75: 0 | J75: 0 | K75: 0 | L75: 0 | M75: 1 | N75: 1 | O75: 1 | R75: 5. Izin tempat makan
F76: 15. | G76: Pelangiran | H76: 1 | I76: 0 | J76: 0 | K76: 0 | L76: 0 | M76: 1 | N76: 1 | O76: 1 | R76: 6. Izin usaha penginapan (untuk jenis penginapan dan pondok wisata)
F77: 16. | G77: Teluk Belengkong | H77: 1 | I77: 0 | J77: 0 | K77: 0 | L77: 0 | M77: 1 | N77: 1 | O77: 1
F78: 17. | G78: Pulau Burung | H78: 1 | I78: 0 | J78: 0 | K78: 0 | L78: 0 | M78: 1 | N78: 1 | O78: 1 | R78: 7. Izin usaha reklame hiburan umum & pangkas rambut (untuk jenis pangkas rambut dgn uk tempat usaha max 12m²)
F79: 18. | G79: Concong | H79: 1 | I79: 0 | J79: 0 | K79: 0 | L79: 0 | M79: 1 | N79: 1 | O79: 1
F80: 19. | G80: Kempas | H80: 1 | I80: 0 | J80: 0 | K80: 0 | L80: 0 | M80: 1 | N80: 1 | O80: 1
F81: 20. | G81: Sungai Batang | H81: 1 | I81: 0 | J81: 0 | K81: 0 | L81: 0 | M81: 1 | N81: 1 | O81: 1 | R81: 8. Izin usaha pengecer BBM (pengecer BBM max 1.000 L)
H83: =SUM(H62:H81) -> 20 | I83: =SUM(I62:I81) -> 0 | J83: =SUM(J62:J81) -> 0 | K83: =SUM(K62:K81) -> 0 | L83: =SUM(L62:L81) -> 0 | M83: =SUM(M62:M81) -> 20 | N83: =SUM(N62:N81) -> 20 | O83: =SUM(O62:O81) -> 20 | R83: 9. Izin usaha rekreasi hiburan umumbalai perawatan kecantikan/tata rias pengantin
R85: 10. Izin usaha rekreasi hiburan umum persewaan video casette
R87: 11. Izin usaha rekreasi hiburan umum jasa boga
R88: 12. Izin usaha kedai kopi max uk 24m²
R89: 13. Izin usaha rumah makan max uk 24m²
C92: 5. | D92: Pelalawan | E92: - | F92: 1. | G92: Ukui | H92: 0 | I92: 1 | J92: 0 | K92: 0 | L92: 0 | M92: 0 | N92: 0
F93: 2. | G93: Pangkalan Kerinci | H93: 0 | I93: 1 | J93: 0 | K93: 0 | L93: 0 | M93: 0 | N93: 0
F94: 3. | G94: Pangkalan Kuras | H94: 0 | I94: 1 | J94: 0 | K94: 0 | L94: 0 | M94: 0 | N94: 0
F95: 4. | G95: Pangkalan Lesung | H95: 0 | I95: 1 | J95: 0 | K95: 0 | L95: 0 | M95: 0 | N95: 0
F96: 5. | G96: Langgam | H96: 0 | I96: 1 | J96: 0 | K96: 0 | L96: 0 | M96: 0 | N96: 0
F97: 6. | G97: Pelalawan | H97: 0 | I97: 1 | J97: 0 | K97: 0 | L97: 0 | M97: 0 | N97: 0
F98: 7. | G98: Kerumutan | H98: 0 | I98: 1 | J98: 0 | K98: 0 | L98: 0 | M98: 0 | N98: 0
F99: 8. | G99: Bunut | H99: 0 | I99: 1 | J99: 0 | K99: 0 | L99: 0 | M99: 0 | N99: 0
F100: 9. | G100: Teluk Meranti | H100: 0 | I100: 1 | J100: 0 | K100: 0 | L100: 0 | M100: 0 | N100: 0
F101: 10. | G101: Kuala Kampar | H101: 0 | I101: 1 | J101: 0 | K101: 0 | L101: 0 | M101: 0 | N101: 0
F102: 11. | G102: Bandar Sei Kijang | H102: 0 | I102: 1 | J102: 0 | K102: 0 | L102: 0 | M102: 0 | N102: 0
F103: 12. | G103: Bandar Petalangan | H103: 0 | I103: 1 | J103: 0 | K103: 0 | L103: 0 | M103: 0 | N103: 0
H105: =SUM(H92:H103) -> 0 | I105: =SUM(I92:I103) -> 12 | J105: =SUM(J92:J103) -> 0 | K105: =SUM(K92:K103) -> 0 | L105: =SUM(L92:L103) -> 0 | M105: =SUM(M92:M103) -> 0 | N105: =SUM(N92:N103) -> 0 | O105: =SUM(O92:O103) -> 0
C108: 6. | D108: Rokan Hulu | E108: - | F108: 1. | G108: Ujung Batu | H108: 1 | I108: 0 | J108: 0 | K108: 1 | L108: 0 | M108: 0 | N108: 0 | O108: 1 | R108: 1. Izin gangguan 50 Jenis | S108: 1). Perbup Rokan Hulu No. 39 Thn 2011 Juni 2011 ttg Pelimpahan Sebagian Kewenangan Bup Rokan Hulu kpd Camat Untuk Melaksanakan Urusan Pemerintahan Daerah
F109: 2. | G109: Rokan IV Koto | H109: 1 | I109: 0 | J109: 0 | K109: 1 | L109: 0 | M109: 0 | N109: 0 | O109: 1 | R109: 2. IMB skala tertentu 4 jenis
F110: 3. | G110: Rambah | H110: 1 | I110: 0 | J110: 0 | K110: 1 | L110: 0 | M110: 0 | N110: 0 | O110: 1 | R110: 3. Izin reklame (tidak permanen) 1 jenis
F111: 4. | G111: Tambusai | H111: 1 | I111: 0 | J111: 0 | K111: 1 | L111: 0 | M111: 0 | N111: 0 | O111: 1 | R111: 4. Izin gangguan kendaraan 1 jenis
F112: 5. | G112: Kepenuhan | H112: 1 | I112: 0 | J112: 0 | K112: 1 | L112: 0 | M112: 0 | N112: 0 | O112: 1 | S112: 2). SK Bup Rokan Hulu No. 284 Thn 2011 tgl 21 Juni 2011 ttg Penetapan Kecamatan Sbg Penyelenggara PATEN di Kab. Rokan Hulu
F113: 6. | G113: Kunto Darussalam | H113: 1 | I113: 0 | J113: 0 | K113: 1 | L113: 0 | M113: 0 | N113: 0 | O113: 1 | R113: Total 50 jenis jumlah perizinan
F114: 7. | G114: Rambah Samo | H114: 1 | I114: 0 | J114: 0 | K114: 1 | L114: 0 | M114: 0 | N114: 0 | O114: 1
F115: 8. | G115: Rambah Hilir | H115: 1 | I115: 0 | J115: 0 | K115: 1 | L115: 0 | M115: 0 | N115: 0 | O115: 1
F116: 9. | G116: Tambusai Utara | H116: 1 | I116: 0 | J116: 0 | K116: 1 | L116: 0 | M116: 0 | N116: 0 | O116: 1
F117: 10. | G117: Bangun Purba | H117: 1 | I117: 0 | J117: 0 | K117: 1 | L117: 0 | M117: 0 | N117: 0 | O117: 1
F118: 11. | G118: Tandun | H118: 1 | I118: 0 | J118: 0 | K118: 1 | L118: 0 | M118: 0 | N118: 0 | O118: 1
F119: 12. | G119: Kabun | H119: 1 | I119: 0 | J119: 0 | K119: 1 | L119: 0 | M119: 0 | N119: 0 | O119: 1
F120: 13. | G120: Bonai Darussalam | H120: 1 | I120: 0 | J120: 0 | K120: 1 | L120: 0 | M120: 0 | N120: 0 | O120: 1
F121: 14. | G121: Pagagaran Tapah Darussalam | H121: 1 | I121: 0 | J121: 0 | K121: 1 | L121: 0 | M121: 0 | N121: 0 | O121: 1
F122: 15. | G122: Kepenuhan Hulu | H122: 1 | I122: 0 | J122: 0 | K122: 1 | L122: 0 | M122: 0 | N122: 0 | O122: 1
F123: 16. | G123: Pendalian IV Koto | H123: 1 | I123: 0 | J123: 0 | K123: 1 | L123: 0 | M123: 0 | N123: 0 | O123: 1
H125: =SUM(H108:H123) -> 16 | I125: =SUM(I108:I123) -> 0 | J125: =SUM(J108:J123) -> 0 | K125: =SUM(K108:K123) -> 16 | L125: =SUM(L108:L123) -> 0 | M125: =SUM(M108:M123) -> 0 | N125: =SUM(N108:N123) -> 0 | O125: =SUM(O108:O123) -> 16
C128: 7. | D128: Rokan Hilir | E128: - | F128: 1. | G128: Kubu | H128: 0 | I128: 1 | J128: 0 | K128: 0 | L128: 0 | M128: 0 | N128: 0 | S128: PERBUP ROKAN HILIR NOMOR 28 TAHUN 2015 TENTANG PELIMPAHAN SEBAGIAN KEWENANGAN BUPATI KEPADA CAMAT UNTUK MELAKSANAKAN URUSAN PEMDA
F129: 2. | G129: Bangko | H129: 0 | I129: 1 | J129: 0 | K129: 0 | L129: 0 | M129: 0 | N129: 0
...

Sheet 5.jambi
A1: DATA PATEN
A3: NO. | B3: PROVINSI | C3: NO. | D3: KAB | E3: KOTA | F3: NO. | G3: KEC | H3: PATEN | I3: BELUM PATEN | J3: TAHUN | R3: JENIS PERIZINAN YANG DILIMPAHKAN | S3: DASAR HUKUM | T3: KET
J4: 2010 | K4: 2011 | L4: 2012 | M4: 2013 | N4: 2014 | O4: 2015 | P4: 2016 | Q4: 2017
A5: 1 | B5: 2 | C5: 3 | D5: 4 | E5: 5 | F5: 6 | G5: 7 | H5: 8 | I5: 9 | J5: 10 | R5: 11 | S5: 12 | T5: 13
A7: 5. | B7: JAMBI | C7: 1. | D7: Kerinci | E7: - | F7: 1. | G7: Gunung Raya | H7: 1 | I7: 0 | J7: 0 | K7: 0 | L7: 0 | M7: 0 | N7: 1 | O7: 1 | S7: perbup kerinci no 23 tahun 2014 tentang pelimpahan sebagian kewenangan bupati kerinci kepada camat untuk melaksanakan urusan pemda | T7: Kec. Gunung Raya, Sitinjau Laut & Gunung Tujuh, Lounching PATEN secara simbolis pada tgl 2 Okt 2014 di Jkt
F8: 2. | G8: Danau Kerinci | H8: 0 | I8: 1 | J8: 0 | K8: 0 | L8: 0 | M8: 0 | N8: 0
F9: 3. | G9: Sitinjau Laut | H9: 1 | I9: 0 | J9: 0 | K9: 0 | L9: 0 | M9: 0 | N9: 1 | O9: 1
F10: 4. | G10: Air Hangat | H10: 0 | I10: 1 | J10: 0 | K10: 0 | L10: 0 | M10: 0 | N10: 0
F11: 5. | G11: Gunung Kerinci | H11: 0 | I11: 1 | J11: 0 | K11: 0 | L11: 0 | M11: 0 | N11: 0
F12: 6. | G12: Batang Merangin | H12: 0 | I12: 1 | J12: 0 | K12: 0 | L12: 0 | M12: 0 | N12: 0
F13: 7. | G13: Keliling Danau | H13: 0 | I13: 1 | J13: 0 | K13: 0 | L13: 0 | M13: 0 | N13: 0
F14: 8. | G14: Kayu Aro | H14: 0 | I14: 1 | J14: 0 | K14: 0 | L14: 0 | M14: 0 | N14: 0
F15: 9. | G15: Air Hangat Timur | H15: 0 | I15: 1 | J15: 0 | K15: 0 | L15: 0 | M15: 0 | N15: 0
F16: 10. | G16: Gunung Tujuh | H16: 1 | I16: 0 | J16: 0 | K16: 0 | L16: 0 | M16: 0 | N16: 1 | O16: 1
F17: 11. | G17: Siulak | H17: 0 | I17: 1 | J17: 0 | K17: 0 | L17: 0 | M17: 0 | N17: 0
F18: 12. | G18: Depati Tujuh | H18: 0 | I18: 1 | J18: 0 | K18: 0 | L18: 0 | M18: 0 | N18: 0
F19: 13. | G19: Siulak Mukai | H19: 0 | I19: 1 | J19: 0 | K19: 0 | L19: 0 | M19: 0 | N19: 0
F20: 14. | G20: Kayu Aro Barat | H20: 0 | I20: 1 | J20: 0 | K20: 0 | L20: 0 | M20: 0 | N20: 0
F21: 15. | G21: Bukitkerman | H21: 0 | I21: 1 | J21: 0 | K21: 0 | L21: 0 | M21: 0 | N21: 0
F22: 16. | G22: Air Hangat Barat | H22: 0 | I22: 1 | J22: 0 | K22: 0 | L22: 0 | M22: 0 | N22: 0
H24: =SUM(H7:H22) -> 3 | I24: =SUM(I7:I22) -> 13 | J24: =SUM(J7:J22) -> 0 | K24: =SUM(K7:K22) -> 0 | L24: =SUM(L7:L22) -> 0 | M24: =SUM(M7:M22) -> 0 | N24: =SUM(N7:N22) -> 3 | O24: =SUM(O7:O22) -> 3
C27: 2. | D27: Merangin | E27: - | F27: 1. | G27: Jangkat | H27: 0 | I27: 1 | J27: 0 | K27: 0 | L27: 0 | M27: 0 | N27: 0
F28: 2. | G28: Bangko | H28: 0 | I28: 1 | J28: 0 | K28: 0 | L28: 0 | M28: 0 | N28: 0
F29: 3. | G29: Muara Siau | H29: 0 | I29: 1 | J29: 0 | K29: 0 | L29: 0 | M29: 0 | N29: 0
F30: 4. | G30: Sungai Manau | H30: 0 | I30: 1 | J30: 0 | K30: 0 | L30: 0 | M30: 0 | N30: 0
F31: 5. | G31: Tabir | H31: 0 | I31: 1 | J31: 0 | K31: 0 | L31: 0 | M31: 0 | N31: 0
F32: 6. | G32: Pamenang | H32: 0 | I32: 1 | J32: 0 | K32: 0 | L32: 0 | M32: 0 | N32: 0
F33: 7. | G33: Tabir Ulu | H33: 0 | I33: 1 | J33: 0 | K33: 0 | L33: 0 | M33: 0 | N33: 0
F34: 8. | G34: Tabir Selatan | H34: 0 | I34: 1 | J34: 0 | K34: 0 | L34: 0 | M34: 0 | N34: 0
F35: 9. | G35: Lembah Masurai | H35: 0 | I35: 1 | J35: 0 | K35: 0 | L35: 0 | M35: 0 | N35: 0
F36: 10. | G36: Bangko Barat | H36: 0 | I36: 1 | J36: 0 | K36: 0 | L36: 0 | M36: 0 | N36: 0
F37: 11. | G37: Nalo Tatan | H37: 0 | I37: 1 | J37: 0 | K37: 0 | L37: 0 | M37: 0 | N37: 0
F38: 12. | G38: Batang Masumai | H38: 0 | I38: 1 | J38: 0 | K38: 0 | L38: 0 | M38: 0 | N38: 0
F39: 13. | G39: Pamenang Barat | H39: 0 | I39: 1 | J39: 0 | K39: 0 | L39: 0 | M39: 0 | N39: 0
... F45: 19. | G45: Renah Pamenang | H45: 0 | I45: 1 | J45: 0 | K45: 0 | L45: 0 | M45: 0 | N45: 0
F46: 20. | G46: Pamenang Selatan | H46: 1 | J46: 0 | K46: 0 | L46: 0 | M46: 0 | N46: 0 | R46: Kepcam pamenang selatan nomor 25 tahun 2018 tentang SOP Paten Kec Pamenang Selatan
F47: 21. | G47: Margo Tabir | H47: 0 | I47: 1 | J47: 0 | K47: 0 | L47: 0 | M47: 0 | N47: 0
F48: 22. | G48: Tabir Lintas | H48: 0 | I48: 1 | J48: 0 | K48: 0 | L48: 0 | M48: 0 | N48: 0
F49: 23. | G49: Tabir Barat | H49: 0 | I49: 1 | J49: 0 | K49: 0 | L49: 0 | M49: 0 | N49: 0
F50: 24. | G50: Tiang Pumpung | H50: 0 | I50: 1 | J50: 0 | K50: 0 | L50: 0 | M50: 0 | N50: 0
H52: =SUM(H27:H50) -> 1 | I52: =SUM(I27:I50) -> 23 | J52: =SUM(J27:J50) -> 0 | K52: =SUM(K27:K50) -> 0 | L52: =SUM(L27:L50) -> 0 | M52: =SUM(M27:M50) -> 0 | N52: =SUM(N27:N50) -> 0 | O52: =SUM(O27:O50) -> 0
C55: 3. | D55: Sarolangun | E55: - | F55: 1. | G55: Batang Asai | H55: 0 | I55: 1 | J55: 0 | K55: 0 | L55: 0 | M55: 0 | N55: 0 | R55: 1. Izin penggunaan/penutupan jalan | S55: Perbup Sarolangun No. 49 Thn 2013 tgl 25 Nov 2013 ttg Pelimpahan Sebagian Kewenangan Pemerintahan dari Bup Kpd Camat | T55: Kec. Mandiangin, Batin VIII & Singkut, Lounching PATEN secara simbolis pada tgl 2 Okt 2014 di Jkt
F56: 2. | G56: Limun | H56: 0 | I56: 1 | J56: 0 | K56: 0 | L56: 0 | M56: 0 | N56: 0 | R56: 2. Izin pertunjukan/hiburan
F57: 3. | G57: Sarolangun | H57: 0 | I57: 1 | J57: 0 | K57: 0 | L57: 0 | M57: 0 | N57: 0 | R57: 3. Izin tempat usaha skala kecil
F58: 4. | G58: Pauh | H58: 0 | I58: 1 | J58: 0 | K58: 0 | L58: 0 | M58: 0 | N58: 0 | R58: 4. Tanda daftar perusahaan (TDP) skala kecil
F59: 5. | G59: Pelawan | H59: 0 | I59: 1 | J59: 0 | K59: 0 | L59: 0 | M59: 0 | N59: 0 | R59: 5. Izin salon skala kecil
F60: 6. | G60: Mandiangin | H60: 1 | I60: 0 | J60: 0 | K60: 0 | L60: 0 | M60: 0 | N60: 1 | O60: 1 | R60: 6. IMB permanen kelas B, permanen ½ bata pilar & semi permanen
F61: 7. | G61: Air Hitam | H61: 0 | I61: 1 | J61: 0 | K61: 0 | L61: 0 | M61: 0 | N61: 0
F62: 8. | G62: Batin VIII | H62: 1 | I62: 0 | J62: 0 | K62: 0 | L62: 0 | M62: 0 | N62: 1 | O62: 1 | R62: 7. Izin pajak pengambilan mineral bukan logam & batuan skala kecil (galian C)
F63: 9. | G63: Singkut | H63: 1 | I63: 0 | J63: 0 | K63: 0 | L63: 0 | M63: 0 | N63: 1 | O63: 1
F64: 10. | G64: Cermin Nan Gedang | H64: 0 | I64: 1 | J64: 0 | K64: 0 | L64: 0 | M64: 0 | N64: 0 | R64: 8. Izin rumah makan/warung skala kecil
R65: 9. Izin reklame skala kecil
H66: =SUM(H55:H64) -> 3 | I66: =SUM(I55:I64) -> 7 | J66: =SUM(J55:J64) -> 0 | K66: =SUM(K55:K64) -> 0 | L66: =SUM(L55:L64) -> 0 | M66: =SUM(M55:M64) -> 0 | N66: =SUM(N55:N64) -> 3 | O66: =SUM(O55:O64) -> 3 | R66: 10. SIUP mikro
C69: 4. | D69: Batanghari | E69: - | F69: 1. | G69: Mersam | H69: 1 | I69: 0 | J69: 0 | K69: 0 | L69: 0 | M69: 0 | N69: 0 | O69: 1 | R69: 1). SITU ≤ 25 m²; 2). Izin gangguan ≤ 25 m²; 3). SIUP kategori kecil; 4). Sirat izin keramaian; 5). Izin cucian kendaraan bermotor; 6). Izin warung nasi/rumah makan/restoran; 7). Izin service elektronik; 8). Izin warung kopi; 9). Izin pedagang kaki lima; 10). Izin catering/tata boga; 11). Izin konter HP; 12). Izin turnamen; 13). Izin penyelenggaraan kursus; 14). Izin operasional perahu motor; 15). Izin usaha peternakan; 16). Izin usaha perikanan kolam & keramba; 17). Izin penggunaan sarana olah raga; 18). Izin tempat kost; 19). Izin usaha kerajinan/makanan; 20). Izin tempat penumpukan kerikil/pasir; 21). Izin usaha tenda; 22). Izin usaha batu bata, konblok, batako & sejenisnya; 23). Izin usaha pedagang keliling | S69: 1). Perbup Batang Hari No. 44 Thn 2011 tgl 26 Juli 2011 ttg Pelimpahan Sebagian Wewenang Bup. Batang Hari kpd Camat
F70: 2. | G70: Muara Tembesi | H70: 1 | I70: 0 | J70: 0 | K70: 0 | L70: 0 | M70: 0 | N70: 0 | O70: 1
F71: 3. | G71: Muara Bulian | H71: 1 | I71: 0 | J71: 0 | K71: 0 | L71: 0 | M71: 0 | N71: 0 | O71: 1
F72: 4. | G72: Batin XXIV | H72: 1 | I72: 0 | J72: 0 | K72: 0 | L72: 0 | M72: 0 | N72: 0 | O72: 1 | S72: 2). SK Bup. Batang Hari No. 739 Thn 2013 tgl 4 Nov 2011 ttg Pembentukan Tim Teknis PATEN Kab. Batang Hari
F73: 5. | G73: Pemayung | H73: 1 | I73: 0 | J73: 0 | K73: 0 | L73: 0 | M73: 0 | N73: 0 | O73: 1
F74: 6. | G74: Maro Sebo Ulu | H74: 1 | I74: 0 | J74: 0 | K74: 0 | L74: 0 | M74: 0 | N74: 0 | O74: 1
F75: 7. | G75: Bajubang | H75: 1 | I75: 0 | J75: 0 | K75: 0 | L75: 0 | M75: 0 | N75: 0 | O75: 1 | S75: 3). Perbup Batang Hari No. 67 Thn 2013 tgl 16 Des 2013 ttg Pelimpahan Kewenangan Bup. Batang Hari kpd Camat Dibidang Perizinan & Non Perizinan
F76: 8. | G76: Maro Sebo Ilir | H76: 1 | I76: 0 | J76: 0 | K76: 0 | L76: 0 | M76: 0 | N76: 0 | O76: 1
H78: =SUM(H69:H76) -> 8 | I78: =SUM(I69:I76) -> 0 | J78: =SUM(J69:J76) -> 0 | K78: =SUM(K69:K76) -> 0 | L78: =SUM(L69:L76) -> 0 | M78: =SUM(M69:M76) -> 0 | N78: =SUM(N69:N76) -> 0 | O78: =SUM(O69:O76) -> 8
S79: 4). Perbup Batang Hari No. 19 Thn 2014 tgl 28 Feb 2014 ttg Uraian Tugas Pelaksana PATEN di Kab. Batang Hari
S82: 5). Perbup Batang Hari No. 19 Thn 2014 tgl 28 Feb 2014 ttg Uraian Tugas Pelaksana PATEN di Kab. Batang Hari
S85: 6). SK Bup. Batang Hari No. 265 Thn 2014 tgl 7 April 2014 ttg Penetapan Kec Sebagai Penyelenggara PATEN Dalam Kab. Batang Hari
R86: Ada 23 jenis perizinan
S88: 7). Perbup Batang Hari No. 23 Thn 2014 tgl 16 April 2014 ttg Standar Pelayanan Perizinan & Non Perizinan PATEN di Kab. Batang Hari
C94: 5. | D94: Muaro Jambi | E94: - | F94: 1. | G94: Jambi Luar Kota | H94: 0 | I94: 1 | J94: 0 | K94: 0 | L94: 0 | M94: 0 | N94: 0
F95: 2. | G95: Sekeman | H95: 0 | I95: 1 | J95: 0 | K95: 0 | L95: 0 | M95: 0 | N95: 0
F96: 3. | G96: Kumpeh | H96: 0 | I96: 1 | J96: 0 | K96: 0 | L96: 0 | M96: 0 | N96: 0
F97: 4. | G97: Maro Sebo | H97: 0 | I97: 1 | J97: 0 | K97: 0 | L97: 0 | M97: 0 | N97: 0
F98: 5. | G98: Mestong | H98: 0 | I98: 1 | J98: 0 | K98: 0 | L98: 0 | M98: 0 | N98: 0
F99: 6. | G99: Kumpeh Ulu | H99: 0 | I99: 1 | J99: 0 | K99: 0 | L99: 0 | M99: 0 | N99: 0
F100: 7. | G100: Sungai Bahar | H100: 0 | I100: 1 | J100: 0 | K100: 0 | L100: 0 | M100: 0 | N100: 0
F101: 8. | G101: Sungai Gelam | H101: 0 | I101: 1 | J101: 0 | K101: 0 | L101: 0 | M101: 0 | N101: 0
F102: 9. | G102: Bahar Utara | H102: 0 | I102: 1 | J102: 0 | K102: 0 | L102: 0 | M102: 0 | N102: 0
F103: 10. | G103: Bahar Selatan | H103: 0 | I103: 1 | J103: 0 | K103: 0 | L103: 0 | M103: 0 | N103: 0
F104: 11. | G104: Taman Rajo | H104: 0 | I104: 1 | J104: 0 | K104: 0 | L104: 0 | M104: 0 | N104: 0
H106: =SUM(H94:H104) -> 0 | I106: =SUM(I94:I104) -> 11 | J106: =SUM(J94:J104) -> 0 | K106: =SUM(K94:K104) -> 0 | L106: =SUM(L94:L104) -> 0 | M106: =SUM(M94:M104) -> 0 | N106: =SUM(N94:N104) -> 0 | O106: =SUM(O94:O104) -> 0
C109: 6. | D109: Tanjung Jabung Barat | E109: - | F109: 1. | G109: Tungkal Ulu | H109: 1 | I109: 0 | J109: 0 | K109: 0 | L109: 0 | M109: 0 | N109: 0 | O109: 1 | P109: 0 | T109: Kec. Mandiangin, Batin VIII & Singkut, Lounching PATEN secara simbolis pada tgl 2 Okt 2014 di Jkt
F110: 2. | G110: Tungkal Ilir | H110: 1 | I110: 0 | J110: 0 | K110: 0 | L110: 0 | M110: 0 | N110: 0 | O110: 1 | P110: 0
F111: 3. | G111: Pangabuan | H111: 1 | I111: 0 | J111: 0 | K111: 0 | L111: 0 | M111: 0 | N111: 0 | O111: 0 | P111: 1
F112: 4. | G112: Betara | H112: 1 | I112: 0 | J112: 0 | K112: 0 | L112: 0 | M112: 0 | N112: 0 | O112: 0 | P112: 1
F113: 5. | G113: Merlung | H113: 1 | I113: 0 | J113: 0 | K113: 0 | L113: 0 | M113: 0 | N113: 0 | O113: 0 | P113: 1
F114: 6. | G114: Tebing Tinggi | H114: 1 | I114: 0 | J114: 0 | K114: 0 | L114: 0 | M114: 0 | N114: 0 | O114: 0 | P114: 1
F115: 7. | G115: Batang Asam | H115: 1 | I115: 0 | J115: 0 | K115: 0 | L115: 0 | M115: 0 | N115: 0 | O115: 0 | P115: 1
F116: 8. | G116: Renah Mendalu | H116: 1 | I116: 0 | J116: 0 | K116: 0 | L116: 0 | M116: 0 | N116: 0 | O116: 0 | P116: 1
F117: 9. | G117: Muara Papalik | H117: 1 | I117: 0 | J117: 0 | K117: 0 | L117: 0 | M117: 0 | N117: 0 | O117: 0 | P117: 1
F118: 10. | G118: Seberang Kota | H118: 1 | I118: 0 | J118: 0 | K118: 0 | L118: 0 | M118: 0 | N118: 0 | O118: 0 | P118: 1
F119: 11. | G119: Bram Itam | H119: 1 | I119: 0 | J119: 0 | K119: 0 | L119: 0 | M119: 0 | N119: 0 | O119: 1 | P119: 0
F120: 12. | G120: Kuala Betara | H120: 1 | I120: 0 | J120: 0 | K120: 0 | L120: 0 | M120: 0 | N120: 0 | O120: 0 | P120: 1
F121: 13. | G121: Senyerang | H121: 1 | I121: 0 | J121: 0 | K121: 0 | L121: 0 | M121: 0 | N121: 0 | O121: 0 | P121: 1
H123: =SUM(H109:H121) -> 13 | I123: =SUM(I109:I121) -> 0 | J123: =SUM(J109:J121) -> 0 | K123: =SUM(K109:K121) -> 0 | L123: =SUM(L109:L121) -> 0 | M123: =SUM(M109:M121) -> 0 | N123: =SUM(N109:N121) -> 0 | O123: =SUM(O109:O121) -> 3 | P123: =SUM(P109:P121) -> 10
C126: 7. | D126: Tanjung Jabung Timur | E126: - | F126: 1. | G126: Muara Sabak Timur | H126: 0 | I126: 1 | J126: 0 | K126: 0 | L126: 0 | M126: 0 | N126: 0
F127: 2. | G127: Nipah Panjang | H127: 0 | I127: 1 | J127: 0 | K127: 0 | L127: 0 | M127: 0 | N127: 0
F128: 3. | G128: Mendahara | H128: 0 | I128: 1 | J128: 0 | K128: 0 | L128: 0 | M128: 0 | N128: 0
F129: 4. | G129: Rantau Rasau | H129: 0 | I129: 1 | J129: 0 | K129: 0 | L129: 0 | M129: 0 | N129: 0
F130: 5. | G130: Sadu | H130: 0 | I130: 1 | J130: 0 | K130: 0 | L130: 0 | M130: 0 | N130: 0
F131: 6. | G131: Dendang | H131: 0 | I131: 1 | J131: 0 | K131: 0 | L131: 0 | M131: 0 | N131: 0
F132: 7. | G132: Muara Sabak Barat | H132: 0 | I132: 1 | J132: 0 | K132: 0 | L132: 0 | M132: 0 | N132: 0
...

Sheet 6.sumsel
A1: DATA PATEN
A3: NO. | B3: PROVINSI | C3: NO. | D3: KAB | E3: KOTA | F3: NO. | G3: KEC | H3: PATEN | I3: BELUM PATEN | J3: TAHUN | R3: JENIS PERIZINAN YANG DILIMPAHKAN | S3: DASAR HUKUM | T3: KET
J4: 2010 | K4: 2011 | L4: 2012 | M4: 2013 | N4: 2014 | O4: 2015 | P4: 2016 | Q4: 2017
A5: 1 | B5: 2 | C5: 3 | D5: 4 | E5: 5 | F5: 6 | G5: 7 | H5: 8 | I5: 9 | J5: 10 | R5: 11 | S5: 12 | T5: 13
A7: 6. | B7: SUMSEL | C7: 1. | D7: Ogan Komering Ulu | E7: - | F7: 1. | G7: Sosoh Buay Rayap | H7: 1 | I7: 0 | J7: 0 | K7: 0 | L7: 0 | M7: 0 | N7: 0 | O7: 1 | P7: 0 | R7: Tidak ada perizinan yang dilimpahkan ke kec | S7: 1). Kepbup. OKU No. 13 Thn 2002 ttg Pelimpahan Sebagian Kewenangan Bup. OKU Kepada Camat Dalam Kab. OKU
F8: 2. | G8: Pengandonan | H8: 1 | I8: 0 | J8: 0 | K8: 0 | L8: 0 | M8: 0 | N8: 0 | O8: 1 | P8: 0
F9: 3. | G9: Peninjauan | H9: 1 | I9: 0 | J9: 0 | K9: 0 | L9: 0 | M9: 0 | N9: 0 | O9: 1 | P9: 0
F10: 4. | G10: Baturaja Barat | H10: 1 | I10: 0 | J10: 0 | K10: 0 | L10: 0 | M10: 0 | N10: 0 | O10: 1 | P10: 0 | S10: 2). Perbup. OKU No. 18 Thn 2009 ttg Uraian Tugas Camat, Sekretaris, Kepala Sub Bag & Kasi pada Pemerintah Kec Dalam Kab. OKU
F11: 5. | G11: Baturaja Timur | H11: 1 | I11: 0 | J11: 0 | K11: 0 | L11: 0 | M11: 0 | N11: 0 | O11: 1 | P11: 0
F12: 6. | G12: Ulu Ogan | H12: 1 | I12: 0 | J12: 0 | K12: 0 | L12: 0 | M12: 0 | N12: 0 | O12: 1 | P12: 0
F13: 7. | G13: Semidang Aji | H13: 1 | I13: 0 | J13: 0 | K13: 0 | L13: 0 | M13: 0 | N13: 0 | O13: 1 | P13: 0 | S13: 3). Perbup. OKU No. 43 Thn 2014 ttg Uraian Tugas Personil Kec Dalam Penyelenggaraan PATEN
F14: 8. | G14: Lubuk Batang | H14: 1 | I14: 0 | J14: 0 | K14: 0 | L14: 0 | M14: 0 | N14: 0 | O14: 1 | P14: 0
F15: 9. | G15: Lengkiti | H15: 1 | I15: 0 | J15: 0 | K15: 0 | L15: 0 | M15: 0 | N15: 0 | O15: 1 | P15: 0
F16: 10. | G16: Sinar Peninjauan | H16: 1 | I16: 0 | J16: 0 | K16: 0 | L16: 0 | M16: 0 | N16: 0 | O16: 1 | P16: 0 | S16: 4). Perbup. OKU No. 44 Thn 2014 ttg Uraian ttg Standar PATEN
F17: 11. | G17: Lubuk Raja | H17: 1 | I17: 0 | J17: 0 | K17: 0 | L17: 0 | M17: 0 | N17: 0 | O17: 1 | P17: 0
F18: 12. | G18: Muara Jaya | H18: 1 | I18: 0 | J18: 0 | K18: 0 | L18: 0 | M18: 0 | N18: 0 | O18: 1 | P18: 0 | S18: 5). Kepbup. OKU No. 188/584/KPTS/2014 ttg Pembentukan Tim Teknis PATEN Kab. OKU
F19: 11. | G19: Kedaton Peninjauan (baru) | H19: 1 | I19: 0 | J19: 0 | K19: 0 | L19: 0 | M19: 0 | N19: 0 | O19: 0 | P19: 1
H21: =SUM(H7:H19) -> 13 | I21: =SUM(I7:I19) -> 0 | J21: =SUM(J7:J19) -> 0 | K21: =SUM(K7:K19) -> 0 | L21: =SUM(L7:L19) -> 0 | M21: =SUM(M7:M19) -> 0 | N21: =SUM(N7:N19) -> 0 | O21: =SUM(O7:O19) -> 12 | P21: =SUM(P7:P19) -> 1 | S21: 6). Kepbup. OKU No. 188/593/KPTS/2014 ttg Penetapan Penyelenggaraan PATEN
C25: 2. | D25: Ogan Komering Ilir | E25: - | F25: 1. | G25: Tanjung Lubuk | H25: 1 | I25: 0 | J25: 0 | K25: 0 | L25: 0 | M25: 0 | N25: 0 | O25: 0 | P25: 1 | R25: Izin usaha skala kecil dgn modal ≤ Rp. 30 jt, tidak termasuk tanah & bangunan, yaitu : | S25: 1). Perbup OKI No. 649 Thn 2014 tgl 15 Sept 2014 ttg Pelimpahan Sebagian Wewenang Bup kpd Camat Dalam Kab. OKI | T25: Launching secara bersama pada tgl 2 Oktober 2014 di Jakarta
F26: 2. | G26: Pedamaran | H26: 1 | I26: 0 | J26: 0 | K26: 0 | L26: 0 | M26: 0 | N26: 0 | O26: 0 | P26: 1
F27: 3. | G27: Mesuji | H27: 1 | I27: 0 | J27: 0 | K27: 0 | L27: 0 | M27: 0 | N27: 0 | O27: 0 | P27: 1 | R27: 1. Izin usaha salon
F28: 4. | G28: Kayu Agung | H28: 1 | I28: 0 | J28: 0 | K28: 0 | L28: 0 | M28: 0 | N28: 1 | O28: 0 | P28: 0 | R28: 2. Izin usaha bengkel | S28: 2). Perbup OKI No. 650 Thn 2014 tgl 15 Sept 2014 ttg Standar PATEN di Kab. OKI
F29: 5. | G29: Sitah Pulau Padang | H29: 1 | I29: 0 | J29: 0 | K29: 0 | L29: 0 | M29: 0 | N29: 0 | O29: 0 | P29: 1 | R29: 3. Izin usaha warung kopi
F30: 6. | G30: Tulung Selapan | H30: 1 | I30: 0 | J30: 0 | K30: 0 | L30: 0 | M30: 0 | N30: 0 | O30: 0 | P30: 1 | R30: 4. Izin usaha rental komputer | S30: 3). SK Bup. OKI No. 810/KEP/2014 tgl 29 Sept 2014 ttg Penetapan Kec Dalam Wil Kab. OKI Sebagai Penyelenggara PATEN
F31: 7. | G31: Pampangan | H31: 1 | I31: 0 | J31: 0 | K31: 0 | L31: 0 | M31: 0 | N31: 1 | O31: 0 | P31: 0 | R31: 5. Izin usaha rental warnet
F32: 8. | G32: Lempuing | H32: 1 | I32: 0 | J32: 0 | K32: 0 | L32: 0 | M32: 0 | N32: 1 | O32: 0 | P32: 0 | R32: 6. Izin usaha alat tulis kantor
F33: 9. | G33: Air Sugihan | H33: 1 | I33: 0 | J33: 0 | K33: 0 | L33: 0 | M33: 0 | N33: 0 | O33: 0 | P33: 1 | R33: 7. Izin usaha service elektronik
F34: 10. | G34: Sungai Menang | H34: 1 | I34: 0 | J34: 0 | K34: 0 | L34: 0 | M34: 0 | N34: 0 | O34: 0 | P34: 1 | R34: 8. Izin usaha catering
F35: 11. | G35: Jejawi | H35: 1 | I35: 0 | J35: 0 | K35: 0 | L35: 0 | M35: 0 | N35: 1 | O35: 0 | P35: 0 | R35: 9. Izin usaha penyewaan pelaminan
F36: 12. | G36: Cengai | H36: 1 | I36: 0 | J36: 0 | K36: 0 | L36: 0 | M36: 0 | N36: 0 | O36: 0 | P36: 1 | R36: 10. Izin usaha penyewaan tenda
F37: 13. | G37: Pangkalan Lampam | H37: 1 | I37: 0 | J37: 0 | K37: 0 | L37: 0 | M37: 0 | N37: 1 | O37: 0 | P37: 0 | R37: 11. Izin usaha pencucian mobil & motor
F38: 14. | G38: Mesuji Makmur | H38: 1 | I38: 0 | J38: 0 | K38: 0 | L38: 0 | M38: 0 | N38: 0 | O38: 0 | P38: 1 | R38: 12. Izin usaha penitipan kendaraan roda dua
F39: 15. | G39: Mesuji Raya | H39: 1 | I39: 0 | J39: 0 | K39: 0 | L39: 0 | M39: 0 | N39: 1 | O39: 0 | P39: 0 | R39: 13. Izin usaha konter HP
F40: 16. | G40: Lempuing Jaya | H40: 1 | I40: 0 | J40: 0 | K40: 0 | L40: 0 | M40: 0 | N40: 1 | O40: 0 | P40: 0 | R40: 14. Izin usaha rental PS
F41: 17. | G41: Teluk Gelam | H41: 1 | I41: 0 | J41: 0 | K41: 0 | L41: 0 | M41: 0 | N41: 0 | O41: 0 | P41: 1
F42: 18. | G42: Pedamaran Timur | H42: 1 | I42: 0 | J42: 0 | K42: 0 | L42: 0 | M42: 0 | N42: 0 | O42: 0 | P42: 1
H44: =SUM(H25:H42) -> 18 | I44: =SUM(I25:I42) -> 0 | J44: =SUM(J25:J42) -> 0 | K44: =SUM(K25:K42) -> 0 | L44: =SUM(L25:L42) -> 0 | M44: =SUM(M25:M42) -> 0 | N44: =SUM(N25:N42) -> 7 | O44: =SUM(O25:O42) -> 0 | P44: =SUM(P25:P42) -> 11
C47: 3. | D47: Muara Enim | E47: - | F47: 1. | G47: Tanjung Agung | H47: 1 | I47: 0 | J47: 1 | K47: 0 | L47: 0 | M47: 0 | N47: 0 | O47: 0 | P47: 0 | R47: Izin usaha dibawah 50 jt : | S47: 1). Perbup Muara Enim No. 22 Thn 2011 ttg Pelimpahan Sebagian Wewenang Bup Kpd Camat Dalam Kab. Muara Enim | T47: Uji coba PATEN di 4 Kec pada tahun 2010
F48: 2. | G48: Muara Enim | H48: 1 | I48: 0 | J48: 1 | K48: 0 | L48: 0 | M48: 0 | N48: 0 | O48: 0 | P48: 0 | R48: 1. Izin usaha salon
F49: 3. | G49: Rambang Dangku | H49: 1 | I49: 0 | J49: 0 | K49: 1 | L49: 0 | M49: 0 | N49: 0 | O49: 0 | P49: 0 | R49: 2. Izin usaha bengkel
F50: 4. | G50: Gunung Megang | H50: 1 | I50: 0 | J50: 0 | K50: 1 | L50: 0 | M50: 0 | N50: 0 | O50: 0 | P50: 0 | R50: 3. Izin usaha warung kopi | S50: 2). SK Bup Muara Enim No. 145 Thn 2010 ttg Penetapan Kec yg Menjadi Pilot Project PATEN Terhadap 4 Kec
F51: 5. | G51: Gelumbung | H51: 1 | I51: 0 | J51: 1 | K51: 0 | L51: 0 | M51: 0 | N51: 0 | O51: 0 | P51: 0 | R51: 4. Izin usaha rental komputer
F52: 6. | G52: Lawang Kidul | H52: 1 | I52: 0 | J52: 0 | K52: 1 | L52: 0 | M52: 0 | N52: 0 | O52: 0 | P52: 0 | R52: 5. Izin usaha warnet
F53: 7. | G53: Semende Darat Laut | H53: 1 | I53: 0 | J53: 0 | K53: 1 | L53: 0 | M53: 0 | N53: 0 | O53: 0 | P53: 0 | R53: 6. Izin usaha manisan | S53: 3). SK Bup. Muara Enim No. 483/KPTS/IV/2010 ttg Pembentukan Tim Teknis PATEN Kab. Muara Enim
F54: 8. | G54: Semende Darat Tengah | H54: 1 | I54: 0 | J54: 0 | K54: 1 | L54: 0 | M54: 0 | N54: 0 | O54: 0 | P54: 0 | R54: 7. Izin usaha alat tulis kantor
F55: 9. | G55: Semende Darat Ulu | H55: 1 | I55: 0 | J55: 0 | K55: 1 | L55: 0 | M55: 0 | N55: 0 | O55: 0 | P55: 0 | R55: 8. Izin usaha pakaian jadi
F56: 10. | G56: Ujan Mas | H56: 1 | I56: 0 | J56: 0 | K56: 1 | L56: 0 | M56: 0 | N56: 0 | O56: 0 | P56: 0 | S56: 4). Perbup Muara Enim No. 13 Thn 2011 tgl 28 Maret 2011 ttg Pelimpahan Sebagian Wewenang Bup Kpd Camat Dalam Kab. Muara Enim
F57: 11. | G57: Lubai | H57: 1 | I57: 0 | J57: 0 | K57: 1 | L57: 0 | M57: 0 | N57: 0 | O57: 0 | P57: 0
F58: 12. | G58: Rambang | H58: 1 | I58: 0 | J58: 1 | K58: 0 | L58: 0 | M58: 0 | N58: 0 | O58: 0 | P58: 0
F59: 13. | G59: Sungai Rotan | H59: 1 | I59: 0 | J59: 0 | K59: 1 | L59: 0 | M59: 0 | N59: 0 | O59: 0 | P59: 0
F60: 14. | G60: Lembak | H60: 1 | I60: 0 | J60: 0 | K60: 1 | L60: 0 | M60: 0 | N60: 0 | O60: 0 | P60: 0
F61: 15. | G61: Benakat | H61: 1 | I61: 0 | J61: 0 | K61: 1 | L61: 0 | M61: 0 | N61: 0 | O61: 0 | P61: 0
F62: 16. | G62: Kelekar | H62: 1 | I62: 0 | J62: 0 | K62: 1 | L62: 0 | M62: 0 | N62: 0 | O62: 0 | P62: 0
F63: 17. | G63: Muara Belida | H63: 1 | I63: 0 | J63: 0 | K63: 0 | L63: 0 | M63: 0 | N63: 0 | O63: 1 | P63: 0
F64: 18. | G64: Belimbing | H64: 1 | I64: 0 | J64: 0 | K64: 1 | L64: 0 | M64: 0 | N64: 0 | O64: 0 | P64: 0
F65: 19. | G65: Belida Darat | H65: 1 | I65: 0 | J65: 0 | K65: 1 | L65: 0 | M65: 0 | N65: 0 | O65: 0 | P65: 0
F66: 20. | G66: Lubai Ulu | H66: 1 | I66: 0 | J66: 0 | K66: 1 | L66: 0 | M66: 0 | N66: 0 | O66: 0 | P66: 0
H68: =SUM(H47:H66) -> 20 | I68: =SUM(I47:I66) -> 0 | J68: =SUM(J47:J66) -> 4 | K68: =SUM(K47:K66) -> 15 | L68: =SUM(L47:L66) -> 0 | M68: =SUM(M47:M66) -> 0 | N68: =SUM(N47:N66) -> 0 | O68: =SUM(O47:O66) -> 1 | P68: =SUM(P47:P66) -> 0
C71: 4. | D71: Lahat | E71: - | F71: 1. | G71: Tanjung Sakti Pumu | H71: 0 | I71: 1 | J71: 0 | K71: 0 | L71: 0 | M71: 0 | N71: 0 | O71: 0 | P71: 0
F72: 2. | G72: Jarai | H72: 0 | I72: 1 | J72: 0 | K72: 0 | L72: 0 | M72: 0 | N72: 0 | O72: 0 | P72: 0
F73: 3. | G73: Kota Agung | H73: 0 | I73: 1 | J73: 0 | K73: 0 | L73: 0 | M73: 0 | N73: 0 | O73: 0 | P73: 0
F74: 4. | G74: Pulaupinang | H74: 0 | I74: 1 | J74: 0 | K74: 0 | L74: 0 | M74: 0 | N74: 0 | O74: 0 | P74: 0
F75: 5. | G75: Merapi Barat | H75: 0 | I75: 1 | J75: 0 | K75: 0 | L75: 0 | M75: 0 | N75: 0 | O75: 0 | P75: 0
F76: 6. | G76: Lahat | H76: 0 | I76: 1 | J76: 0 | K76: 0 | L76: 0 | M76: 0 | N76: 0 | O76: 0 | P76: 0
F77: 7. | G77: Pajar Bulan | H77: 0 | I77: 1 | J77: 0 | K77: 0 | L77: 0 | M77: 0 | N77: 0 | O77: 0 | P77: 0
F78: 8. | G78: Mulak Ulu | H78: 1 | I78: 0 | J78: 0 | K78: 0 | L78: 0 | M78: 0 | N78: 0 | O78: 1 | P78: 0
F79: 9. | G79: Kikim Selatan | H79: 0 | I79: 1 | J79: 0 | K79: 0 | L79: 0 | M79: 0 | N79: 0 | O79: 0 | P79: 0
F80: 10. | G80: Kikim Timur | H80: 0 | I80: 1 | J80: 0 | K80: 0 | L80: 0 | M80: 0 | N80: 0 | O80: 0 | P80: 0
F81: 11. | G81: Kikim Tengah | H81: 0 | I81: 1 | J81: 0 | K81: 0 | L81: 0 | M81: 0 | N81: 0 | O81: 0 | P81: 0
F82: 12. | G82: Kikim Barat | H82: 0 | I82: 1 | J82: 0 | K82: 0 | L82: 0 | M82: 0 | N82: 0 | O82: 0 | P82: 0
F83: 13. | G83: Psekseu | H83: 0 | I83: 1 | J83: 0 | K83: 0 | L83: 0 | M83: 0 | N83: 0 | O83: 0 | P83: 0
... F92: 22. | G92: Sukamerindu | H92: 0 | I92: 1 | J92: 0 | K92: 0 | L92: 0 | M92: 0 | N92: 0 | O92: 0 | P92: 0
H94: =SUM(H71:H92) -> 1 | I94: =SUM(I71:I92) -> 21 | J94: =SUM(J71:J92) -> 0 | K94: =SUM(K71:K92) -> 0 | L94: =SUM(L71:L92) -> 0 | M94: =SUM(M71:M92) -> 0 | N94: =SUM(N71:N92) -> 0 | O94: =SUM(O71:O92) -> 1 | P94: =SUM(P71:P92) -> 0
C97: 5. | D97: Musi Rawas | E97: - | F97: 1. | G97: Tugu Mulyo | H97: 1 | I97: 0 | J97: 0 | K97: 0 | L97: 0 | M97: 0 | N97: 0 | O97: 0 | P97: 0 | Q97: 1
F98: 2. | G98: Muara Lakitan | H98: 0 | I98: 1 | J98: 0 | K98: 0 | L98: 0 | M98: 0 | N98: 0 | O98: 0 | P98: 0
F99: 3. | G99: Muara Kelingi | H99: 0 | I99: 1 | J99: 0 | K99: 0 | L99: 0 | M99: 0 | N99: 0 | O99: 0 | P99: 0
F100: 4. | G100: Jayaloka | H100: 0 | I100: 1 | J100: 0 | K100: 0 | L100: 0 | M100: 0 | N100: 0 | O100: 0 | P100: 0
F101: 5. | G101: Muara Beliti | H101: 0 | I101: 1 | J101: 0 | K101: 0 | L101: 0 | M101: 0 | N101: 0 | O101: 0 | P101: 0
F102: 6. | G102: STL Ulu Terawas | H102: 0 | I102: 1 | J102: 0 | K102: 0 | L102: 0 | M102: 0 | N102: 0 | O102: 0 | P102: 0
F103: 7. | G103: Selangit | H103: 0 | I103: 1 | J103: 0 | K103: 0 | L103: 0 | M103: 0 | N103: 0 | O103: 0 | P103: 0
F104: 8. | G104: Megang Sakti | H104: 0 | I104: 1 | J104: 0 | K104: 0 | L104: 0 | M104: 0 | N104: 0 | O104: 0 | P104: 0
F105: 9. | G105: Purwodadi | H105: 0 | I105: 1 | J105: 0 | K105: 0 | L105: 0 | M105: 0 | N105: 0 | O105: 0 | P105: 0
F106: 10. | G106: BTS. Ulu | H106: 0 | I106: 1 | J106: 0 | K106: 0 | L106: 0 | M106: 0 | N106: 0 | O106: 0 | P106: 0
F107: 11. | G107: Tiang Pumpung Kepungut | H107: 0 | I107: 1 | J107: 0 | K107: 0 | L107: 0 | M107: 0 | N107: 0 | O107: 0 | P107: 0
F108: 12. | G108: Sumber Harta | H108: 0 | I108: 1 | J108: 0 | K108: 0 | L108: 0 | M108: 0 | N108: 0 | O108: 0 | P108: 0
F109: 13. | G109: Tuah Negeri | H109: 0 | I109: 1 | J109: 0 | K109: 0 | L109: 0 | M109: 0 | N109: 0 | O109: 0 | P109: 0
F110: 14. | G110: Suka Karya | H110: 0 | I110: 1 | J110: 0 | K110: 0 | L110: 0 | M110: 0 | N110: 0 | O110: 0 | P110: 0
H112: =SUM(H97:H110) -> 1 | I112: =SUM(I97:I110) -> 13 | J112: =SUM(J97:J110) -> 0 | K112: =SUM(K97:K110) -> 0 | L112: =SUM(L97:L110) -> 0 | M112: =SUM(M97:M110) -> 0 | N112: =SUM(N97:N110) -> 0 | O112: =SUM(O97:O110) -> 0 | P112: =SUM(P97:P110) -> 0
C115: 6. | D115: Musi Banyuasin | E115: - | F115: 1. | G115: Sekayu | H115: 1 | I115: 0 | J115: 0 | K115: 0 | L115: 0 | M115: 0 | N115: 0 | O115: 0 | P115: 0 | Q115: 1
F116: 2. | G116: Lais | H116: - | I116: 0 | J116: 0 | K116: 0 | L116: 0 | M116: 0 | N116: 0 | O116: 0 | P116: 0 | Q116: -
F117: 3. | G117: Sungai Keruh | H117: 0 | I117: 1 | J117: 0 | K117: 0 | L117: 0 | M117: 0 | N117: 0 | O117: 0 | P117: 0
F118: 4. | G118: Batang Hari Leko | H118: 0 | I118: 1 | J118: 0 | K118: 0 | L118: 0 | M118: 0 | N118: 0 | O118: 0 | P118: 0
F119: 5. | G119: Sanga Dasa | H119: 0 | I119: 1 | J119: 0 | K119: 0 | L119: 0 | M119: 0 | N119: 0 | O119: 0 | P119: 0
F120: 6. | G120: Babat Toman | H120: 0 | I120: 1 | J120: 0 | K120: 0 | L120: 0 | M120: 0 | N120: 0 | O120: 0 | P120: 0
F121: 7. | G121: Sungai Lilin | H121: 1 | I121: - | J121: 0 | K121: 0 | L121: 0 | M121: 0 | N121: 0 | O121: 0 | P121: 0 | Q121: 1
F122: 8. | G122: Keluang | H122: 0 | I122: 1 | J122: 0 | K122: 0 | L122: 0 | M122: 0 | N122: 0 | O122: 0 | P122: 0
F123: 9. | G123: Bayung Lencir | H123: 0 | I123: 1 | J123: 0 | K123: 0 | L123: 0 | M123: 0 | N123: 0 | O123: 0 | P123: 0
F124: 10. | G124: Plakat Tinggi | H124: 0 | I124: 1 | J124: 0 | K124: 0 | L124: 0 | M124: 0 | N124: 0 | O124: 0 | P124: 0
F125: 11. | G125: Lalan | H125: 0 | I125: 1 | J125: 0 | K125: 0 | L125: 0 | M125: 0 | N125: 0 | O125: 0 | P125: 0
F126: 12. | G126: Tungkal Jaya | H126: 0 | I126: 1 | J126: 0 | K126: 0 | L126: 0 | M126: 0 | N126: 0 | O126: 0 | P126: 0
...

Sheet 7.bengkulu
A1: DATA PATEN
A3: NO. | B3: PROVINSI | C3: NO. | D3: KAB | E3: KOTA | F3: NO. | G3: KEC | H3: PATEN | I3: BELUM PATEN | J3: TAHUN | R3: JENIS PERIZINAN YANG DILIMPAHKAN | S3: DASAR HUKUM | T3: KET
J4: 2010 | K4: 2011 | L4: 2012 | M4: 2013 | N4: 2014 | O4: 2015 | P4: 2016 | Q4: 2017
A5: 1 | B5: 2 | C5: 3 | D5: 4 | E5: 5 | F5: 6 | G5: 7 | H5: 8 | I5: 9 | J5: 10 | R5: 11 | S5: 12 | T5: 13
A7: 7. | B7: BENGKULU | C7: 1. | D7: Bengkulu Selatan | E7: - | F7: 1. | G7: Kedurang | H7: 0 | I7: 1 | J7: 0 | K7: 0 | L7: 0 | M7: 0 | N7: 0
F8: 2. | G8: Seginim | H8: 0 | I8: 1 | J8: 0 | K8: 0 | L8: 0 | M8: 0 | N8: 0
F9: 3. | G9: Pino | H9: 0 | I9: 1 | J9: 0 | K9: 0 | L9: 0 | M9: 0 | N9: 0
F10: 4. | G10: Manna | H10: 0 | I10: 1 | J10: 0 | K10: 0 | L10: 0 | M10: 0 | N10: 0
F11: 5. | G11: Kota Manna | H11: 0 | I11: 1 | J11: 0 | K11: 0 | L11: 0 | M11: 0 | N11: 0
F12: 6. | G12: Pino Raya | H12: 0 | I12: 1 | J12: 0 | K12: 0 | L12: 0 | M12: 0 | N12: 0
F13: 7. | G13: Kedurang Ilir | H13: 0 | I13: 1 | J13: 0 | K13: 0 | L13: 0 | M13: 0 | N13: 0
F14: 8. | G14: Air Nipis | H14: 0 | I14: 1 | J14: 0 | K14: 0 | L14: 0 | M14: 0 | N14: 0
F15: 9. | G15: Ulu Manna | H15: 0 | I15: 1 | J15: 0 | K15: 0 | L15: 0 | M15: 0 | N15: 0
F16: 10. | G16: Bunga Mas | H16: 0 | I16: 1 | J16: 0 | K16: 0 | L16: 0 | M16: 0 | N16: 0
F17: 11. | G17: Pasar Manna | H17: 0 | I17: 1 | J17: 0 | K17: 0 | L17: 0 | M17: 0 | N17: 0
H19: =SUM(H7:H17) -> 0 | I19: =SUM(I7:I17) -> 11 | J19: =SUM(J7:J17) -> 0 | K19: =SUM(K7:K17) -> 0 | L19: =SUM(L7:L17) -> 0 | M19: =SUM(M7:M17) -> 0 | N19: =SUM(N7:N17) -> 0 | O19: =SUM(O7:O17) -> 0
C22: 2. | D22: Rejang Lebong | E22: - | F22: 1. | G22: Kota Padang | H22: 0 | I22: 1 | J22: 0 | K22: 0 | L22: 0 | M22: 0 | N22: 0
F23: 2. | G23: Padang Ukak Tanding | H23: 0 | I23: 1 | J23: 0 | K23: 0 | L23: 0 | M23: 0 | N23: 0
F24: 3. | G24: Sindang Kelingi | H24: 0 | I24: 1 | J24: 0 | K24: 0 | L24: 0 | M24: 0 | N24: 0
F25: 4. | G25: Curup | H25: 0 | I25: 1 | J25: 0 | K25: 0 | L25: 0 | M25: 0 | N25: 0
F26: 5. | G26: Bermani Ulu | H26: 0 | I26: 1 | J26: 0 | K26: 0 | L26: 0 | M26: 0 | N26: 0
F27: 6. | G27: Selupu Rejang | H27: 0 | I27: 1 | J27: 0 | K27: 0 | L27: 0 | M27: 0 | N27: 0
F28: 7. | G28: Curup Utara | H28: 0 | I28: 1 | J28: 0 | K28: 0 | L28: 0 | M28: 0 | N28: 0
F29: 8. | G29: Curup Timur | H29: 0 | I29: 1 | J29: 0 | K29: 0 | L29: 0 | M29: 0 | N29: 0
F30: 9. | G30: Curup Selatan | H30: 0 | I30: 1 | J30: 0 | K30: 0 | L30: 0 | M30: 0 | N30: 0
F31: 10. | G31: Curup Tengah | H31: 0 | I31: 1 | J31: 0 | K31: 0 | L31: 0 | M31: 0 | N31: 0
F32: 11. | G32: Binduriang | H32: 0 | I32: 1 | J32: 0 | K32: 0 | L32: 0 | M32: 0 | N32: 0
F33: 12. | G33: Sindang Beliti Ulu | H33: 0 | I33: 1 | J33: 0 | K33: 0 | L33: 0 | M33: 0 | N33: 0
F34: 13. | G34: Sindang Dataran | H34: 0 | I34: 1 | J34: 0 | K34: 0 | L34: 0 | M34: 0 | N34: 0
... F36: 15. | G36: Bermani Ulu Raya | H36: 0 | I36: 1 | J36: 0 | K36: 0 | L36: 0 | M36: 0 | N36: 0
H38: =SUM(H22:H36) -> 0 | I38: =SUM(I22:I36) -> 15 | J38: =SUM(J22:J36) -> 0 | K38: =SUM(K22:K36) -> 0 | L38: =SUM(L22:L36) -> 0 | M38: =SUM(M22:M36) -> 0 | N38: =SUM(N22:N36) -> 0 | O38: =SUM(O22:O36) -> 0
C41: 3. | D41: Bengkulu Utara | E41: - | F41: 1. | G41: Enggano | H41: 1 | I41: 0 | J41: 0 | K41: 0 | L41: 0 | M41: 0 | N41: 0 | P41: 1
F42: 2. | G42: Kerkap | H42: 1 | I42: 0 | J42: 0 | K42: 0 | L42: 0 | M42: 0 | N42: 0 | P42: 1
F43: 3. | G43: Arga Makmur | H43: 1 | I43: 0 | J43: 0 | K43: 0 | L43: 0 | M43: 0 | N43: 0 | P43: 1
F44: 4. | G44: Giri Mulya | H44: 1 | I44: 0 | J44: 0 | K44: 0 | L44: 0 | M44: 0 | N44: 0 | P44: 1
F45: 5. | G45: Padang Jaya | H45: 1 | I45: 0 | J45: 0 | K45: 0 | L45: 0 | M45: 0 | N45: 0 | P45: 1
F46: 6. | G46: Lais | H46: 1 | I46: 0 | J46: 0 | K46: 0 | L46: 0 | M46: 0 | N46: 0 | P46: 1
F47: 7. | G47: Batik Nau | H47: 1 | I47: 0 | J47: 0 | K47: 0 | L47: 0 | M47: 0 | N47: 0 | P47: 1
F48: 8. | G48: Ketahun | H48: 1 | I48: 0 | J48: 0 | K48: 0 | L48: 0 | M48: 0 | N48: 0 | P48: 1
F49: 9. | G49: Napal Putih | H49: 1 | I49: 0 | J49: 0 | K49: 0 | L49: 0 | M49: 0 | N49: 0 | P49: 1
F50: 10. | G50: Putri Hijau | H50: 1 | I50: 0 | J50: 0 | K50: 0 | L50: 0 | M50: 0 | N50: 0 | P50: 1
F51: 11. | G51: Air Besi | H51: 1 | I51: 0 | J51: 0 | K51: 0 | L51: 0 | M51: 0 | N51: 0 | P51: 1
F52: 12. | G52: Air Napal | H52: 1 | I52: 0 | J52: 0 | K52: 0 | L52: 0 | M52: 0 | N52: 0 | P52: 1
F53: 13. | G53: Hulu Palik | H53: 1 | I53: 0 | J53: 0 | K53: 0 | L53: 0 | M53: 0 | N53: 0 | P53: 1
... F57: 17. | G57: Ulok Kupai | H57: 1 | I57: 0 | J57: 0 | K57: 0 | L57: 0 | M57: 0 | N57: 0 | P57: 1
H59: =SUM(H41:H57) -> 17 | I59: =SUM(I41:I57) -> 0 | J59: =SUM(J41:J57) -> 0 | K59: =SUM(K41:K57) -> 0 | L59: =SUM(L41:L57) -> 0 | M59: =SUM(M41:M57) -> 0 | N59: =SUM(N41:N57) -> 0 | O59: =SUM(O41:O57) -> 0 | P59: =SUM(P41:P57) -> 17
C62: 4. | D62: Kaur | E62: - | F62: 1. | G62: Kinal | H62: 0 | I62: 1 | J62: 0 | K62: 0 | L62: 0 | M62: 0 | N62: 0
F63: 2. | G63: Tanjung Kemuning | H63: 0 | I63: 1 | J63: 0 | K63: 0 | L63: 0 | M63: 0 | N63: 0
F64: 3. | G64: Kaur Utara | H64: 0 | I64: 1 | J64: 0 | K64: 0 | L64: 0 | M64: 0 | N64: 0
F65: 4. | G65: Kaur Tengah | H65: 0 | I65: 1 | J65: 0 | K65: 0 | L65: 0 | M65: 0 | N65: 0
F66: 5. | G66: Kaur Selatan | H66: 0 | I66: 1 | J66: 0 | K66: 0 | L66: 0 | M66: 0 | N66: 0
F67: 6. | G67: Maje | H67: 0 | I67: 1 | J67: 0 | K67: 0 | L67: 0 | M67: 0 | N67: 0
F68: 7. | G68: Nasal | H68: 0 | I68: 1 | J68: 0 | K68: 0 | L68: 0 | M68: 0 | N68: 0
F69: 8. | G69: Semidang Gumay | H69: 0 | I69: 1 | J69: 0 | K69: 0 | L69: 0 | M69: 0 | N69: 0
F70: 9. | G70: Kelam Tengah | H70: 0 | I70: 1 | J70: 0 | K70: 0 | L70: 0 | M70: 0 | N70: 0
F71: 10. | G71: Luas | H71: 0 | I71: 1 | J71: 0 | K71: 0 | L71: 0 | M71: 0 | N71: 0
F72: 11. | G72: Muara Sahung | H72: 0 | I72: 1 | J72: 0 | K72: 0 | L72: 0 | M72: 0 | N72: 0
F73: 12. | G73: Tetap | H73: 0 | I73: 1 | J73: 0 | K73: 0 | L73: 0 | M73: 0 | N73: 0
F74: 13. | G74: Lungkang Kule | H74: 0 | I74: 1 | J74: 0 | K74: 0 | L74: 0 | M74: 0 | N74: 0
... F76: 15. | G76: Padang Guci Hulu | H76: 0 | I76: 1 | J76: 0 | K76: 0 | L76: 0 | M76: 0 | N76: 0
H78: =SUM(H62:H76) -> 0 | I78: =SUM(I62:I76) -> 15 | J78: =SUM(J62:J76) -> 0 | K78: =SUM(K62:K76) -> 0 | L78: =SUM(L62:L76) -> 0 | M78: =SUM(M62:M76) -> 0 | N78: =SUM(N62:N76) -> 0 | O78: =SUM(O62:O76) -> 0
C81: 5. | D81: Seluma | E81: - | F81: 1. | G81: Sukaraja | H81: 0 | I81: 1 | J81: 0 | K81: 0 | L81: 0 | M81: 0 | N81: 0 | S81: Kepbup Seluma Nomor 900 - 36 Tahun 2016 tentang Pelimpahan sebagian kewenangan bupati seluma kepada camat di lingkungan pemerintahan kab seluma
F82: 2. | G82: Seluma | H82: 0 | I82: 1 | J82: 0 | K82: 0 | L82: 0 | M82: 0 | N82: 0 | S82: Perbup Seluma Nomor 37 Tahun 2016 tentang Pedoman Penyelenggara PATEN Di lingkungan Pemerintah Kab Seluma
F83: 3. | G83: Talo | H83: 0 | I83: 1 | J83: 0 | K83: 0 | L83: 0 | M83: 0 | N83: 0
F84: 4. | G84: Semidang Alas | H84: 0 | I84: 1 | J84: 0 | K84: 0 | L84: 0 | M84: 0 | N84: 0
F85: 5. | G85: Semidang Alas Maras | H85: 0 | I85: 1 | J85: 0 | K85: 0 | L85: 0 | M85: 0 | N85: 0
F86: 6. | G86: Air Periukan | H86: 0 | I86: 1 | J86: 0 | K86: 0 | L86: 0 | M86: 0 | N86: 0
F87: 7. | G87: Lubuk Sandi | H87: 0 | I87: 1 | J87: 0 | K87: 0 | L87: 0 | M87: 0 | N87: 0
F88: 8. | G88: Seluma Barat | H88: 0 | I88: 1 | J88: 0 | K88: 0 | L88: 0 | M88: 0 | N88: 0
F89: 9. | G89: Seluma Timur | H89: 0 | I89: 1 | J89: 0 | K89: 0 | L89: 0 | M89: 0 | N89: 0
F90: 10. | G90: Seluma Utara | H90: 0 | I90: 1 | J90: 0 | K90: 0 | L90: 0 | M90: 0 | N90: 0
F91: 11. | G91: Seluma Selatan | H91: 0 | I91: 1 | J91: 0 | K91: 0 | L91: 0 | M91: 0 | N91: 0
F92: 12. | G92: Talo Kecil | H92: 0 | I92: 1 | J92: 0 | K92: 0 | L92: 0 | M92: 0 | N92: 0
F93: 13. | G93: Ulu Talo | H93: 0 | I93: 1 | J93: 0 | K93: 0 | L93: 0 | M93: 0 | N93: 0
F94: 14. | G94: Ilir Talo | H94: 0 | I94: 1 | J94: 0 | K94: 0 | L94: 0 | M94: 0 | N94: 0
H96: =SUM(H81:H94) -> 0 | I96: =SUM(I81:I94) -> 14 | J96: =SUM(J81:J94) -> 0 | K96: =SUM(K81:K94) -> 0 | L96: =SUM(L81:L94) -> 0 | M96: =SUM(M81:M94) -> 0 | N96: =SUM(N81:N94) -> 0 | O96: =SUM(O81:O94) -> 0
C99: 6. | D99: Muko Muko | E99: - | F99: 1. | G99: Lubuk Pinang | H99: 0 | I99: 1 | J99: 0 | K99: 0 | L99: 0 | M99: 0 | N99: 0
F100: 2. | G100: Kota Mukomuko | H100: 0 | I100: 1 | J100: 0 | K100: 0 | L100: 0 | M100: 0 | N100: 0
F101: 3. | G101: Teras Terunjam | H101: 0 | I101: 1 | J101: 0 | K101: 0 | L101: 0 | M101: 0 | N101: 0
F102: 4. | G102: Pondok Suguh | H102: 0 | I102: 1 | J102: 0 | K102: 0 | L102: 0 | M102: 0 | N102: 0
F103: 5. | G103: Ipuh | H103: 0 | I103: 1 | J103: 0 | K103: 0 | L103: 0 | M103: 0 | N103: 0
F104: 6. | G104: Malin Deman | H104: 0 | I104: 1 | J104: 0 | K104: 0 | L104: 0 | M104: 0 | N104: 0
F105: 7. | G105: Air Rami | H105: 0 | I105: 1 | J105: 0 | K105: 0 | L105: 0 | M105: 0 | N105: 0
F106: 8. | G106: Teramang Jaya | H106: 0 | I106: 1 | J106: 0 | K106: 0 | L106: 0 | M106: 0 | N106: 0
F107: 9. | G107: Selagan Raya | H107: 0 | I107: 1 | J107: 0 | K107: 0 | L107: 0 | M107: 0 | N107: 0
F108: 10. | G108: Penarik | H108: 0 | I108: 1 | J108: 0 | K108: 0 | L108: 0 | M108: 0 | N108: 0
F109: 11. | G109: XIV Koto | H109: 0 | I109: 1 | J109: 0 | K109: 0 | L109: 0 | M109: 0 | N109: 0
F110: 12. | G110: V Koto | H110: 0 | I110: 1 | J110: 0 | K110: 0 | L110: 0 | M110: 0 | N110: 0
F111: 13. | G111: Air Majunto | H111: 0 | I111: 1 | J111: 0 | K111: 0 | L111: 0 | M111: 0 | N111: 0
... F113: 15. | G113: Sungai Rumbai | H113: 0 | I113: 1 | J113: 0 | K113: 0 | L113: 0 | M113: 0 | N113: 0
H115: =SUM(H99:H113) -> 0 | I115: =SUM(I99:I113) -> 15 | J115: =SUM(J99:J113) -> 0 | K115: =SUM(K99:K113) -> 0 | L115: =SUM(L99:L113) -> 0 | M115: =SUM(M99:M113) -> 0 | N115: =SUM(N99:N113) -> 0 | O115: =SUM(O99:O113) -> 0
C118: 7. | D118: Lebong | E118: - | F118: 1. | G118: Lebong Utara | H118: 0 | I118: 1 | J118: 0 | K118: 0 | L118: 0 | M118: 0 | N118: 0 | S118: Perbup Lebong no 48 tahun 2018 tentang pelimpahan sebagian kewenangan bupati kepada camat untuk melaksanakan urusan pemda
F119: 2. | G119: Lebong Atas | H119: 0 | I119: 1 | J119: 0 | K119: 0 | L119: 0 | M119: 0 | N119: 0
F120: 3. | G120: Lebong Tengah | H120: 0 | I120: 1 | J120: 0 | K120: 0 | L120: 0 | M120: 0 | N120: 0
F121: 4. | G121: Lebong Selatan | H121: 0 | I121: 1 | J121: 0 | K121: 0 | L121: 0 | M121: 0 | N121: 0
F122: 5. | G122: Rimbo Pengadang | H122: 0 | I122: 1 | J122: 0 | K122: 0 | L122: 0 | M122: 0 | N122: 0
F123: 6. | G123: Topos | H123: 0 | I123: 1 | J123: 0 | K123: 0 | L123: 0 | M123: 0 | N123: 0
F124: 7. | G124: Bingin Kuning | H124: 0 | I124: 1 | J124: 0 | K124: 0 | L124: 0 | M124: 0 | N124: 0
F125: 8. | G125: Lebong Sakti | H125: 0 | I125: 1 | J125: 0 | K125: 0 | L125: 0 | M125: 0 | N125: 0
F126: 9. | G126: Pelabai | H126: 0 | I126: 1 | J126: 0 | K126: 0 | L126: 0 | M126: 0 | N126: 0
...

Sheet 8.lampung
A1: DATA PATEN
A3: NO. | B3: PROVINSI | C3: NO. | D3: KAB | E3: KOTA | F3: NO. | G3: KEC | H3: PATEN | I3: BELUM PATEN | J3: TAHUN | R3: JENIS PERIZINAN YANG DILIMPAHKAN | S3: DASAR HUKUM | T3: KET
J4: 2010 | K4: 2011 | L4: 2012 | M4: 2013 | N4: 2014 | O4: 2015 | P4: 2016 | Q4: 2017
A5: 1 | B5: 2 | C5: 3 | D5: 4 | E5: 5 | F5: 6 | G5: 7 | H5: 8 | I5: 9 | J5: 10 | R5: 11 | S5: 12 | T5: 13
A7: 8. | B7: LAMPUNG | C7: 1. | D7: Lampung Selatan | E7: - | F7: 1. | G7: Natar | H7: 1 | I7: 0 | J7: 0 | K7: 0 | L7: 0 | M7: 0 | N7: 0 | O7: 0 | R7: 1. IMB Rumha tempat tinggal bangunan tidak bertingkat luas , 100m2 | S7: 1). SK Bup. Lampung Selatan No. B/596/I.01/HK/2013 tgl 29 Agt 2013 ttg Pembentukan Tim Teknis PATEN Kab. Lampung Selatan Thn 2013
F8: 2. | G8: Tanjung Bintang | H8: 1 | I8: 0 | J8: 0 | K8: 0 | L8: 0 | M8: 0 | N8: 0 | O8: 0 | P8: 1
F9: 3. | G9: Kalianda | H9: 1 | I9: 0 | J9: 0 | K9: 0 | L9: 0 | M9: 0 | N9: 0 | O9: 0 | P9: 1 | R9: 2. IMB usaha kecil ukuran < 20m2
F10: 4. | G10: Sidomulyo | H10: 1 | I10: 0 | J10: 0 | K10: 0 | L10: 0 | M10: 0 | N10: 0 | O10: 0 | P10: 1 | R10: 3. Izin gangguan perusahaan usaha perseorangan bukan berbentuk badan hukum (PT atau CV) luas usaha <36 m2 dgn tenaga kerja < 5 org
F11: 5. | G11: Katibung | H11: 1 | I11: 0 | J11: 0 | K11: 0 | L11: 0 | M11: 0 | N11: 0 | O11: 0 | P11: 1 | S11: 2). SK Bup. Lampung Selatan No. B/645/I.01/HK/2013 tgl 6 Nov 2013 ttg Penetapan Kec Natar Sbg Pilot Project PATEN Kab. Lampung Selatan Thn 2013
F12: 6. | G12: Penengahan | H12: 1 | I12: 0 | J12: 0 | K12: 0 | L12: 0 | M12: 0 | N12: 0 | O12: 0 | P12: 1
F13: 7. | G13: Palas | H13: 1 | I13: 0 | J13: 0 | K13: 0 | L13: 0 | M13: 0 | N13: 0 | O13: 0 | P13: 1
F14: 8. | G14: Jati Agung | H14: 1 | I14: 0 | J14: 0 | K14: 0 | L14: 0 | M14: 0 | N14: 0 | O14: 0 | P14: 1 | R14: 4. SIUP berbentuk perseorangan tidak berbadan hukum
F15: 9. | G15: Ketapang | H15: 1 | I15: 0 | J15: 0 | K15: 0 | L15: 0 | M15: 0 | N15: 0 | O15: 0 | P15: 1
F16: 10. | G16: Sragi | H16: 1 | I16: 0 | J16: 0 | K16: 0 | L16: 0 | M16: 0 | N16: 0 | O16: 0 | P16: 1 | R16: 5. Pemberian izin usaha berbentuk perseorangan TDP tidak berbadan hukum dgn modal kekayaan < 50jt diluar bangunan & tanah, pekerja dari anggota keluarga | S16: Perbup Lampung Selatan Nomor : 47 Tahun 2013 tentang Pelimpahan sebagian kewenangan Bupati kepada Camat untuk melaksanakan urusan pemerintahan daerah kabupaten lampung selatan
F17: 11. | G17: Raja Basa | H17: 1 | I17: 0 | J17: 0 | K17: 0 | L17: 0 | M17: 0 | N17: 0 | O17: 0 | P17: 1
F18: 12. | G18: Candipuro | H18: 1 | I18: 0 | J18: 0 | K18: 0 | L18: 0 | M18: 0 | N18: 0 | O18: 0 | P18: 1
F19: 13. | G19: Merbau Mataram | H19: 1 | I19: 0 | J19: 0 | K19: 0 | L19: 0 | M19: 0 | N19: 0 | O19: 0 | P19: 1
F20: 14. | G20: Bakauheni | H20: 1 | I20: 0 | J20: 0 | K20: 0 | L20: 0 | M20: 0 | N20: 0 | O20: 0 | P20: 1 | R20: 6. Pemberian izin usaha merk (HO) berbentuk perseorangan tidak berbadan hukum
F21: 15. | G21: Tanjung Sari | H21: 1 | I21: 0 | J21: 0 | K21: 0 | L21: 0 | M21: 0 | N21: 0 | O21: 0 | P21: 1
F22: 16. | G22: Way Sulan | H22: 1 | I22: 0 | J22: 0 | K22: 0 | L22: 0 | M22: 0 | N22: 0 | O22: 0 | P22: 1 | R22: 7. Pemberian izin usaha untuk intensitas keci, home industri/pengrajin (TDI)
F23: 17. | G23: Way Panji | H23: 1 | I23: 0 | J23: 0 | K23: 0 | L23: 0 | M23: 0 | N23: 0 | O23: 0 | P23: 1
R24: 8. Pemberian izin usaha gerabatan/klontongan
H25: =SUM(H7:H23) -> 17 | I25: =SUM(I7:I23) -> 0 | J25: =SUM(J7:J23) -> 0 | K25: =SUM(K7:K23) -> 0 | L25: =SUM(L7:L23) -> 0 | M25: =SUM(M7:M23) -> 0 | N25: =SUM(N7:N23) -> 0 | O25: =SUM(O7:O23) -> 0 | P25: =SUM(P7:P23) -> 16 | R25: 9. Pemberian izin usaha hasil bumi dengan luas bangunan < 36m2
C29: 2. | D29: Lampung Tengah | F29: 1. | G29: Kalirejo | H29: 0 | I29: 1 | J29: 0 | K29: 0 | L29: 0 | M29: 0 | N29: 0 | S29: Perbup Lampung Tengah Nomor 11.A Tahun 2013 tentang Pelimpahan Sebagian Kewenangan Pemerintahan Dari Bupati Kepada Camat
F30: 2. | G30: Bangun Rejo | H30: 0 | I30: 1 | J30: 0 | K30: 0 | L30: 0 | M30: 0 | N30: 0
F31: 3. | G31: Padang Ratu | H31: 0 | I31: 1 | J31: 0 | K31: 0 | L31: 0 | M31: 0 | N31: 0
F32: 4. | G32: Gunung Sugih | H32: 0 | I32: 1 | J32: 0 | K32: 0 | L32: 0 | M32: 0 | N32: 0
F33: 5. | G33: Trimurjo | H33: 0 | I33: 1 | J33: 0 | K33: 0 | L33: 0 | M33: 0 | N33: 0
F34: 6. | G34: Punggur | H34: 0 | I34: 1 | J34: 0 | K34: 0 | L34: 0 | M34: 0 | N34: 0
F35: 7. | G35: Terbanggi Besar | H35: 0 | I35: 1 | J35: 0 | K35: 0 | L35: 0 | M35: 0 | N35: 0
F36: 8. | G36: Seputih Raman | H36: 0 | I36: 1 | J36: 0 | K36: 0 | L36: 0 | M36: 0 | N36: 0
F37: 9. | G37: Rumbia | H37: 0 | I37: 1 | J37: 0 | K37: 0 | L37: 0 | M37: 0 | N37: 0
F38: 10. | G38: Seputih Banyak | H38: 0 | I38: 1 | J38: 0 | K38: 0 | L38: 0 | M38: 0 | N38: 0
F39: 11. | G39: Seputih Mataram | H39: 0 | I39: 1 | J39: 0 | K39: 0 | L39: 0 | M39: 0 | N39: 0
F40: 12. | G40: Seputih Surabaya | H40: 0 | I40: 1 | J40: 0 | K40: 0 | L40: 0 | M40: 0 | N40: 0
F41: 13. | G41: Terusan Nunyai | H41: 0 | I41: 1 | J41: 0 | K41: 0 | L41: 0 | M41: 0 | N41: 0
... F56: 28. | G56: Putra Rumbia | H56: 0 | I56: 1 | J56: 0 | K56: 0 | L56: 0 | M56: 0 | N56: 0
H58: =SUM(H29:H56) -> 0 | I58: =SUM(I29:I56) -> 28 | J58: =SUM(J29:J56) -> 0 | K58: =SUM(K29:K56) -> 0 | L58: =SUM(L29:L56) -> 0 | M58: =SUM(M29:M56) -> 0 | N58: =SUM(N29:N56) -> 0 | O58: =SUM(O29:O56) -> 0 | P58: =SUM(P29:P56) -> 0
C61: 3. | D61: Lampung Utara | F61: 1. | G61: Bukit Kemuning | H61: 0 | I61: 1 | J61: 0 | K61: 0 | L61: 0 | M61: 0 | N61: 0
F62: 2. | G62: Kotabumi | H62: 0 | I62: 1 | J62: 0 | K62: 0 | L62: 0 | M62: 0 | N62: 0
F63: 3. | G63: Sungkai Selatan | H63: 0 | I63: 1 | J63: 0 | K63: 0 | L63: 0 | M63: 0 | N63: 0
F64: 4. | G64: Tanjung Raja | H64: 0 | I64: 1 | J64: 0 | K64: 0 | L64: 0 | M64: 0 | N64: 0
F65: 5. | G65: Abung Timur | H65: 0 | I65: 1 | J65: 0 | K65: 0 | L65: 0 | M65: 0 | N65: 0
F66: 6. | G66: Abung Barat | H66: 0 | I66: 1 | J66: 0 | K66: 0 | L66: 0 | M66: 0 | N66: 0
F67: 7. | G67: Abung Selatan | H67: 0 | I67: 1 | J67: 0 | K67: 0 | L67: 0 | M67: 0 | N67: 0
F68: 8. | G68: Sungkai Utara | H68: 0 | I68: 1 | J68: 0 | K68: 0 | L68: 0 | M68: 0 | N68: 0
F69: 9. | G69: Kotabumi Utara | H69: 0 | I69: 1 | J69: 0 | K69: 0 | L69: 0 | M69: 0 | N69: 0
F70: 10. | G70: Kotabumi Selatan | H70: 0 | I70: 1 | J70: 0 | K70: 0 | L70: 0 | M70: 0 | N70: 0
F71: 11. | G71: Abung Tengah | H71: 0 | I71: 1 | J71: 0 | K71: 0 | L71: 0 | M71: 0 | N71: 0
F72: 12. | G72: Abung Tinggi | H72: 0 | I72: 1 | J72: 0 | K72: 0 | L72: 0 | M72: 0 | N72: 0
F73: 13. | G73: Abung Semuli | H73: 0 | I73: 1 | J73: 0 | K73: 0 | L73: 0 | M73: 0 | N73: 0
... F83: 23. | G83: Blambangan Pagar | H83: 0 | I83: 1 | J83: 0 | K83: 0 | L83: 0 | M83: 0 | N83: 0
H85: =SUM(H61:H83) -> 0 | I85: =SUM(I61:I83) -> 23 | J85: =SUM(J61:J83) -> 0 | K85: =SUM(K61:K83) -> 0 | L85: =SUM(L61:L83) -> 0 | M85: =SUM(M61:M83) -> 0 | N85: =SUM(N61:N83) -> 0 | O85: =SUM(O61:O83) -> 0 | P85: =SUM(P61:P83) -> 0
C88: 4. | D88: Lampung Barat | F88: 1. | G88: Balik Bukit | H88: 1 | I88: 0 | J88: 0 | K88: 0 | L88: 0 | M88: 0 | N88: 0 | O88: 1 | R88: 1. IMB berlantai 1, luas bangunan <200m2, bersifat non usaha | S88: 1). Kep. Bup. Lampung Barat No. B/53/KPTS/01/ 2011 tgl 8 Feb 2011 ttg Tim Teknis PATEN Kab. Lampung Barat
F89: 2. | G89: Sumber Jaya | H89: 1 | I89: 0 | J89: 0 | K89: 0 | L89: 0 | M89: 0 | N89: 0 | O89: 1
F90: 3. | G90: Belalau | H90: 1 | I90: 0 | J90: 0 | K90: 0 | L90: 0 | M90: 0 | N90: 0 | O90: 1 | R90: 2. Izin gangguan untuk usaha yg berdampak lingk kecil, luas maks 150m2, tenaga kerja maks 5 org, bentuk perusahaan perorangan bukan CV atau PT, tidak menggunakan bahan kimia
F91: 4. | G91: Way Tenong | H91: 1 | I91: 0 | J91: 0 | K91: 0 | L91: 0 | M91: 0 | N91: 0 | O91: 1 | S91: 2). SK Bup Lampung Barat No. B/480/KPTS/01/ 2011 tgl 20 Sept 2011 ttg Penetapan Kec. Sumber Jaya & Kec. Pesisir Tengah Sebagai Penyelenggara PATEN Kab. Lampung Barat Pada Tahun 2012
F92: 5. | G92: Sekincau | H92: 1 | I92: 0 | J92: 0 | K92: 0 | L92: 0 | M92: 0 | N92: 0 | O92: 1
F93: 6. | G93: Suoh | H93: 1 | I93: 0 | J93: 0 | K93: 0 | L93: 0 | M93: 0 | N93: 0 | O93: 1
F94: 7. | G94: Batu Brak | H94: 1 | I94: 0 | J94: 0 | K94: 0 | L94: 0 | M94: 0 | N94: 0 | O94: 1 | R94: 3. Izin pemasangan reklame di atas toko atau halaman/pekarangan dengan ukuran maks 6m2, spanduk, layar, umbul2, poster, stiker, selebaran
F95: 8. | G95: Sukau | H95: 1 | I95: 0 | J95: 0 | K95: 0 | L95: 0 | M95: 0 | N95: 0 | O95: 1
F96: 9. | G96: Gedung Surian | H96: 1 | I96: 0 | J96: 0 | K96: 0 | L96: 0 | M96: 0 | N96: 0 | O96: 1 | S96: 3). Perbup Lampung Barat No. 21 Thn 2012 tgl 7 Mei 2012 ttg Pelimpahan Sebagian Kewenangan Bup Kpd Camat di Lingk Kab. Lampung Barat
F97: 10. | G97: Kebun Tebu | H97: 1 | I97: 0 | J97: 0 | K97: 0 | L97: 0 | M97: 0 | N97: 0 | O97: 1 | R97: 4. SITU luas maks 150m2, tenaga kerja maks 5 org, bentuk perusahaan perorangan bukan CV atau PT, tidak menggunakan bahan kimia
F98: 11. | G98: Air Hitam | H98: 1 | I98: 0 | J98: 0 | K98: 0 | L98: 0 | M98: 0 | N98: 0 | O98: 1
F99: 12. | G99: Pagar Dewa | H99: 1 | I99: 0 | J99: 0 | K99: 0 | L99: 0 | M99: 0 | N99: 0 | O99: 1 | S99: 4). Perbup Lampung Barat No. 22 Thn 2012 tgl 7 Mei 2012 ttg Pelimpahan Sebagian Kewenangan Bup Dibidang Perizinan & Non Perizinan Kpd Camat Dalam Rangka Penyelenggaraan PATEN
F100: 13. | G100: Batu Ketulis | H100: 1 | I100: 0 | J100: 0 | K100: 0 | L100: 0 | M100: 0 | N100: 0 | O100: 1 | R100: 5. SIUP maks Rp. 100jt, tidak termasuk tanah & bangunan tempat usaha
F101: 14. | G101: Lumbok Seminung | H101: 1 | I101: 0 | J101: 0 | K101: 0 | L101: 0 | M101: 0 | N101: 0 | O101: 1
F102: 15. | G102: Bandar Negeri Suoh | H102: 1 | I102: 0 | J102: 0 | K102: 0 | L102: 0 | M102: 0 | N102: 0 | O102: 1 | R102: 6. Izin Usaha Industri (IUI) dengan intensitas kecil dengan luas ruang usaha < 150m2
S103: 5). SK Bup Lampung Barat No. B/42/KPTS/01/ 2013 tgl 23 Jan 2013 ttg Tim Teknis PATEN Kab. Lampung Barat
S106: 6). SK Bup Lampung Barat No. B/64/KPTS/01/ 2013 tgl 31 Jan 2013 ttg Kec. Balik Bukit & Kec. Way Tenong Sebagai Penyelenggara PATEN Kab. Lampung Barat Pada Tahun 2013
S110: 7). Perbup Lampung Barat No. 26 Thn 2013 tgl 1 Agt 2013 ttg Pedoman Pelaksanaan PATEN di Lingk Pemerintah Kab. Lampung Barat (terlampir uraian tugas pelaksana PATEN, SOP Pelayanan Perizinan, SOP Pelayanan Adm, SP Pelayanan Non Perizinan
H115: =SUM(H88:H113) -> 15 | I115: =SUM(I88:I113) -> 0 | J115: =SUM(J88:J113) -> 0 | K115: =SUM(K88:K113) -> 0 | L115: =SUM(L88:L113) -> 0 | M115: =SUM(M88:M113) -> 0 | N115: =SUM(N88:N113) -> 0 | O115: =SUM(O88:O113) -> 15 | ... Q115: =SUM(Q88:Q113) -> 0
S116: 8). Kep. Bup Lampung Barat No. B/175/KPTS/01/ 2014 tgl 20 Maret 2014 ttg Penetapan Kec. Belalau, Batu Brak, Gedung Surian, Sekincau, Sukau, Suoh, Air Hitam, Bandar Negeri Suoh, Batu Ketulis, Kebun Tebu, Lumbok Seminung dan Pagar Dewa Sebagai Penyelenggara PATEN Kab. Lampung Barat
C128: 5. | D128: Tulang Bawang | F128: 1. | G128: Menggala | H128: 0 | I128: 1 | J128: 0 | K128: 0 | L128: 0 | M128: 0 | N128: 0
F129: 2. | G129: Gedung Aji | H129: 0 | I129: 1 | J129: 0 | K129: 0 | L129: 0 | M129: 0 | N129: 0
F130: 3. | G130: Banjar Agung | H130: 0 | I130: 1 | J130: 0 | K130: 0 | L130: 0 | M130: 0 | N130: 0
F131: 4. | G131: Gedung Meneng | H131: 0 | I131: 1 | J131: 0 | K131: 0 | L131: 0 | M131: 0 | N131: 0
F132: 5. | G132: Rawa Jitu Selatan | H132: 0 | I132: 1 | J132: 0 | K132: 0 | L132: 0 | M132: 0 | N132: 0
F133: 6. | G133: Penawar Tuna | H133: 0 | I133: 1 | J133: 0 | K133: 0 | L133: 0 | M133: 0 | N133: 0
F134: 7. | G134: Rawa Jitu Timur | H134: 0 | I134: 1 | J134: 0 | K134: 0 | L134: 0 | M134: 0 | N134: 0
F135: 8. | G135: Banjar Margo | H135: 0 | I135: 1 | J135: 0 | K135: 0 | L135: 0 | M135: 0 | N135: 0
F136: 9. | G136: Rawa Pitu | H136: 0 | I136: 1 | J136: 0 | K136: 0 | L136: 0 | M136: 0 | N136: 0
F137: 10. | G137: Penawar Aji | H137: 0 | I137: 1 | J137: 0 | K137: 0 | L137: 0 | M137: 0 | N137: 0
F138: 11. | G138: Dente Teladas | H138: 0 | I138: 1 | J138: 0 | K138: 0 | L138: 0 | M138: 0 | N138: 0
F139: 12. | G139: Meraksa Aji | H139: 0 | I139: 1 | J139: 0 | K139: 0 | L139: 0 | M139: 0 | N139: 0
F140: 13. | G140: Gedung Aji Baru | H140: 0 | I140: 1 | J140: 0 | K140: 0 | L140: 0 | M140: 0 | N140: 0
... F142: 15. | G142: Menggala Timur | H142: 0 | I142: 1 | J142: 0 | K142: 0 | L142: 0 | M142: 0 | N142: 0
H144: =SUM(H128:H142) -> 0 | I144: =SUM(I128:I142) -> 15 | J144: =SUM(J128:J142) -> 0 | K144: =SUM(K128:K142) -> 0 | L144: =SUM(L128:L142) -> 0 | M144: =SUM(M128:M142) -> 0 | N144: =SUM(N128:N142) -> 0 | O144: =SUM(O128:O142) -> 0 | P144: =SUM(P128:P142) -> 0
C147: 6. | D147: Tanggamus | F147: 1. | G147: Kota Agung | H147: 0 | I147: 1 | J147: 0 | K147: 0 | L147: 0 | M147: 0 | N147: 0
F148: 2. | G148: Talang Padang | H148: 0 | I148: 1 | J148: 0 | K148: 0 | L148: 0 | M148: 0 | N148: 0
F149: 3. | G149: Wonosobo | H149: 0 | I149: 1 | J149: 0 | K149: 0 | L149: 0 | M149: 0 | N149: 0
F150: 4. | G150: Pulau Panggung | H150: 0 | I150: 1 | J150: 0 | K150: 0 | L150: 0 | M150: 0 | N150: 0
F151: 5. | G151: Cukuh Balak | H151: 0 | I151: 1 | J151: 0 | K151: 0 | L151: 0 | M151: 0 | N151: 0
F152: 6. | G152: Pugung | H152: 0 | I152: 1 | J152: 0 | K152: 0 | L152: 0 | M152: 0 | N152: 0
F153: 7. | G153: Semaka | H153: 0 | I153: 1 | J153: 0 | K153: 0 | L153: 0 | M153: 0 | N153: 0
F154: 8. | G154: Sumber Rejo | H154: 0 | I154: 1 | J154: 0 | K154: 0 | L154: 0 | M154: 0 | N154: 0
F155: 9. | G155: Ulu Belu | H155: 0 | I155: 1 | J155: 0 | K155: 0 | L155: 0 | M155: 0 | N155: 0
F156: 10. | G156: Pematang Sawa | H156: 0 | I156: 1 | J156: 0 | K156: 0 | L156: 0 | M156: 0 | N156: 0
F157: 11. | G157: Klumbayan | H157: 0 | I157: 1 | J157: 0 | K157: 0 | L157: 0 | M157: 0 | N157: 0
F158: 12. | G158: Kota Agung Barat | H158: 0 | I158: 1 | J158: 0 | K158: 0 | L158: 0 | M158: 0 | N158: 0
...

Sheet 9.kep.babel
A1: DATA PATEN
A3: NO. | B3: PROVINSI | C3: NO. | D3: KAB | E3: KOTA | F3: NO. | G3: KEC | H3: PATEN | I3: BELUM PATEN | J3: TAHUN | R3: JENIS PERIZINAN YANG DILIMPAHKAN | S3: DASAR HUKUM | T3: KET
J4: 2010 | K4: 2011 | L4: 2012 | M4: 2013 | N4: 2014 | O4: 2015 | P4: 2016 | Q4: 2017
A5: 1 | B5: 2 | C5: 3 | D5: 4 | E5: 5 | F5: 6 | G5: 7 | H5: 8 | I5: 9 | J5: 10 | R5: 11 | S5: 12 | T5: 13
A7: 9. | B7: KEP. BABEL | C7: 1. | D7: Bangka | E7: - | F7: 1. | G7: Sungailiat | H7: 1 | I7: 0 | J7: 0 | K7: 0 | L7: 0 | M7: 0 | N7: 0 | O7: 1 | P7: 0 | R7: 1. Izin pertunjukan/hiburan 8 jenis | S7: 1). SK Bup. Bangka No. 188.45/563.4/I/2013 tgl 27 Sept 2013 ttg Penetapan Tim Teknis Pembentukan PATEN
F8: 2. | G8: Belinyu | H8: 1 | I8: 0 | J8: 0 | K8: 0 | L8: 0 | M8: 0 | N8: 0 | O8: 1 | P8: 0 | R8: 2. TDP & tanda daftar industri skala kecil
F9: 3. | G9: Merawang | H9: 1 | I9: 0 | J9: 0 | K9: 0 | L9: 0 | M9: 0 | N9: 0 | O9: 1 | P9: 0 | R9: 3. IUK salon kecantikan skala kecil
F10: 4. | G10: Mendo Barat | H10: 1 | I10: 0 | J10: 0 | K10: 0 | L10: 0 | M10: 0 | N10: 0 | O10: 1 | P10: 0 | R10: 4. IMB (permanen kelas B, permanen 1/2 bata pilar & semi permanen) s.d 150m2 | S10: 2). Perbup Bangka No. 25 Thn 2013 tgl 4 Nov 2013 ttg Pendelegasian Sebagian Wewenang Bup Kpd Kec Sebagai Penyelenggara PATEN di Kab. Bangka
F11: 5. | G11: Pemali | H11: 1 | I11: 0 | J11: 0 | K11: 0 | L11: 0 | M11: 0 | N11: 0 | O11: 1 | P11: 0
F12: 6. | G12: Bakam | H12: 1 | I12: 0 | J12: 0 | K12: 0 | L12: 0 | M12: 0 | N12: 0 | O12: 1 | P12: 0 | R12: 5. Izin rumah makan/warung skala kecil
F13: 7. | G13: Riau Silip | H13: 1 | I13: 0 | J13: 0 | K13: 0 | L13: 0 | M13: 0 | N13: 0 | O13: 1 | P13: 0 | R13: 6. Izin temapt usaha pedagang kaki lima
F14: 8. | G14: Puding Besar | H14: 1 | I14: 0 | J14: 0 | K14: 0 | L14: 0 | M14: 0 | N14: 0 | O14: 1 | P14: 0 | R14: 7. Izin gangguan kegiatan usaha jasa seperti : bengkel kendaraan bermotor, bengkel bubut skala kecil | S14: 3). Perbup Bangka No. 26 Thn 2013 tgl 4 Nov 2013 ttg Standar PATEN di Kab. Bangka
H16: =SUM(H7:H14) -> 8 | I16: =SUM(I7:I14) -> 0 | J16: =SUM(J7:J14) -> 0 | K16: =SUM(K7:K14) -> 0 | L16: =SUM(L7:L14) -> 0 | M16: =SUM(M7:M14) -> 0 | N16: =SUM(N7:N14) -> 0 | O16: =SUM(O7:O14) -> 8 | P16: =SUM(P7:P14) -> 0 | S16: 4). SK Bup. Bangka No. 188.45/595/I/2013 tgl 25 Okt 2013 ttg Penetapan Kec Sebagai Penyelenggara PATEN
R17: 8. Izin membuka tanah s.d 20.000m2 (untuk orang perorangan)
R19: 9. Izin SITU & SIUP 24 jenis
R20: Izin yang dilimpahkan 43 jenis
C23: 2. | D23: Belitung | E23: - | F23: 1. | G23: Tanjung Pandan | H23: 0 | I23: 1 | J23: 0 | K23: 0 | L23: 0 | M23: 0 | N23: 0 | O23: 0 | P23: 0
F24: 2. | G24: Membalong | H24: 0 | I24: 1 | J24: 0 | K24: 0 | L24: 0 | M24: 0 | N24: 0 | O24: 0 | P24: 0
F25: 3. | G25: Selat Nasik | H25: 0 | I25: 1 | J25: 0 | K25: 0 | L25: 0 | M25: 0 | N25: 0 | O25: 0 | P25: 0
F26: 4. | G26: Sijuk | H26: 0 | I26: 1 | J26: 0 | K26: 0 | L26: 0 | M26: 0 | N26: 0 | O26: 0 | P26: 0
F27: 5. | G27: Badau | H27: 0 | I27: 1 | J27: 0 | K27: 0 | L27: 0 | M27: 0 | N27: 0 | O27: 0 | P27: 0
H29: =SUM(H23:H27) -> 0 | I29: =SUM(I23:I27) -> 5 | J29: =SUM(J23:J27) -> 0 | K29: =SUM(K23:K27) -> 0 | L29: =SUM(L23:L27) -> 0 | M29: =SUM(M23:M27) -> 0 | N29: =SUM(N23:N27) -> 0 | O29: =SUM(O23:O27) -> 0
C32: 3. | D32: Bangka Selatan | E32: - | F32: 1. | G32: Toboali | H32: 1 | I32: 0 | J32: 0 | K32: 0 | L32: 0 | M32: 0 | N32: 1 | O32: =-O32 -> 0 | T32: Launching secara bersama pada tgl 2 Oktober 2014 di Jakarta
F33: 2. | G33: Lepar Pongok | H33: 0 | I33: 1 | J33: 0 | K33: 0 | L33: 0 | M33: 0 | N33: 0 | O33: 0
F34: 3. | G34: Air Gegas | H34: 1 | I34: 0 | J34: 0 | K34: 0 | L34: 0 | M34: 0 | N34: 1 | O34: 0
F35: 4. | G35: Simpang Rimba | H35: 0 | I35: 1 | J35: 0 | K35: 0 | L35: 0 | M35: 0 | N35: 0 | T35: Belum ada berkas
F36: 5. | G36: Payung | H36: 0 | I36: 1 | J36: 0 | K36: 0 | L36: 0 | M36: 0 | N36: 0
F37: 6. | G37: Tukak Sadai | H37: 0 | I37: 1 | J37: 0 | K37: 0 | L37: 0 | M37: 0 | N37: 0
F38: 7. | G38: Pulaubesar | H38: 0 | I38: 1 | J38: 0 | K38: 0 | L38: 0 | M38: 0 | N38: 0
F39: 8. | G39: Kepulauan Pongok | H39: 0 | I39: 1 | J39: 0 | K39: 0 | L39: 0 | M39: 0 | N39: 0
H41: =SUM(H32:H39) -> 2 | I41: =SUM(I32:I39) -> 6 | J41: =SUM(J32:J39) -> 0 | K41: =SUM(K32:K39) -> 0 | L41: =SUM(L32:L39) -> 0 | M41: =SUM(M32:M39) -> 0 | N41: =SUM(N32:N39) -> 2 | O41: =SUM(O32:O39) -> 2
C44: 4. | D44: Bangka Tengah | E44: - | F44: 1. | G44: Koba | H44: 1 | I44: 0 | J44: 0 | K44: 0 | L44: 0 | M44: 0 | N44: 1 | O44: 1 | S44: Perbup Bangka Tengah Nomor 38 Tahun 2015 tentang Perubahan atas Perbup Nomor 29 Tahun 2012 tentang Pelimpahan sebagian kewenangan bupati kepada camat | T44: Launching secara bersama pada tgl 2 Oktober 2014 di Jakarta
F45: 2. | G45: Pangkalan Baru | H45: 1 | I45: 0 | J45: 0 | K45: 0 | L45: 0 | M45: 0 | N45: 1 | O45: 1
F46: 3. | G46: Sungai Selan | H46: 1 | I46: 0 | J46: 0 | K46: 0 | L46: 0 | M46: 0 | N46: 1 | O46: 1
F47: 4. | G47: Simpang Katis | H47: 1 | I47: 0 | J47: 0 | K47: 0 | L47: 0 | M47: 0 | N47: 1 | O47: 1 | T47: Belum ada berkas
F48: 5. | G48: Namang | H48: 1 | I48: 0 | J48: 0 | K48: 0 | L48: 0 | M48: 0 | N48: 1 | O48: 1
F49: 6. | G49: Lubuk Besar | H49: 1 | I49: 0 | J49: 0 | K49: 0 | L49: 0 | M49: 0 | N49: 1 | O49: 1
H51: =SUM(H44:H49) -> 6 | I51: =SUM(I44:I49) -> 0 | J51: =SUM(J44:J49) -> 0 | K51: =SUM(K44:K49) -> 0 | L51: =SUM(L44:L49) -> 0 | M51: =SUM(M44:M49) -> 0 | N51: =SUM(N44:N49) -> 6 | O51: =SUM(O44:O49) -> 6
C54: 5. | D54: Bangka Barat | E54: - | F54: 1. | G54: Mentok | H54: 1 | I54: 0 | J54: 0 | K54: 0 | L54: 0 | M54: 0 | N54: 1 | O54: 0 | P54: 0 | R54: 1. Izin gangguan 7 jenis | S54: 1). Perbup Bangka Barat No. 25 Thn 2014 tgl 6 Agt 2014 ttg Pelimpahan Kewenangan Bup kpd Camat
F55: 2. | G55: Simpang Teritis | H55: 1 | I55: 0 | J55: 0 | K55: 0 | L55: 0 | M55: 0 | N55: 1 | O55: 0 | P55: 0 | R55: 2. Izin usaha perikanan 4 jenis
F56: 3. | G56: Jebus | H56: 1 | I56: 0 | J56: 0 | K56: 0 | L56: 0 | M56: 0 | N56: 1 | O56: 0 | P56: 0 | R56: 3. Izin usaha perdagangan perorangan
F57: 4. | G57: Kelapa | H57: 1 | I57: 0 | J57: 0 | K57: 0 | L57: 0 | M57: 0 | N57: 1 | O57: 0 | P57: 0 | R57: 4. TDP perorangan | S57: 2). Perbup Bangka Barat No. 26 Thn 2014 tgl 6 Agt 2014 ttg PATEN di Kab. Bangka Barat
F58: 5. | G58: Tempilang | H58: 1 | I58: 0 | J58: 0 | K58: 0 | L58: 0 | M58: 0 | N58: 1 | O58: 0 | P58: 0 | R58: 5. Tanda daftar gudang kecil
F59: 6. | G59: Parittiga | H59: 1 | I59: 0 | J59: 0 | K59: 0 | L59: 0 | M59: 0 | N59: 1 | O59: 0 | P59: 0 | S59: 3). SK Bup. Bangka Barat No. 188.45/353/1.20.03.3/2014 tgl 6 Agt 2014 ttg Penetapan Kec Dalam Wil Kab. Bangka Barat Sebagai Penyelenggara PATEN
R60: Perizinan yang dilimpahkan 14 jenis
H61: =SUM(H54:H59) -> 6 | I61: =SUM(I54:I59) -> 0 | J61: =SUM(J54:J59) -> 0 | K61: =SUM(K54:K59) -> 0 | L61: =SUM(L54:L59) -> 0 | M61: =SUM(M54:M59) -> 0 | N61: =SUM(N54:N59) -> 6 | O61: =SUM(O54:O59) -> 0 | P61: =SUM(P54:P59) -> 0
C64: 6. | D64: Belitung Timur | E64: - | F64: 1. | G64: Manggar | H64: 1 | I64: 0 | J64: 0 | K64: 0 | L64: 0 | M64: 0 | N64: 0 | O64: 1 | P64: 0 | R64: 1. Izin pemasangan reklame papan merek toko yg menempel di areal toko | S64: 1). SK Bup. Belitung Timur No. 409 Thn 2011 tgl 23 Mei 2011 ttg Pembentukan Tim Teknis PATEN Kab. Belitung Timur | T64: Penetapan 2012 atau 2013??????
F65: 2. | G65: Gantung | H65: 1 | I65: 0 | J65: 0 | K65: 0 | L65: 0 | M65: 0 | N65: 0 | O65: 1 | P65: 0 | R65: 2. Izin usaha kecil penggilingan padi < 5 ton/ hari
F66: 3. | G66: Dendang | H66: 1 | I66: 0 | J66: 0 | K66: 0 | L66: 0 | M66: 0 | N66: 0 | O66: 1 | P66: 0
F67: 4. | G67: Kelapa Kampit | H67: 1 | I67: 0 | J67: 0 | K67: 0 | L67: 0 | M67: 0 | N67: 0 | O67: 1 | P67: 0 | R67: 3. Izin usaha perlebahan | S67: 2). Perbup Belitung Timur No. 38 Thn 2012 tgl 19 Okt 2012 ttg Pelimpahan Wewenang Bup Belitung Timur kpd Camat
F68: 5. | G68: Damar | H68: 1 | I68: 0 | J68: 0 | K68: 0 | L68: 0 | M68: 0 | N68: 0 | O68: 1 | P68: 0 | R68: 4. Izin tanda daftar pekebunan untuk areal <5ha
F69: 6. | G69: Simpang Renggiang | H69: 1 | I69: 0 | J69: 0 | K69: 0 | L69: 0 | M69: 0 | N69: 0 | O69: 1 | P69: 0 | R69: 5. Izin usaha pembenihan (bid. Perkebunan) perorangan
F70: 7. | G70: Simpang Pesak | H70: 1 | I70: 0 | J70: 0 | K70: 0 | L70: 0 | M70: 0 | N70: 0 | O70: 1 | P70: 0 | S70: 3). Perbup Belitung Timur No. 17 Thn 2013 tgl 15 Maret 2013 ttg Uraian Tugas Pelaksana PATEN
R71: 6. Bidang/urusan pariwisata 7 jenis
H72: =SUM(H64:H70) -> 7 | I72: =SUM(I64:I70) -> 0 | J72: =SUM(J64:J70) -> 0 | K72: =SUM(K64:K70) -> 0 | L72: =SUM(L64:L70) -> 0 | M72: =SUM(M64:M70) -> 0 | N72: =SUM(N64:N70) -> 0 | O72: =SUM(O64:O70) -> 7 | P72: =SUM(P64:P70) -> 0 | R72: Ada 12 jenis perizinan yang dilimpahkan ke kec
C75: 7. | D75: - | E75: Pangkal Pinang | F75: 1. | G75: Bukitintan | H75: 1 | I75: 0 | J75: 0 | K75: 0 | L75: 0 | M75: 0 | N75: 0 | P75: 1
F76: 2. | G76: Taman Sari | H76: 1 | I76: 0 | J76: 0 | K76: 0 | L76: 0 | M76: 0 | N76: 0 | P76: 1
F77: 3. | G77: Pangkal Balam | H77: 1 | I77: 0 | J77: 0 | K77: 0 | L77: 0 | M77: 0 | N77: 0 | P77: 1
F78: 4. | G78: Rangkui | H78: 1 | I78: 0 | J78: 0 | K78: 0 | L78: 0 | M78: 0 | N78: 0 | P78: 1
F79: 5. | G79: Gerunggung | H79: 1 | I79: 0 | J79: 0 | K79: 0 | L79: 0 | M79: 0 | N79: 0 | P79: 1
F80: 6. | G80: Gebek | H80: 1 | I80: 0 | J80: 0 | K80: 0 | L80: 0 | M80: 0 | N80: 0 | P80: 1
F81: 7. | G81: Girimaya | H81: 1 | I81: 0 | J81: 0 | K81: 0 | L81: 0 | M81: 0 | N81: 0 | P81: 1
H83: =SUM(H75:H81) -> 7 | I83: =SUM(I75:I81) -> 0 | J83: =SUM(J75:J81) -> 0 | K83: =SUM(K75:K81) -> 0 | L83: =SUM(L75:L81) -> 0 | M83: =SUM(M75:M81) -> 0 | N83: =SUM(N75:N81) -> 0 | O83: =SUM(O75:O81) -> 0 | P83: =SUM(P75:P81) -> 7
H85: =H16+H29+H41+H51+H61+H72+H83 -> 36 | I85: =I16+I29+I41+I51+I61+I72+I83 -> 11 | J85: =J16+J29+J41+J51+J61+J72+J83 -> 0 | K85: =K16+K29+K41+K51+K61+K72+K83 -> 0 | L85: =L16+L29+L41+L51+L61+L72+L83 -> 0 | M85: =M16+M29+M41+M51+M61+M72+M83 -> 0 | N85: =N16+N29+N41+N51+N61+N72+N83 -> 14 | O85: =O16+O29+O41+O51+O61+O72+O83 -> 29 | P85: =P16+P29+P41+P51+P61+P72+P83 -> 7

Sheet 10.kepri
A1: DATA PATEN
A3: NO. | B3: PROVINSI | C3: NO. | D3: KAB | E3: KOTA | F3: NO. | G3: KEC | H3: PATEN | I3: BELUM PATEN | J3: TAHUN | R3: JENIS PERIZINAN YANG DILIMPAHKAN | S3: DASAR HUKUM | T3: KET
J4: 2010 | K4: 2011 | L4: 2012 | M4: 2013 | N4: 2014 | O4: 2015 | P4: 2016 | Q4: 2017
A5: 1 | B5: 2 | C5: 3 | D5: 4 | E5: 5 | F5: 6 | G5: 7 | H5: 8 | I5: 9 | J5: 10 | R5: 11 | S5: 12 | T5: 13
A7: 10. | B7: KEPRI | C7: 1. | D7: Bintan | E7: - | F7: 1. | G7: Gunung Kijang | H7: 1 | I7: 0 | J7: 0 | K7: 0 | L7: 0 | M7: 1 | N7: 0 | O7: 1 | P7: 0 | R7: 1. IMB tidak bertingkat dgn luas bangunan maks 500m2 | S7: 1). Perbup. Bintan No. 8 Thh 2009 tgl 14 Jan 2009 ttg Pelimpahan Sebagian Kewenangan Pemkab. Bintan kpd Camat
F8: 2. | G8: Bintan Timur | H8: 1 | I8: 0 | J8: 0 | K8: 0 | L8: 0 | M8: 1 | N8: 0 | O8: 1 | P8: 0
F9: 3. | G9: Bintan Utara | H9: 1 | I9: 0 | J9: 0 | K9: 0 | L9: 0 | M9: 1 | N9: 0 | O9: 1 | P9: 0 | R9: 2. SITU yg tidak berbadan hukum
F10: 4. | G10: Teluk Bintan | H10: 1 | I10: 0 | J10: 0 | K10: 0 | L10: 0 | M10: 1 | N10: 0 | O10: 1 | P10: 0 | R10: 3. Izin penggunaan jalan selain untuk kepentingan lalu lintas lokal | S10: 2). SK Bup Bintan No.215/IV/2013 tgl 11 April 2013 ttg Pembentukan Tim Teknis PATEN di Kab. Bintan
F11: 5. | G11: Tambelan | H11: 1 | I11: 0 | J11: 0 | K11: 0 | L11: 0 | M11: 1 | N11: 0 | O11: 1 | P11: 0
F12: 6. | G12: Telok Sebong | H12: 1 | I12: 0 | J12: 0 | K12: 0 | L12: 0 | M12: 1 | N12: 0 | O12: 1 | P12: 0
F13: 7. | G13: Topaya | H13: 1 | I13: 0 | J13: 0 | K13: 0 | L13: 0 | M13: 1 | N13: 0 | O13: 1 | P13: 0 | S13: 3). SK Bup Bintan No.355/VII/2013 tgl 2 Juli 2013 ttg Penetapan Kec Sebagai Penyelenggara PATEN
F14: 8. | G14: Mantang | H14: 1 | I14: 0 | J14: 0 | K14: 0 | L14: 0 | M14: 1 | N14: 0 | O14: 1 | P14: 0
F15: 9. | G15: Bintan Pesisir | H15: 1 | I15: 0 | J15: 0 | K15: 0 | L15: 0 | M15: 1 | N15: 0 | O15: 1 | P15: 0
F16: 10. | G16: Seri Kuala Lobam | H16: 1 | I16: 0 | J16: 0 | K16: 0 | L16: 0 | M16: 1 | N16: 0 | O16: 1 | P16: 0 | S16: 4). SK Bup Bintan No.356/VII/2013 tgl 2 Juli 2013 ttg Standar Pelayanan di Kec
H18: =SUM(H7:H16) -> 10 | I18: =SUM(I7:I16) -> 0 | J18: =SUM(J7:J16) -> 0 | K18: =SUM(K7:K16) -> 0 | L18: =SUM(L7:L16) -> 0 | M18: =SUM(M7:M16) -> 10 | N18: =SUM(N7:N16) -> 0 | O18: =SUM(O7:O16) -> 10 | P18: =SUM(P7:P16) -> 0 | S18: 5). SK Bup Bintan No.357/VII/2013 tgl 2 Juli 2013 ttg Penetapan Kode Etik Penyelenggara PATEN di Kab. Bintan
S21: 6) Perbup Bintan Nomor 7 tahun 2016 tentang Perub atas perbup nomor 8 tahun 2009 tentang pelimpahan sebagian wewenang pemkab kepada camat
C23: 2. | D23: Karimun | F23: 1. | G23: Moro | H23: 1 | I23: 0 | J23: 0 | K23: 0 | L23: 0 | M23: 0 | N23: 1 | O23: 1 | P23: 0 | R23: 1. IMB rumah tempat tinggal 1 lantai dg luas bangunan < 200m2 | S23: 1). SK Bup. Karimun No. 208. D Thn 2013 tgl 22 Okt 2013 ttg Pembentukan Tim Teknis PATEN di Kab. Karimun
F24: 2. | G24: Kundor | H24: 1 | I24: 0 | J24: 0 | K24: 0 | L24: 0 | M24: 0 | N24: 1 | O24: 1 | P24: 0
F25: 3. | G25: Karimun | H25: 1 | I25: 0 | J25: 0 | K25: 0 | L25: 0 | M25: 0 | N25: 1 | O25: 1 | P25: 0 | R25: 2. IMB kantor swasta 1 lantai dg luas bangunan < 200m2
F26: 4. | G26: Meral | H26: 1 | I26: 0 | J26: 0 | K26: 0 | L26: 0 | M26: 0 | N26: 1 | O26: 1 | P26: 0 | S26: 2). Perbup. Karimun No. 17 Thn 2013 tgl 2 Des 2013 ttg Pelimpahan Sebagian Kewenangan Bup kpd Camat Untuk Melaksanakan Urusan Pemerintahan Daerah di Kab. Karimun
F27: 5. | G27: Tebing | H27: 1 | I27: 0 | J27: 0 | K27: 0 | L27: 0 | M27: 0 | N27: 1 | O27: 1 | P27: 0 | R27: 3. IMB pergudangan/pertokoan 1 lantai dg luas bangunan < 200m2
F28: 6. | G28: Buru | H28: 1 | I28: 0 | J28: 0 | K28: 0 | L28: 0 | M28: 0 | N28: 1 | O28: 1 | P28: 0
F29: 7. | G29: Kundor Utara | H29: 1 | I29: 0 | J29: 0 | K29: 0 | L29: 0 | M29: 0 | N29: 1 | O29: 1 | P29: 0 | R29: 4. SITU perorangan yg tidak berbadan hukum, seperti kedai, toko, usaha ekonomi masyarakat
F30: 8. | G30: Kundor Barat | H30: 1 | I30: 0 | J30: 0 | K30: 0 | L30: 0 | M30: 0 | N30: 1 | O30: 1 | P30: 0 | S30: 3). Perbup. Karimun No. 18 Thn 2013 tgl 2 Des 2013 ttg Pedoman PATEN di Kab. Karimun
F31: 9. | G31: Durai | H31: 1 | I31: 0 | J31: 0 | K31: 0 | L31: 0 | M31: 0 | N31: 1 | O31: 1 | P31: 0
F32: 10. | G32: Merai Barat | H32: 1 | I32: 0 | J32: 0 | K32: 0 | L32: 0 | M32: 0 | N32: 1 | O32: 1 | P32: 0 | S32: 4). SK Bup. Karimun No. 207. B Thn 2013 tgl 6 Des 2013 ttg Penetapan Kec sbg Penyelenggara PATEN se- Kab. Karimun
F33: 11. | G33: Ungar | H33: 1 | I33: 0 | J33: 0 | K33: 0 | L33: 0 | M33: 0 | N33: 1 | O33: 1 | P33: 0
F34: 12. | G34: Belat | H34: 1 | I34: 0 | J34: 0 | K34: 0 | L34: 0 | M34: 0 | N34: 1 | O34: 1 | P34: 0
H36: =SUM(H23:H34) -> 12 | I36: =SUM(I23:I34) -> 0 | J36: =SUM(J23:J34) -> 0 | K36: =SUM(K23:K34) -> 0 | L36: =SUM(L23:L34) -> 0 | M36: =SUM(M23:M34) -> 0 | N36: =SUM(N23:N34) -> 12 | O36: =SUM(O23:O34) -> 12 | P36: =SUM(P23:P34) -> 0
C39: 3. | D39: Natuna | F39: 1. | G39: Midai | H39: 1 | I39: 0 | J39: 0 | K39: 0 | L39: 0 | M39: 0 | N39: 0 | O39: 1 | P39: 0 | R39: 1. SITU non badan hukum dgn luas bangunan maks 50m2 | S39: 1). SK Bup. Natuna No. 119 Thn 2013 tgl 1 Mei 2013 ttg Pembentukan Tim Teknis PATEN Kab. Natuna
F40: 2. | G40: Bunguran Barat | H40: 1 | I40: 0 | J40: 0 | K40: 0 | L40: 0 | M40: 0 | N40: 0 | O40: 1 | P40: 0
F41: 3. | G41: Serasan | H41: 1 | I41: 0 | J41: 0 | K41: 0 | L41: 0 | M41: 0 | N41: 0 | O41: 1 | P41: 0 | R41: 2. Izin bengkel umum kendaraan bermotor yg non badan hukum
F42: 4. | G42: Bunguran Timur | H42: 1 | I42: 0 | J42: 0 | K42: 0 | L42: 0 | M42: 0 | N42: 0 | O42: 1 | P42: 0 | S42: 2). Perbup. Natuna No. 48 Thn 2013 tgl 5 Des 2013 ttg Pelimpahan Sebagian Kewenangan Bup kpd Camat Untuk Melaksanakann Urusan Pemerintahan
F43: 5. | G43: Bunguran Utara | H43: 1 | I43: 0 | J43: 0 | K43: 0 | L43: 0 | M43: 0 | N43: 0 | O43: 1 | P43: 0 | R43: 3. TDP pariwisata skala kecil
F44: 6. | G44: Subi | H44: 1 | I44: 0 | J44: 0 | K44: 0 | L44: 0 | M44: 0 | N44: 0 | O44: 1 | P44: 0 | R44: 4. Izin optikal
F45: 7. | G45: Pulau Laut | H45: 1 | I45: 0 | J45: 0 | K45: 0 | L45: 0 | M45: 0 | N45: 0 | O45: 1 | P45: 0 | R45: 5. Izin balai pengobatan
F46: 8. | G46: Pulau Tiga | H46: 1 | I46: 0 | J46: 0 | K46: 0 | L46: 0 | M46: 0 | N46: 0 | O46: 1 | P46: 0 | R46: 6. Surat izin pangkalan (SIP BB< bensin, solar & minyak tanah) | S46: 3). Perbup. Natuna No. 49 Thn 2013 tgl 5 Des 2013 ttg Standar Pelayanan Perizinan & Non Perizinan Pada Kec se- Kab. Natuna
F47: 9. | G47: Bunguran Timur Laut | H47: 1 | I47: 0 | J47: 0 | K47: 0 | L47: 0 | M47: 0 | N47: 0 | O47: 1 | P47: 0
F48: 10. | G48: Bunguran Tengah | H48: 1 | I48: 0 | J48: 0 | K48: 0 | L48: 0 | M48: 0 | N48: 0 | O48: 1 | P48: 0 | R48: 7. Izin keramaian yg tidak mengarah pada PEKAT
F49: 11. | G49: Bunguran Selatan | H49: 1 | I49: 0 | J49: 0 | K49: 0 | L49: 0 | M49: 0 | N49: 0 | O49: 1 | P49: 0 | S49: 4). SK Bup. Natuna No. 80 Thn 2014 tgl 5 Maret 2014 ttg Penetapan Kec Sebagai Penyelenggara PATEN se - Kab. Natuna
F50: 12. | G50: Serasan Timur | H50: 1 | I50: 0 | J50: 0 | K50: 0 | L50: 0 | M50: 0 | N50: 0 | O50: 1 | P50: 0 | R50: 8. Pemberian clearance pelayaran kapal perintis atau kapal jenis lainnya di wilayah kerja yg belum memiliki Kantor Syahbandar
H52: =SUM(H39:H50) -> 12 | I52: =SUM(I39:I50) -> 0 | J52: =SUM(J39:J50) -> 0 | K52: =SUM(K39:K50) -> 0 | L52: =SUM(L39:L50) -> 0 | M52: =SUM(M39:M50) -> 0 | N52: =SUM(N39:N50) -> 0 | O52: =SUM(O39:O50) -> 12 | P52: =SUM(P39:P50) -> 0
C55: 4. | D55: Lingga | F55: 1. | G55: Singkep | H55: 1 | I55: 0 | J55: 0 | K55: 0 | L55: 0 | M55: 0 | N55: 1 | O55: 1 | R55: Tidak ada kewenangan perizinan yg dilimpahkan kepada camat | S55: 1). Perbup. Lingga No. 26 Thn 2012 tgl 23 Juli 2012 ttg Pelimpahan Sebagian Kewenangan Bup. Lingga kpd Camat
F56: 2. | G56: Lingga | H56: 1 | I56: 0 | J56: 0 | K56: 0 | L56: 0 | M56: 0 | N56: 1 | O56: 1
F57: 3. | G57: Senayang | H57: 1 | I57: 0 | J57: 0 | K57: 0 | L57: 0 | M57: 0 | N57: 1 | O57: 1
F58: 4. | G58: Singkep Barat | H58: 1 | I58: 0 | J58: 0 | K58: 0 | L58: 0 | M58: 0 | N58: 1 | O58: 1 | S58: 2). SK Bup. Lingga No. 328/KPTS/VIII/2013 tgl 28 Agt 2013 ttg Pembentukan Tim Koord Persiapan PATEN di Kab. Lingga
F59: 5. | G59: Lingga Utara | H59: 1 | I59: 0 | J59: 0 | K59: 0 | L59: 0 | M59: 0 | N59: 1 | O59: 1
F60: 6. | G60: Singkep Pesisir | H60: 1 | I60: 0 | J60: 0 | K60: 0 | L60: 0 | M60: 0 | N60: 1 | O60: 1
F61: 7. | G61: Lingga Timur | H61: 1 | I61: 0 | J61: 0 | K61: 0 | L61: 0 | M61: 0 | N61: 1 | O61: 1 | S61: 3). SK Bup. Lingga No. 356/KPTS/IX/2013 tgl 24 Sept 2013 ttg Penetapan Kode Etik Penyelenggara PTSP & PATEN di Kab. Lingga
F62: 8. | G62: Selayar | H62: 1 | I62: 0 | J62: 0 | K62: 0 | L62: 0 | M62: 0 | N62: 1 | O62: 1
F63: 9. | G63: Singkep Selatan | H63: 1 | I63: 0 | J63: 0 | K63: 0 | L63: 0 | M63: 0 | N63: 1 | O63: 1
S64: 4). SK Bup. Lingga No. 365/KPTS/X/2013 tgl 7 Okt 2013 ttg Penetapan Kec Sebagai Penyelenggara PATEN di Kab. Lingga
H65: =SUM(H55:H63) -> 9 | I65: =SUM(I55:I63) -> 0 | J65: =SUM(J55:J63) -> 0 | K65: =SUM(K55:K63) -> 0 | L65: =SUM(L55:L63) -> 0 | M65: =SUM(M55:M63) -> 0 | N65: =SUM(N55:N63) -> 9 | O65: =SUM(O55:O63) -> 9 | P65: =SUM(P55:P63) -> 0
S67: 5). Perbup. Lingga No. 28 Thn 2013 tgl 29 Nov 2013 ttg SP & SOP PATEN di Kab. Lingga
C71: 5. | D71: Kep. Anambas | F71: 1. | G71: Siantan | H71: 1 | I71: 0 | J71: 0 | K71: 0 | L71: 0 | M71: 0 | N71: 1 | O71: 1 | R71: I. Urusan wajb 2 jenis perizinan | S71: 1). Perbup. Kep. Anambas No. 40.a Thn 2013 tgl 4 Okt 2013 ttg Pelimpahan Sebagian Kewenangan Bup kpd Camat di Kab. Kep. Anambas
F72: 2. | G72: Palmatak | H72: 1 | I72: 0 | J72: 0 | K72: 0 | L72: 0 | M72: 0 | N72: 1 | O72: 1 | R72: II. Urusan pilihan :
F73: 3. | G73: Siantan Timur | H73: 1 | I73: 0 | J73: 0 | K73: 0 | L73: 0 | M73: 0 | N73: 1 | O73: 1 | R73: 1. Perikanan & kelautan 5 jenis izin
F74: 4. | G74: Siantan Selatan | H74: 1 | I74: 0 | J74: 0 | K74: 0 | L74: 0 | M74: 0 | N74: 1 | O74: 1 | R74: 2. Periwisata 10 jenis izin
F75: 5. | G75: Jemaja Timur | H75: 1 | I75: 0 | J75: 0 | K75: 0 | L75: 0 | M75: 0 | N75: 1 | O75: 1 | R75: 3. Industri 1 jenis izin | S75: 2). Perbup. Kep. Anambas No. 42.b Thn 2013 tgl 29 Nov 2013 ttg Standar Pelayanan Perizinan & Non Perizinan PATEN se - Kab. Kep. Anambas
F76: 6. | G76: Jemaja | H76: 1 | I76: 0 | J76: 0 | K76: 0 | L76: 0 | M76: 0 | N76: 1 | O76: 1 | R76: 4. Perdagangan 2 jenis izin
F77: 7. | G77: Siantan Tengah | H77: 1 | I77: 0 | J77: 0 | K77: 0 | L77: 0 | M77: 0 | N77: 1 | O77: 1
R78: Ada 30 jenis perizinan yg dilimpahkan ke kec
H79: =SUM(H71:H77) -> 7 | I79: =SUM(I71:I77) -> 0 | J79: =SUM(J71:J77) -> 0 | K79: =SUM(K71:K77) -> 0 | L79: =SUM(L71:L77) -> 0 | M79: =SUM(M71:M77) -> 0 | N79: =SUM(N71:N77) -> 7 | O79: =SUM(O71:O77) -> 7 | P79: =SUM(P71:P77) -> 0 | S79: 3). Perbup. Kep. Anambas No. 42.c Thn 2013 tgl 29 Nov 2013 ttg Uraian Tugas Pelaksana PATEN di Kab. Kep. Anambas
S82: 4). SK Bup. Kep. Anambas No. 207.a Thn 2013 tgl 23 Des 2013 ttg Penetapan Kec. Siantan Sebagai Penyelenggara PATEN di Kab. Kep. Anambas
C88: 6. | E88: Batam | F88: 1. | G88: Belakang Padang | H88: 1 | I88: 0 | J88: 0 | K88: 0 | L88: 0 | M88: 0 | N88: 1 | O88: 1 | R88: Ada 12 jenis perizinan yg dilimpahkan kpd camat | S88: 1). SK Walikota Batam No. KPTS. 242/HK/VII/2013 tgl 25 Juli 2013 ttg Pembentukan Tim Teknis PATEN Kota Batam
F89: 2. | G89: Batu Ampar | H89: 1 | I89: 0 | J89: 0 | K89: 0 | L89: 0 | M89: 0 | N89: 1 | O89: 1
F90: 3. | G90: Sekupang | H90: 1 | I90: 0 | J90: 0 | K90: 0 | L90: 0 | M90: 0 | N90: 1 | O90: 1
F91: 4. | G91: Nongsa | H91: 1 | I91: 0 | J91: 0 | K91: 0 | L91: 0 | M91: 0 | N91: 1 | O91: 1 | S91: 2). Perwal Batam No. 44 Thn 2013 tgl 12 Agt 2013 ttg Pelimpahan Sebagian Wewenang Pemerintahan dari Walikota Batam kpd Camat
F92: 5. | G92: Bulang | H92: 1 | I92: 0 | J92: 0 | K92: 0 | L92: 0 | M92: 0 | N92: 1 | O92: 1
F93: 6. | G93: Lubuk Raja | H93: 1 | I93: 0 | J93: 0 | K93: 0 | L93: 0 | M93: 0 | N93: 1 | O93: 1
F94: 7. | G94: Sei Beduk | H94: 1 | I94: 0 | J94: 0 | K94: 0 | L94: 0 | M94: 0 | N94: 1 | O94: 1 | S94: 3). SK Walikota Batam No. KPTS. 364/HK/XI/2013 tgl 15 Nov 2013 ttg Penetapan Kec sebagai Penyelenggara PATEN di Kec se- Kota Batam
F95: 8. | G95: Galang | H95: 1 | I95: 0 | J95: 0 | K95: 0 | L95: 0 | M95: 0 | N95: 1 | O95: 1
F96: 9. | G96: Bengkong | H96: 1 | I96: 0 | J96: 0 | K96: 0 | L96: 0 | M96: 0 | N96: 1 | O96: 1
F97: 10. | G97: Batam Kota | H97: 1 | I97: 0 | J97: 0 | K97: 0 | L97: 0 | M97: 0 | N97: 1 | O97: 1
F98: 11. | G98: Sagulung | H98: 1 | I98: 0 | J98: 0 | K98: 0 | L98: 0 | M98: 0 | N98: 1 | O98: 1
F99: 12. | G99: Batu Aji | H99: 1 | I99: 0 | J99: 0 | K99: 0 | L99: 0 | M99: 0 | N99: 1 | O99: 1
H101: =SUM(H88:H99) -> 12 | I101: =SUM(I88:I99) -> 0 | J101: =SUM(J88:J99) -> 0 | K101: =SUM(K88:K99) -> 0 | L101: =SUM(L88:L99) -> 0 | M101: =SUM(M88:M99) -> 0 | N101: =SUM(N88:N99) -> 12 | O101: =SUM(O88:O99) -> 12 | P101: =SUM(P88:P99) -> 0
C104: 7. | E104: Tanjung Pinang | F104: 1. | G104: Tanjung Pinang Barat | H104: 1 | I104: 0 | J104: 0 | K104: 0 | L104: 0 | M104: 0 | N104: 1 | O104: 1 | R104: Izin usaha makanan & minuman di lingkungan pemukiman penduduk yg berskala kecil | S104: 1). SK Walikota Tanjung Pinang No. 644 Thn 2009 tgl 24 Okt 2009 ttg Tim Pengkajian & Evaluasi Pelimpahan Sebagian Wewenang Walikota kpd Camat & Pelimpahan Sebagian Urusan Bid. Pemerintahan, Pembangunan, Pembinaan Kemasyarakatan & Pelayanan Publik kpd Lurah
F105: 2. | G105: Tanjung Pinang Timur | H105: 1 | I105: 0 | J105: 0 | K105: 0 | L105: 0 | M105: 1 | N105: 0 | O105: 1
F106: 3. | G106: Tanjung Pinang Kota | H106: 1 | I106: 0 | J106: 0 | K106: 0 | L106: 0 | M106: 0 | N106: 1 | O106: 1
F107: 4. | G107: Bukit Bestari | H107: 1 | I107: 0 | J107: 0 | K107: 0 | L107: 0 | M107: 1 | N107: 0 | O107: 1
H109: =SUM(H104:H107) -> 4 | I109: =SUM(I104:I107) -> 0 | J109: =SUM(J104:J107) -> 0 | K109: =SUM(K104:K107) -> 0 | L109: =SUM(L104:L107) -> 0 | M109: =SUM(M104:M107) -> 2 | N109: =SUM(N104:N107) -> 2 | O109: =SUM(O104:O107) -> 4 | P109: =SUM(P104:P107) -> 0
S111: 2). Perwal Tanjung Pinang No. 62 Thn 2009 tgl 4 Nov2009 ttg Pelimpahan Sebagian Wewenang Walikota Tanjung Pinang kpd Camat
S114: 3). SK Walikota Tanjung Pinang No. 675 Thn 2009 tgl 4 Nov 2009 ttg Rincian Pelimpahan Sebagian Wewenang Walikota Tanjung Pinang kpd Camat
S118: 4). SK Walikota Tanjung Pinang No. 148 Thn 2013 tgl 15 April 2013 ttg Tim Teknis PATEN Kota Tanjung Pinang
S121: 5).SK Walikota Tanjung Pinang No. 174 Thn 2013 tgl 26 April 2013 ttg Kec Sebagai Penyelenggara PATEN di Kota Tanjung Pinang (Kec. Bukit Bestari)
S125: 6). Perwal Tanjung Pinang No. 20 Thn 2013 tgl 27 Mei 2013 ttg Uraian Tugas Pelaksana PATEN di Kota Tanjung Pinang
S128: 7). SK Walikota Tanjung Pinang No. 303 Thn 2013 tgl 2 Agt 2013 ttg Perubahan Atas Keputusan Walikota Tanjung Pinang No. 174 Thn 2013 tgl 26 April 2013 ttg Kec Sebagai Penyelenggara PATEN di Kota Tanjung Pinang (Kec. Bukit Bestari & Tanjung Pinang Timur)
H133: =H18+H36+H52+H65+H79+H101+H109 -> 66 | I133: =I18+I36+I52+I65+I79+I101+I109 -> 0 | J133: =J18+J36+J52+J65+J79+J101+J109 -> 0 | K133: =K18+K36+K52+K65+K79+K101+K109 -> 0 | L133: =L18+L36+L52+L65+L79+L101+L109 -> 0 | M133: =M18+M36+M52+M65+M79+M101+M109 -> 12 | N133: =N18+N36+N52+N65+N79+N101+N109 -> 42 | O133: =O18+O36+O52+O65+O79+O101+O109 -> 66 | P133: =P18+P36+P52+P65+P79+P101+P109 -> 0

Sheet 11.dki jkt
A1: DATA PATEN
A3: NO. | B3: PROVINSI | C3: NO. | D3: KAB | E3: KOTA | F3: NO. | G3: KEC | H3: PATEN | I3: BELUM PATEN | J3: TAHUN | Q3: JENIS PERIZINAN YANG DILIMPAHKAN | R3: DASAR HUKUM | S3: KET
J4: 2010 | K4: 2011 | L4: 2012 | M4: 2013 | N4: 2014 | O4: 2015 | P4: 2016
A5: 1 | B5: 2 | C5: 3 | D5: 4 | E5: 5 | F5: 6 | G5: 7 | H5: 8 | I5: 9 | J5: 10 | Q5: 11 | R5: 12 | S5: 13
A7: 11. | B7: DKI JAKARTA | C7: 1. | D7: Adm Kep. Seribu | E7: - | F7: 1. | G7: Kep. Seribu Utara | H7: 0 | I7: 1 | J7: 0 | K7: 0 | L7: 0 | M7: 0 | N7: 0
F8: 2. | G8: Kep. Seribu Selatan | H8: 0 | I8: 1 | J8: 0 | K8: 0 | L8: 0 | M8: 0 | N8: 0
H10: =SUM(H7:H8) -> 0 | I10: =SUM(I7:I8) -> 2 | J10: =SUM(J7:J8) -> 0 | K10: =SUM(K7:K8) -> 0 | L10: =SUM(L7:L8) -> 0 | M10: =SUM(M7:M8) -> 0 | N10: =SUM(N7:N8) -> 0 | O10: =SUM(O7:O8) -> 0
C13: 2. | D13: - | E13: Adm Jakarta Pusat | F13: 1. | G13: Gambir | H13: 0 | I13: 1 | J13: 0 | K13: 0 | L13: 0 | M13: 0 | N13: 0 | Q13: Ada 22 jenis perizinan | R13: Pergub DKI Jakarta No. 117 Thn 2013 tgl 10 Okt 2013 ttg Penyelenggaraan PATEN
F14: 2. | G14: Sawah Besar | H14: 1 | I14: 0 | J14: 0 | K14: 0 | L14: 0 | M14: 1 | N14: 0 | O14: 0
F15: 3. | G15: Kemayoran | H15: 0 | I15: 1 | J15: 0 | K15: 0 | L15: 0 | M15: 0 | N15: 0
F16: 4. | G16: Senen | H16: 1 | I16: 0 | J16: 0 | K16: 0 | L16: 0 | M16: 1 | N16: 0 | O16: 0
F17: 5. | G17: Cempaka Putih | H17: 0 | I17: 1 | J17: 0 | K17: 0 | L17: 0 | M17: 0 | N17: 0
F18: 6. | G18: Menteng | H18: 0 | I18: 1 | J18: 0 | K18: 0 | L18: 0 | M18: 0 | N18: 0
F19: 7. | G19: Tanah Abang | H19: 0 | I19: 1 | J19: 0 | K19: 0 | L19: 0 | M19: 0 | N19: 0
F20: 8. | G20: Johar Baru | H20: 0 | I20: 1 | J20: 0 | K20: 0 | L20: 0 | M20: 0 | N20: 0
H22: =SUM(H13:H20) -> 2 | I22: =SUM(I13:I20) -> 6 | J22: =SUM(J13:J20) -> 0 | K22: =SUM(K13:K20) -> 0 | L22: =SUM(L13:L20) -> 0 | M22: =SUM(M13:M20) -> 2 | N22: =SUM(N13:N20) -> 0 | O22: =SUM(O13:O20) -> 0
C25: 3. | D25: - | E25: Adm Jakarta Utara | F25: 1. | G25: Penjaringan | H25: 0 | I25: 1 | J25: 0 | K25: 0 | L25: 0 | M25: 0 | N25: 0 | Q25: Ada 22 jenis perizinan | R25: Pergub DKI Jakarta No. 117 Thn 2013 tgl 10 Okt 2013 ttg Penyelenggaraan PATEN
F26: 2. | G26: Tanjung Priuk | H26: 0 | I26: 1 | J26: 0 | K26: 0 | L26: 0 | M26: 0 | N26: 0
F27: 3. | G27: Koja | H27: 0 | I27: 1 | J27: 0 | K27: 0 | L27: 0 | M27: 0 | N27: 0
F28: 4. | G28: Cilincing | H28: 1 | I28: 0 | J28: 0 | K28: 0 | L28: 0 | M28: 1 | N28: 0 | O28: 0
F29: 5. | G29: Pademangan | H29: 1 | I29: 0 | J29: 0 | K29: 0 | L29: 0 | M29: 1 | N29: 0 | O29: 0
F30: 6. | G30: Kelapa Gading | H30: 0 | I30: 1 | J30: 0 | K30: 0 | L30: 0 | M30: 0 | N30: 0
H32: =SUM(H25:H30) -> 2 | I32: =SUM(I25:I30) -> 4 | J32: =SUM(J25:J30) -> 0 | K32: =SUM(K25:K30) -> 0 | L32: =SUM(L25:L30) -> 0 | M32: =SUM(M25:M30) -> 2 | N32: =SUM(N25:N30) -> 0 | O32: =SUM(O25:O30) -> 0
C35: 4. | D35: - | E35: Adm Jakarta Barat | F35: 1. | G35: Cengkareng | H35: 0 | I35: 1 | J35: 0 | K35: 0 | L35: 0 | M35: 0 | N35: 0 | Q35: Ada 22 jenis perizinan | R35: Pergub DKI Jakarta No. 117 Thn 2013 tgl 10 Okt 2013 ttg Penyelenggaraan PATEN
F36: 2. | G36: Grogol Petamburan | H36: 1 | I36: 0 | J36: 0 | K36: 0 | L36: 0 | M36: 1 | N36: 0 | O36: 0
F37: 3. | G37: Taman Sari | H37: 0 | I37: 1 | J37: 0 | K37: 0 | L37: 0 | M37: 0 | N37: 0
F38: 4. | G38: Tambora | H38: 0 | I38: 1 | J38: 0 | K38: 0 | L38: 0 | M38: 0 | N38: 0
F39: 5. | G39: Kebon Jeruk | H39: 1 | I39: 0 | J39: 0 | K39: 0 | L39: 0 | M39: 1 | N39: 0 | O39: 0
F40: 6. | G40: Kalideres | H40: 0 | I40: 1 | J40: 0 | K40: 0 | L40: 0 | M40: 0 | N40: 0
F41: 7. | G41: Pal Merah | H41: 0 | I41: 1 | J41: 0 | K41: 0 | L41: 0 | M41: 0 | N41: 0
F42: 8. | G42: Kembangan | H42: 0 | I42: 1 | J42: 0 | K42: 0 | L42: 0 | M42: 0 | N42: 0
H44: =SUM(H35:H42) -> 2 | I44: =SUM(I35:I42) -> 6 | J44: =SUM(J35:J42) -> 0 | K44: =SUM(K35:K42) -> 0 | L44: =SUM(L35:L42) -> 0 | M44: =SUM(M35:M42) -> 2 | N44: =SUM(N35:N42) -> 0 | O44: =SUM(O35:O42) -> 0
C47: 5. | D47: - | E47: Adm Jakarta Selatan | F47: 1. | G47: Tebet | H47: 0 | I47: 1 | J47: 0 | K47: 0 | L47: 0 | M47: 0 | N47: 0 | Q47: Ada 22 jenis perizinan | R47: Pergub DKI Jakarta No. 117 Thn 2013 tgl 10 Okt 2013 ttg Penyelenggaraan PATEN
F48: 2. | G48: Setiabudi | H48: 0 | I48: 1 | J48: 0 | K48: 0 | L48: 0 | M48: 0 | N48: 0
F49: 3. | G49: Mampang Prapatan | H49: 1 | I49: 0 | J49: 0 | K49: 0 | L49: 0 | M49: 1 | N49: 0 | O49: 0
F50: 4. | G50: Pasar Minggu | H50: 0 | I50: 1 | J50: 0 | K50: 0 | L50: 0 | M50: 0 | N50: 0
F51: 5. | G51: Kebayoran Lama | H51: 0 | I51: 1 | J51: 0 | K51: 0 | L51: 0 | M51: 0 | N51: 0
F52: 6. | G52: Cilandak | H52: 0 | I52: 1 | J52: 0 | K52: 0 | L52: 0 | M52: 0 | N52: 0
F53: 7. | G53: Kebayoran Baru | H53: 1 | I53: 0 | J53: 0 | K53: 0 | L53: 0 | M53: 1 | N53: 0 | O53: 0
F54: 8. | G54: Pancoran | H54: 0 | I54: 1 | J54: 0 | K54: 0 | L54: 0 | M54: 0 | N54: 0
F55: 9. | G55: Jagakarsa | H55: 0 | I55: 1 | J55: 0 | K55: 0 | L55: 0 | M55: 0 | N55: 0
F56: 10. | G56: Pesanggarahan | H56: 0 | I56: 1 | J56: 0 | K56: 0 | L56: 0 | M56: 0 | N56: 0
H58: =SUM(H47:H56) -> 2 | I58: =SUM(I47:I56) -> 8 | J58: =SUM(J47:J56) -> 0 | K58: =SUM(K47:K56) -> 0 | L58: =SUM(L47:L56) -> 0 | M58: =SUM(M47:M56) -> 2 | N58: =SUM(N47:N56) -> 0 | O58: =SUM(O47:O56) -> 0
C61: 6. | D61: - | E61: Adm Jakarta Timur | F61: 1. | G61: Matraman | H61: 0 | I61: 1 | J61: 0 | K61: 0 | L61: 0 | M61: 0 | N61: 0 | Q61: Ada 22 jenis perizinan | R61: Pergub DKI Jakarta No. 117 Thn 2013 tgl 10 Okt 2013 ttg Penyelenggaraan PATEN
F62: 2. | G62: Pulo Gadung | H62: 0 | I62: 1 | J62: 0 | K62: 0 | L62: 0 | M62: 0 | N62: 0
F63: 3. | G63: Jatinegara | H63: 0 | I63: 1 | J63: 0 | K63: 0 | L63: 0 | M63: 0 | N63: 0
F64: 4. | G64: Kramatjati | H64: 0 | I64: 1 | J64: 0 | K64: 0 | L64: 0 | M64: 0 | N64: 0
F65: 5. | G65: Pasar Rebo | H65: 1 | I65: 0 | J65: 0 | K65: 0 | L65: 0 | M65: 1 | N65: 0 | O65: 0
F66: 6. | G66: Cakung | H66: 1 | I66: 0 | J66: 0 | K66: 0 | L66: 0 | M66: 1 | N66: 0 | O66: 0
F67: 7. | G67: Duren Sawit | H67: 0 | I67: 1 | J67: 0 | K67: 0 | L67: 0 | M67: 0 | N67: 0
F68: 8. | G68: Makasar | H68: 0 | I68: 1 | J68: 0 | K68: 0 | L68: 0 | M68: 0 | N68: 0
F69: 9. | G69: Ciracas | H69: 0 | I69: 1 | J69: 0 | K69: 0 | L69: 0 | M69: 0 | N69: 0
F70: 10. | G70: Cipayung | H70: 0 | I70: 1 | J70: 0 | K70: 0 | L70: 0 | M70: 0 | N70: 0
H72: =SUM(H61:H70) -> 2 | I72: =SUM(I61:I70) -> 8 | J72: =SUM(J61:J70) -> 0 | K72: =SUM(K61:K70) -> 0 | L72: =SUM(L61:L70) -> 0 | M72: =SUM(M61:M70) -> 2 | N72: =SUM(N61:N70) -> 0 | O72: =SUM(O61:O70) -> 0
H74: =H10+H22+H32+H44+H58+H72 -> 10 | I74: =I10+I22+I32+I44+I58+I72 -> 34 | J74: =J10+J22+J32+J44+J58+J72 -> 0 | K74: =K10+K22+K32+K44+K58+K72 -> 0 | L74: =L10+L22+L32+L44+L58+L72 -> 0 | M74: =M10+M22+M32+M44+M58+M72 -> 10 | N74: =N10+N22+N32+N44+N58+N72 -> 0 | O74: =O10+O22+O32+O44+O58+O72 -> 0

Sheet 12.jabar
A1: DATA PATEN
A3: NO. | B3: PROVINSI | C3: NO. | D3: KAB | E3: KOTA | F3: NO. | G3: KEC | H3: PATEN | I3: BELUM PATEN | J3: TAHUN | R3: JENIS PERIZINAN YANG DILIMPAHKAN | S3: DASAR HUKUM | T3: KET
J4: 2010 | K4: 2011 | L4: 2012 | M4: 2013 | N4: 2014 | O4: 2015 | P4: 2016 | Q4: 2017
A5: 1 | B5: 2 | C5: 3 | D5: 4 | E5: 5 | F5: 6 | G5: 7 | H5: 8 | I5: 9 | J5: 10 | R5: 11 | S5: 12 | T5: 13
A7: 12. | B7: JABAR | C7: 1. | D7: Bogor | E7: - | F7: 1. | G7: Cibinong | H7: 0 | I7: 1 | J7: 0 | K7: 0 | L7: 0 | M7: 0 | N7: 0 | O7: 0 | P7: 0
F8: 2. | G8: Gunung Putri | H8: 0 | I8: 1 | J8: 0 | K8: 0 | L8: 0 | M8: 0 | N8: 0 | O8: 0 | P8: 0
F9: 3. | G9: Citeureup | H9: 0 | I9: 1 | J9: 0 | K9: 0 | L9: 0 | M9: 0 | N9: 0 | O9: 0 | P9: 0
F10: 4. | G10: Sukaraja | H10: 0 | I10: 1 | J10: 0 | K10: 0 | L10: 0 | M10: 0 | N10: 0 | O10: 0 | P10: 0
F11: 5. | G11: Babakan Madang | H11: 0 | I11: 1 | J11: 0 | K11: 0 | L11: 0 | M11: 0 | N11: 0 | O11: 0 | P11: 0
F12: 6. | G12: Jonggol | H12: 0 | I12: 1 | J12: 0 | K12: 0 | L12: 0 | M12: 0 | N12: 0 | O12: 0 | P12: 0
F13: 7. | G13: Cileungsi | H13: 0 | I13: 1 | J13: 0 | K13: 0 | L13: 0 | M13: 0 | N13: 0 | O13: 0 | P13: 0
F14: 8. | G14: Cariu | H14: 0 | I14: 1 | J14: 0 | K14: 0 | L14: 0 | M14: 0 | N14: 0 | O14: 0 | P14: 0
F15: 9. | G15: Sukamakmur | H15: 0 | I15: 1 | J15: 0 | K15: 0 | L15: 0 | M15: 0 | N15: 0 | O15: 0 | P15: 0
F16: 10. | G16: Parung | H16: 0 | I16: 1 | J16: 0 | K16: 0 | L16: 0 | M16: 0 | N16: 0 | O16: 0 | P16: 0
F17: 11. | G17: Gunung Sindur | H17: 0 | I17: 1 | J17: 0 | K17: 0 | L17: 0 | M17: 0 | N17: 0 | O17: 0 | P17: 0
F18: 12. | G18: Kemang | H18: 0 | I18: 1 | J18: 0 | K18: 0 | L18: 0 | M18: 0 | N18: 0 | O18: 0 | P18: 0
F19: 13. | G19: Bojong Gede | H19: 0 | I19: 1 | J19: 0 | K19: 0 | L19: 0 | M19: 0 | N19: 0 | O19: 0 | P19: 0
... F46: 40. | G46: Tenjolaya | H46: 0 | I46: 1 | J46: 0 | K46: 0 | L46: 0 | M46: 0 | N46: 0 | O46: 0 | P46: 0
H48: =SUM(H7:H46) -> 0 | I48: =SUM(I7:I46) -> 40 | J48: =SUM(J7:J46) -> 0 | K48: =SUM(K7:K46) -> 0 | L48: =SUM(L7:L46) -> 0 | M48: =SUM(M7:M46) -> 0 | N48: =SUM(N7:N46) -> 0 | O48: =SUM(O7:O46) -> 0 | P48: =SUM(P7:P46) -> 0
C51: 2. | D51: Sukabumi | E51: - | F51: 1. | G51: Pelabuhan Ratu | H51: 0 | I51: 1 | J51: 0 | K51: 0 | L51: 0 | M51: 0 | N51: 0
F52: 2. | G52: Simpenan | H52: 0 | I52: 1 | J52: 0 | K52: 0 | L52: 0 | M52: 0 | N52: 0
F53: 3. | G53: Cikakak | H53: 0 | I53: 1 | J53: 0 | K53: 0 | L53: 0 | M53: 0 | N53: 0
F54: 4. | G54: Bantar Gadung | H54: 0 | I54: 1 | J54: 0 | K54: 0 | L54: 0 | M54: 0 | N54: 0
F55: 5. | G55: Cisolok | H55: 0 | I55: 1 | J55: 0 | K55: 0 | L55: 0 | M55: 0 | N55: 0
F56: 6. | G56: Cikidang | H56: 0 | I56: 1 | J56: 0 | K56: 0 | L56: 0 | M56: 0 | N56: 0
F57: 7. | G57: Lengkong | H57: 0 | I57: 1 | J57: 0 | K57: 0 | L57: 0 | M57: 0 | N57: 0
F58: 8. | G58: Jampang Tengah | H58: 0 | I58: 1 | J58: 0 | K58: 0 | L58: 0 | M58: 0 | N58: 0
F59: 9. | G59: Warung Kiara | H59: 0 | I59: 1 | J59: 0 | K59: 0 | L59: 0 | M59: 0 | N59: 0
F60: 10. | G60: Cikembar | H60: 0 | I60: 1 | J60: 0 | K60: 0 | L60: 0 | M60: 0 | N60: 0
F61: 11. | G61: Cibadak | H61: 0 | I61: 1 | J61: 0 | K61: 0 | L61: 0 | M61: 0 | N61: 0
F62: 12. | G62: Nagrak | H62: 0 | I62: 1 | J62: 0 | K62: 0 | L62: 0 | M62: 0 | N62: 0
F63: 13. | G63: Parung Kuda | H63: 0 | I63: 1 | J63: 0 | K63: 0 | L63: 0 | M63: 0 | N63: 0
... F97: 47. | G97: Ciambar | H97: 0 | I97: 1 | J97: 0 | K97: 0 | L97: 0 | M97: 0 | N97: 0
H99: =SUM(H51:H97) -> 0 | I99: =SUM(I51:I97) -> 47 | J99: =SUM(J51:J97) -> 0 | K99: =SUM(K51:K97) -> 0 | L99: =SUM(L51:L97) -> 0 | M99: =SUM(M51:M97) -> 0 | N99: =SUM(N51:N97) -> 0 | O99: =SUM(O51:O97) -> 0 | P99: =SUM(P51:P97) -> 0
C102: 3. | D102: Cianjur | E102: - | F102: 1. | G102: Cianjur | H102: 1 | I102: 0 | J102: 0 | K102: 0 | L102: 0 | M102: 0 | N102: 0 | O102: 1 | R102: ada 26 perizinan | S102: Perbup Nomor 44 Thun 2012 tentang Pelimpahan sebagian kewenangan Buapti Cinajur Kepada Camat Di Kabupaten Cianjur
F103: 2. | G103: Warungkondang | H103: 1 | I103: 0 | J103: 0 | K103: 0 | L103: 0 | M103: 0 | N103: 0 | O103: 1 | S103: Perbup Nomor 45 Tahun 2012 tentang pelimpahan sebagian kewenangan penyelenggaraan pelayanan perizinan dari Bupati Cinajur kepada Camat Di Kabuapetn Cinajur
F104: 3. | G104: Cibeber | H104: 1 | I104: 0 | J104: 0 | K104: 0 | L104: 0 | M104: 0 | N104: 0 | O104: 1
F105: 4. | G105: Cilaku | H105: 1 | I105: 0 | J105: 0 | K105: 0 | L105: 0 | M105: 0 | N105: 0 | O105: 1
F106: 5. | G106: Ciranjang | H106: 1 | I106: 0 | J106: 0 | K106: 0 | L106: 0 | M106: 0 | N106: 0 | O106: 1
F107: 6. | G107: Bojongpicung | H107: 1 | I107: 0 | J107: 0 | K107: 0 | L107: 0 | M107: 0 | N107: 0 | O107: 1
F108: 7. | G108: Karangtengah | H108: 1 | I108: 0 | J108: 0 | K108: 0 | L108: 0 | M108: 0 | N108: 0 | O108: 1
F109: 8. | G109: Mande | H109: 1 | I109: 0 | J109: 0 | K109: 0 | L109: 0 | M109: 0 | N109: 0 | O109: 1
F110: 9. | G110: Sukaluyu | H110: 1 | I110: 0 | J110: 0 | K110: 0 | L110: 0 | M110: 0 | N110: 0 | O110: 1
F111: 10. | G111: Pacet | H111: 1 | I111: 0 | J111: 0 | K111: 0 | L111: 0 | M111: 0 | N111: 0 | O111: 1
F112: 11. | G112: Cugenang | H112: 1 | I112: 0 | J112: 0 | K112: 0 | L112: 0 | M112: 0 | N112: 0 | O112: 1
F113: 12. | G113: Cikalongkulon | H113: 1 | I113: 0 | J113: 0 | K113: 0 | L113: 0 | M113: 0 | N113: 0 | O113: 1
F114: 13. | G114: Sukaresmi | H114: 1 | I114: 0 | J114: 0 | K114: 0 | L114: 0 | M114: 0 | N114: 0 | O114: 1
F115: 14. | G115: Sukanegara | H115: 1 | I115: 0 | J115: 0 | K115: 0 | L115: 0 | M115: 0 | N115: 0 | O115: 1
... F133: 32. | G133: Pasirkuda | H133: 1 | I133: 0 | J133: 0 | K133: 0 | L133: 0 | M133: 0 | N133: 0 | O133: 1
H135: =SUM(H102:H133) -> 32 | I135: =SUM(I102:I133) -> 0 | J135: =SUM(J102:J133) -> 0 | K135: =SUM(K102:K133) -> 0 | L135: =SUM(L102:L133) -> 0 | M135: =SUM(M102:M133) -> 0 | N135: =SUM(N102:N133) -> 0 | O135: =SUM(O102:O133) -> 32 | P135: =SUM(P102:P133) -> 0
C138: 4. | D138: Bandung | E138: - | F138: 1. | G138: Cileunyi | H138: 1 | I138: 0 | J138: 0 | K138: 0 | L138: 0 | M138: 0 | N138: 0 | O138: 1 | R138: Tidak ada data | S138: 1). Perbup Bandung No. 60 Thn 2011 tgl 6 Oktober 2011 ttg Pelimpahan Sebagian Urusan Pemerintahan Dari Bup Kepada Camat
F139: 2. | G139: Cimenyan | H139: 1 | I139: 0 | J139: 0 | K139: 0 | L139: 0 | M139: 0 | N139: 0 | O139: 1
F140: 3. | G140: Cilengkrang | H140: 1 | I140: 0 | J140: 0 | K140: 0 | L140: 0 | M140: 0 | N140: 0 | O140: 1
F141: 4. | G141: Bojongsoang | H141: 1 | I141: 0 | J141: 0 | K141: 0 | L141: 0 | M141: 0 | N141: 0 | O141: 1 | S141: 2). SK Bup Bandung No. 138/Kep. 368 - Pemum/2011 tgl 28 Okt 2011 ttg Pembentukan Tim Teknis PATEN
F142: 5. | G142: Margahayu | H142: 1 | I142: 0 | J142: 0 | K142: 0 | L142: 0 | M142: 0 | N142: 0 | O142: 1 | R142: kep bupati bandung nomor : 137.1/Kep.796-Otda/2016 tentang pelimpahan sebagian urusan pemerintahan dari bupati bandung kepada camat margahayu
F143: 6. | G143: Margaasih | H143: 1 | I143: 0 | J143: 0 | K143: 0 | L143: 0 | M143: 0 | N143: 0 | O143: 1
F144: 7. | G144: Katapang | H144: 1 | I144: 0 | J144: 0 | K144: 0 | L144: 0 | M144: 0 | N144: 0 | O144: 1 | S144: 3). SK Bup. Bandung No. 138/Kep. 420 - Pemum/2011 tgl 27 Des 2012 ttg Penetapan Kec sebagai Penyelenggara PATEN
F145: 8. | G145: Dayeuhkolot | H145: 1 | I145: 0 | J145: 0 | K145: 0 | L145: 0 | M145: 0 | N145: 0 | O145: 1
F146: 9. | G146: Banjaran | H146: 1 | I146: 0 | J146: 0 | K146: 0 | L146: 0 | M146: 0 | N146: 0 | O146: 1
F147: 10. | G147: Pameungpeuk | H147: 1 | I147: 0 | J147: 0 | K147: 0 | L147: 0 | M147: 0 | N147: 0 | O147: 1
F148: 11. | G148: Pangalengan | H148: 1 | I148: 0 | J148: 0 | K148: 0 | L148: 0 | M148: 0 | N148: 0 | O148: 1
F149: 12. | G149: Arjasari | H149: 1 | I149: 0 | J149: 0 | K149: 0 | L149: 0 | M149: 0 | N149: 0 | O149: 1
F150: 13. | G150: Cimaung | H150: 1 | I150: 0 | J150: 0 | K150: 0 | L150: 0 | M150: 0 | N150: 0 | O150: 1
F151: 14. | G151: Cicalengka | H151: 1 | I151: 0 | J151: 0 | K151: 0 | L151: 0 | M151: 0 | N151: 0 | O151: 1
F152: 15. | G152: Nagreg | H152: 1 | I152: 0 | J152: 0 | K152: 0 | L152: 0 | M152: 0 | N152: 0 | O152: 1
F153: 16. | G153: Cikancung | H153: 1 | I153: 0 | J153: 0 | K153: 0 | L153: 0 | M153: 0 | N153: 0 | O153: 1
F154: 17. | G154: Rancaekek | H154: 1 | I154: 0 | J154: 0 | K154: 0 | L154: 0 | M154: 0 | N154: 0 | O154: 1
F155: 18. | G155: Ciparay | H155: 1 | I155: 0 | J155: 0 | K155: 0 | L155: 0 | M155: 0 | N155: 0 | O155: 1
F156: 19. | G156: Pacet | H156: 1 | I156: 0 | J156: 0 | K156: 0 | L156: 0 | M156: 0 | N156: 0 | O156: 1
... F168: 31. | G168: Kutawaringin | H168: 1 | I168: 0 | J168: 0 | K168: 0 | L168: 0 | M168: 0 | N168: 0 | O168: 1
H170: =SUM(H138:H168) -> 31 | I170: =SUM(I138:I168) -> 0 | J170: =SUM(J138:J168) -> 0 | K170: =SUM(K138:K168) -> 0 | L170: =SUM(L138:L168) -> 0 | M170: =SUM(M138:M168) -> 0 | N170: =SUM(N138:N168) -> 0 | O170: =SUM(O138:O168) -> 31 | ... Q170: =SUM(Q138:Q168) -> 0
C173: 5. | D173: Garut | E173: - | F173: 1. | G173: Garut Kota | H173: 1 | I173: 0 | J173: 0 | K173: 0 | L173: 0 | M173: 0 | N173: 1 | O173: 0 | S173: Peraturan Bupati Garut Nomor 254 tahun 2016 tentang perubahan atas perbup garut nomor 102 tahun 2014 tentang pelimpahan sebagian wewenang bupati kepada camat
F174: 2. | G174: Karangpawitan | H174: 1 | I174: 0 | J174: 0 | K174: 0 | L174: 0 | M174: 0 | N174: 1 | O174: 0
F175: 3. | G175: Wanaraja | H175: 0 | I175: 1 | J175: 0 | K175: 0 | L175: 0 | M175: 0 | N175: 0 | O175: 0
F176: 4. | G176: Tarogong Kaler | H176: 1 | I176: 0 | J176: 0 | K176: 0 | L176: 0 | M176: 0 | N176: 1 | O176: 0
F177: 5. | G177: Tarogong Kidul | H177: 1 | I177: 0 | J177: 0 | K177: 0 | L177: 0 | M177: 0 | N177: 1 | O177: 0
F178: 6. | G178: Banyuresmi | H178: 0 | I178: 1 | J178: 0 | K178: 0 | L178: 0 | M178: 0 | N178: 0 | O178: 0
F179: 7. | G179: Samarang | H179: 1 | I179: 0 | J179: 0 | K179: 0 | L179: 0 | M179: 0 | N179: 1 | O179: 0
F180: 8. | G180: Pasirwangi | H180: 0 | I180: 1 | J180: 0 | K180: 0 | L180: 0 | M180: 0 | N180: 0 | O180: 0
F181: 9. | G181: Leles | H181: 1 | I181: 0 | J181: 0 | K181: 0 | L181: 0 | M181: 0 | N181: 1 | O181: 0
F182: 10. | G182: Kadungora | H182: 0 | I182: 1 | J182: 0 | K182: 0 | L182: 0 | M182: 0 | N182: 0 | O182: 0
F183: 11. | G183: Leuwigoong | H183: 0 | I183: 1 | J183: 0 | K183: 0 | L183: 0 | M183: 0 | N183: 0 | O183: 0
F184: 12. | G184: Cibatu | H184: 1 | I184: 0 | J184: 0 | K184: 0 | L184: 0 | M184: 0 | N184: 1 | O184: 0
F185: 13. | G185: Kersamarah | H185: 0 | I185: 1 | J185: 0 | K185: 0 | L185: 0 | M185: 0 | N185: 0 | O185: 0
... F214: 42. | G214: Sucinaraja | H214: 0 | I214: 1 | J214: 0 | K214: 0 | L214: 0 | M214: 0 | N214: 0 | O214: 0
H216: =SUM(H173:H214) -> 13 | I216: =SUM(I173:I214) -> 29 | J216: =SUM(J173:J214) -> 0 | K216: =SUM(K173:K214) -> 0 | L216: =SUM(L173:L214) -> 0 | M216: =SUM(M173:M214) -> 0 | N216: =SUM(N173:N214) -> 13 | O216: =SUM(O173:O214) -> 0 | ... Q216: =SUM(Q173:Q214) -> 0
C219: 6. | D219: Tasikmalaya | E219: - | F219: 1. | G219: Cipatujuh | H219: 0 | I219: 1 | J219: 0 | K219: 0 | L219: 0 | M219: 0 | N219: 0
F220: 2. | G220: Karangnunggal | H220: 0 | I220: 1 | J220: 0 | K220: 0 | L220: 0 | M220: 0 | N220: 0
F221: 3. | G221: Cikalong | H221: 0 | I221: 1 | J221: 0 | K221: 0 | L221: 0 | M221: 0 | N221: 0
F222: 4. | G222: Panca Tengah | H222: 0 | I222: 1 | J222: 0 | K222: 0 | L222: 0 | M222: 0 | N222: 0
F223: 5. | G223: Cikatomas | H223: 0 | I223: 1 | J223: 0 | K223: 0 | L223: 0 | M223: 0 | N223: 0
F224: 6. | G224: Cibalong | H224: 0 | I224: 1 | J224: 0 | K224: 0 | L224: 0 | M224: 0 | N224: 0
F225: 7. | G225: Parungponteng | H225: 0 | I225: 1 | J225: 0 | K225: 0 | L225: 0 | M225: 0 | N225: 0
F226: 8. | G226: Bantarkalong | H226: 0 | I226: 1 | J226: 0 | K226: 0 | L226: 0 | M226: 0 | N226: 0
F227: 9. | G227: Bojongasih | H227: 0 | I227: 1 | J227: 0 | K227: 0 | L227: 0 | M227: 0 | N227: 0
F228: 10. | G228: Culamega | H228: 0 | I228: 1 | J228: 0 | K228: 0 | L228: 0 | M228: 0 | N228: 0
F229: 11. | G229: Bojonggambir | H229: 0 | I229: 1 | J229: 0 | K229: 0 | L229: 0 | M229: 0 | N229: 0
F230: 12. | G230: Sodonghilir | H230: 0 | I230: 1 | J230: 0 | K230: 0 | L230: 0 | M230: 0 | N230: 0
F231: 13. | G231: Taraju | H231: 0 | I231: 1 | J231: 0 | K231: 0 | L231: 0 | M231: 0 | N231: 0
... F257: 39. | G257: Sukaresik | H257: 0 | I257: 1 | J257: 0 | K257: 0 | L257: 0 | M257: 0 | N257: 0
...

Sheet 13.jateng
A1: DATA PATEN
A3: NO. | B3: PROVINSI | C3: NO. | D3: KAB | E3: KOTA | F3: NO. | G3: KEC | H3: PATEN | I3: BELUM PATEN | J3: TAHUN | R3: JENIS PERIZINAN YANG DILIMPAHKAN | S3: DASAR HUKUM | T3: KET
J4: 2010 | K4: 2011 | L4: 2012 | M4: 2013 | N4: 2014 | O4: 2015 | P4: 2016 | Q4: 2017
A5: 1 | B5: 2 | C5: 3 | D5: 4 | E5: 5 | F5: 6 | G5: 7 | H5: 8 | I5: 9 | J5: 10 | R5: 11 | S5: 12 | T5: 13
A7: 13. | B7: JATENG | C7: 1. | D7: Cilacap | E7: - | F7: 1. | G7: Kedungreja | H7: 1 | I7: 0 | J7: 0 | K7: 0 | L7: 0 | M7: 0 | N7: 0 | O7: 1 | R7: 1. IMB rumah tinggal & usaha kecil dengan luas maks 100m² | S7: 1). Perbup. Cilacap No. 86 Thn 2014 tgl 19 Nov 2014 ttg Pendelegasian Wewenang Penandatanganan Pertizinan Kpd Camat di Kab. Cilacap
F8: 2. | G8: Kesugihan | H8: 1 | I8: 0 | J8: 0 | K8: 0 | L8: 0 | M8: 0 | N8: 0 | O8: 1
F9: 3. | G9: Adipala | H9: 1 | I9: 0 | J9: 0 | K9: 0 | L9: 0 | M9: 0 | N9: 0 | O9: 1 | R9: 2. Izin gangguan (HO) non UKL/UPL
F10: 4. | G10: Binangun | H10: 1 | I10: 0 | J10: 0 | K10: 0 | L10: 0 | M10: 0 | N10: 0 | O10: 1 | R10: 3. Izin pendirian bengkel sepeda motor & sejenisnya dengan luas maks 250m²
F11: 5. | G11: Nusawungu | H11: 1 | I11: 0 | J11: 0 | K11: 0 | L11: 0 | M11: 0 | N11: 0 | O11: 1 | S11: 2). Perbup. Cilacap No. 87 Thn 2014 tgl 19 Nov 2014 ttg Penetapan Standar PATEN di Kab. Cilacap
F12: 6. | G12: Kroya | H12: 1 | I12: 0 | J12: 0 | K12: 0 | L12: 0 | M12: 0 | N12: 0 | O12: 1 | R12: 4. Izin pendirian rumah/warung makan skala mikro
F13: 7. | G13: Maos | H13: 1 | I13: 0 | J13: 0 | K13: 0 | L13: 0 | M13: 0 | N13: 0 | O13: 1
F14: 8. | G14: Jeruklegi | H14: 1 | I14: 0 | J14: 0 | K14: 0 | L14: 0 | M14: 0 | N14: 0 | O14: 1 | R14: 5. Izin usaha/tanda daftar perusahaan penggilingan padi, huller & penyosohan beras | S14: 3). SK Bup. Cilacap No. 138/515/Thn 2014 tgl 20 Nov 2014 ttg Penetapan Kec se-Kab. Cilacap Sebagai Penyelenggara PATEN
F15: 9. | G15: Kawunganten | H15: 1 | I15: 0 | J15: 0 | K15: 0 | L15: 0 | M15: 0 | N15: 0 | O15: 1
F16: 10. | G16: Gandrungmangu | H16: 1 | I16: 0 | J16: 0 | K16: 0 | L16: 0 | M16: 0 | N16: 0 | O16: 1 | R16: 6. Izin pendirian salon kecantikan
F17: 11. | G17: Sidareja | H17: 1 | I17: 0 | J17: 0 | K17: 0 | L17: 0 | M17: 0 | N17: 0 | O17: 1 | R17: 7. Izin pemasangan reklame komersial lingkup kec
F18: 12. | G18: Karangpucung | H18: 1 | I18: 0 | J18: 0 | K18: 0 | L18: 0 | M18: 0 | N18: 0 | O18: 1
F19: 13. | G19: Cimanggu | H19: 1 | I19: 0 | J19: 0 | K19: 0 | L19: 0 | M19: 0 | N19: 0 | O19: 1 | R19: 8. Izin pendirian taman rekreasi kolam pancing dgn luas maks 1ha
F20: 14. | G20: Majenang | H20: 1 | I20: 0 | J20: 0 | K20: 0 | L20: 0 | M20: 0 | N20: 0 | O20: 1
F21: 15. | G21: Wanareja | H21: 1 | I21: 0 | J21: 0 | K21: 0 | L21: 0 | M21: 0 | N21: 0 | O21: 1 | R21: 9. Izin pendirian sanggar seni
F22: 16. | G22: Dayeuhlulur | H22: 1 | I22: 0 | J22: 0 | K22: 0 | L22: 0 | M22: 0 | N22: 0 | O22: 1 | R22: 10. Izin pendirian kursus senam
F23: 17. | G23: Sampang | H23: 1 | I23: 0 | J23: 0 | K23: 0 | L23: 0 | M23: 0 | N23: 0 | O23: 1 | R23: 11. Izin pendirian taman rekreasi gelanggang permainan lingkup kec
F24: 18. | G24: Cipari | H24: 1 | I24: 0 | J24: 0 | K24: 0 | L24: 0 | M24: 0 | N24: 0 | O24: 1
F25: 19. | G25: Patimun | H25: 1 | I25: 0 | J25: 0 | K25: 0 | L25: 0 | M25: 0 | N25: 0 | O25: 1 | R25: 12. Izin pendirian gelanggang olah raga lingkup kec
F26: 20. | G26: Bantarsari | H26: 1 | I26: 0 | J26: 0 | K26: 0 | L26: 0 | M26: 0 | N26: 0 | O26: 1
F27: 21. | G27: Cilacap Selatan | H27: 1 | I27: 0 | J27: 0 | K27: 0 | L27: 0 | M27: 0 | N27: 0 | O27: 1 | R27: 13. SIUP & TDP usaha mikro dgn modal maks Rp. 50jt
F28: 22. | G28: Cilacap Tengah | H28: 1 | I28: 0 | J28: 0 | K28: 0 | L28: 0 | M28: 0 | N28: 0 | O28: 1
F29: 23. | G29: Cilacap Utara | H29: 1 | I29: 0 | J29: 0 | K29: 0 | L29: 0 | M29: 0 | N29: 0 | O29: 1 | R29: 14. Tanda daftar industri (TDI) non rekomendasi teknis
F30: 24. | G30: Kampung Laut | H30: 1 | I30: 0 | J30: 0 | K30: 0 | L30: 0 | M30: 0 | N30: 0 | O30: 1
R31: 15. Izin pendirian Bimbel SD, SMP, SMA/SMK
H32: =SUM(H7:H30) -> 24 | I32: =SUM(I7:I30) -> 0 | J32: =SUM(J7:J30) -> 0 | K32: =SUM(K7:K30) -> 0 | L32: =SUM(L7:L30) -> 0 | M32: =SUM(M7:M30) -> 0 | N32: =SUM(N7:N30) -> 0 | O32: =SUM(O7:O30) -> 24
C35: 2. | D35: Banyumas | E35: - | F35: 1. | G35: Lumbir | H35: 1 | I35: 0 | J35: 0 | K35: 0 | L35: 0 | M35: 0 | N35: 1 | O35: 1 | R35: 1. IMB & Izin usaha perdagangan dgn klasifikasi : | S35: 1). Perbup Banyumas No. 9 Thn 2010 tgl 9 Feb 2010 ttg Pelimpahan Kewenangan Perizinan Kpd Camat di Kab. Banyumas
F36: 2. | G36: Wangon | H36: 1 | I36: 0 | J36: 0 | K36: 0 | L36: 0 | M36: 0 | N36: 1 | O36: 1
F37: 3. | G37: Jatilawang | H37: 1 | I37: 0 | J37: 0 | K37: 0 | L37: 0 | M37: 0 | N37: 1 | O37: 1 | R37: a. Izin tempat usaha dgn SPKPPLH
F38: 4. | G38: Rawalo | H38: 1 | I38: 0 | J38: 0 | K38: 0 | L38: 0 | M38: 0 | N38: 1 | O38: 1 | R38: b. Bangunan usaha 1 lantai luas maks 50m² | S38: 2). SK Bup. Banyumas No. 138/1076/2014 tgl 13 Sept 2014 ttg Penetapan Kec Sebagai Penyelenggara PATEN di Kab. Banyumas
F39: 5. | G39: Kebasen | H39: 1 | I39: 0 | J39: 0 | K39: 0 | L39: 0 | M39: 0 | N39: 1 | O39: 1 | R39: c. IUP yang diajukan oleh perorangan
F40: 6. | G40: Kemranjen | H40: 1 | I40: 0 | J40: 0 | K40: 0 | L40: 0 | M40: 0 | N40: 1 | O40: 1 | R40: 2. IMB untuk bangunan 1 lantai
F41: 7. | G41: Sumpiuh | H41: 1 | I41: 0 | J41: 0 | K41: 0 | L41: 0 | M41: 0 | N41: 1 | O41: 1 | R41: 3. Persetujuan prinsip & izin usaha | S41: 3)Peraturan bupati banyumas nomor 58 Tahun 2015 tentang pemberian mandat bidang perizinan kepada kaban penanaman modal dan perizinan kabupaten banyumas
F42: 8. | G42: Tambak | H42: 1 | I42: 0 | J42: 0 | K42: 0 | L42: 0 | M42: 0 | N42: 1 | O42: 1
F43: 9. | G43: Somagede | H43: 1 | I43: 0 | J43: 0 | K43: 0 | L43: 0 | M43: 0 | N43: 1 | O43: 1
F44: 10. | G44: Kalibagor | H44: 1 | I44: 0 | J44: 0 | K44: 0 | L44: 0 | M44: 0 | N44: 1 | O44: 1
F45: 11. | G45: Banyumas | H45: 1 | I45: 0 | J45: 0 | K45: 0 | L45: 0 | M45: 0 | N45: 1 | O45: 1
F46: 12. | G46: Patikara | H46: 1 | I46: 0 | J46: 0 | K46: 0 | L46: 0 | M46: 0 | N46: 1 | O46: 1
F47: 13. | G47: Purwojati | H47: 1 | I47: 0 | J47: 0 | K47: 0 | L47: 0 | M47: 0 | N47: 1 | O47: 1
F48: 14. | G48: Ajibarang | H48: 1 | I48: 0 | J48: 0 | K48: 0 | L48: 0 | M48: 0 | N48: 1 | O48: 1
F49: 15. | G49: Gumelar | H49: 1 | I49: 0 | J49: 0 | K49: 0 | L49: 0 | M49: 0 | N49: 1 | O49: 1
F50: 16. | G50: Pekuncen | H50: 1 | I50: 0 | J50: 0 | K50: 0 | L50: 0 | M50: 0 | N50: 1 | O50: 1
F51: 17. | G51: Cilongok | H51: 1 | I51: 0 | J51: 0 | K51: 0 | L51: 0 | M51: 0 | N51: 1 | O51: 1
F52: 18. | G52: Karang Lewas | H52: 1 | I52: 0 | J52: 0 | K52: 0 | L52: 0 | M52: 0 | N52: 1 | O52: 1
F53: 19. | G53: Sokaraja | H53: 1 | I53: 0 | J53: 0 | K53: 0 | L53: 0 | M53: 0 | N53: 1 | O53: 1
... F61: 27. | G61: Purwokerto Utara | H61: 1 | I61: 0 | J61: 0 | K61: 0 | L61: 0 | M61: 0 | N61: 1 | O61: 1
H63: =SUM(H35:H61) -> 27 | I63: =SUM(I35:I61) -> 0 | J63: =SUM(J35:J61) -> 0 | K63: =SUM(K35:K61) -> 0 | L63: =SUM(L35:L61) -> 0 | M63: =SUM(M35:M61) -> 0 | N63: =SUM(N35:N61) -> 27 | O63: =SUM(O35:O61) -> 27
C66: 3. | D66: Purbalingga | E66: - | F66: 1. | G66: Kemangkon | H66: 1 | I66: 0 | J66: 0 | K66: 0 | L66: 0 | M66: 0 | N66: 0 | O66: 1
F67: 2. | G67: Bukateja | H67: 1 | I67: 0 | J67: 0 | K67: 0 | L67: 0 | M67: 0 | N67: 0 | O67: 1
F68: 3. | G68: Kejobong | H68: 1 | I68: 0 | J68: 0 | K68: 0 | L68: 0 | M68: 0 | N68: 0 | O68: 1
F69: 4. | G69: Kaligondang | H69: 1 | I69: 0 | J69: 0 | K69: 0 | L69: 0 | M69: 0 | N69: 0 | O69: 1
F70: 5. | G70: Purbalingga | H70: 1 | I70: 0 | J70: 0 | K70: 0 | L70: 0 | M70: 0 | N70: 0 | O70: 1
F71: 6. | G71: Kalimarah | H71: 1 | I71: 0 | J71: 0 | K71: 0 | L71: 0 | M71: 0 | N71: 0 | O71: 1
F72: 7. | G72: Kutasari | H72: 1 | I72: 0 | J72: 0 | K72: 0 | L72: 0 | M72: 0 | N72: 0 | O72: 1
F73: 8. | G73: Mrebet | H73: 1 | I73: 0 | J73: 0 | K73: 0 | L73: 0 | M73: 0 | N73: 0 | O73: 1
F74: 9. | G74: Bobotsari | H74: 1 | I74: 0 | J74: 0 | K74: 0 | L74: 0 | M74: 0 | N74: 0 | O74: 1
F75: 10. | G75: Karangreja | H75: 1 | I75: 0 | J75: 0 | K75: 0 | L75: 0 | M75: 0 | N75: 0 | O75: 1
F76: 11. | G76: Karanganyar | H76: 1 | I76: 0 | J76: 0 | K76: 0 | L76: 0 | M76: 0 | N76: 0 | O76: 1
F77: 12. | G77: Karangmoncol | H77: 1 | I77: 0 | J77: 0 | K77: 0 | L77: 0 | M77: 0 | N77: 0 | O77: 1
F78: 13. | G78: Rembang | H78: 1 | I78: 0 | J78: 0 | K78: 0 | L78: 0 | M78: 0 | N78: 0 | O78: 1
... F83: 18. | G83: Kertanegara | H83: 1 | I83: 0 | J83: 0 | K83: 0 | L83: 0 | M83: 0 | N83: 0 | O83: 1
H85: =SUM(H66:H83) -> 18 | I85: =SUM(I66:I83) -> 0 | J85: =SUM(J66:J83) -> 0 | K85: =SUM(K66:K83) -> 0 | L85: =SUM(L66:L83) -> 0 | M85: =SUM(M66:M83) -> 0 | N85: =SUM(N66:N83) -> 0 | O85: =SUM(O66:O83) -> 18
C88: 4. | D88: Banjarnegara | E88: - | F88: 1. | G88: Susukan | H88: 1 | I88: 0 | J88: 0 | K88: 0 | L88: 0 | M88: 1 | O88: 1 | R88: 1. Izin prinsip untuk penyelenggaraan olah raga & hiburan umum tingkat kec | S88: 1). Perbup Banjarnegara No. 11 Thn 2012 ttg Pelimpahan Sebagian Kewenangan Penerintah Dari Bup Kpd Camat Untuk Menangani Sebagian Urusan Otonomi Daerah
F89: 2. | G89: Purworejo Klampok | H89: 1 | I89: 0 | J89: 0 | K89: 0 | L89: 0 | M89: 0 | N89: 1 | O89: 1
F90: 3. | G90: Mandiraja | H90: 1 | I90: 0 | J90: 0 | K90: 0 | L90: 0 | M90: 0 | N90: 1 | O90: 1 | R90: 2. Izin gangguan (HO) 8 jenis izin
F91: 4. | G91: Purwonegoro | H91: 1 | I91: 0 | J91: 0 | K91: 0 | L91: 0 | M91: 0 | N91: 1 | O91: 1 | R91: 3. IMB khusus untuk bangunan rumah/tempat tinggal dg luas 100m2
F92: 5. | G92: Bawang | H92: 1 | I92: 0 | J92: 0 | K92: 0 | L92: 0 | M92: 0 | N92: 1 | O92: 1 | S92: 2). SK Bup Banjarnegara No. 061/648 Thn 2012 tgl 27 Agt 2012 ttg Juknis Pelimpahan Sebagian Kewenangan Penerintah Dari Bup Kpd Camat Untuk Menangani Sebagian Urusan Otonomi Daerah
F93: 6. | G93: Banjarnegara | H93: 1 | I93: 0 | J93: 0 | K93: 0 | L93: 0 | M93: 0 | N93: 1 | O93: 1 | R93: 4. Izin usaha kepariwisataan 3 jenis izin
F94: 7. | G94: Sigaluh | H94: 1 | I94: 0 | J94: 0 | K94: 0 | L94: 0 | M94: 1 | N94: 0 | O94: 1
F95: 8. | G95: Madukara | H95: 1 | I95: 0 | J95: 0 | K95: 0 | L95: 0 | M95: 0 | N95: 1 | O95: 1 | R95: Ada 13 jenis izin yg dilimpahkan ke kec
F96: 9. | G96: Banjarmangu | H96: 1 | I96: 0 | J96: 0 | K96: 0 | L96: 0 | M96: 0 | N96: 1 | O96: 1
F97: 10. | G97: Wanadadi | H97: 1 | I97: 0 | J97: 0 | K97: 0 | L97: 0 | M97: 0 | N97: 1 | O97: 1 | S97: 3). Perbup Banjarnegara No. 5 Thn 2013 tgl 21 Jan 2013 ttg Kec Penyelenggara PATEN
F98: 11. | G98: Rakit | H98: 1 | I98: 0 | J98: 0 | K98: 0 | L98: 0 | M98: 0 | N98: 1 | O98: 1
F99: 12. | G99: Punggelan | H99: 1 | I99: 0 | J99: 0 | K99: 0 | L99: 0 | M99: 1 | N99: 0 | O99: 1 | S99: 4). Perbup Banjarnegara No. 30 Thn 2014 ttg Kec Penyelenggara PATEN
F100: 13. | G100: Karangkobar | H100: 1 | I100: 0 | J100: 0 | K100: 0 | L100: 0 | M100: 1 | N100: 0 | O100: 1
F101: 14. | G101: Pagentan | H101: 1 | I101: 0 | J101: 0 | K101: 0 | L101: 0 | M101: 0 | N101: 1 | O101: 1
F102: 15. | G102: Pejawaran | H102: 1 | I102: 0 | J102: 0 | K102: 0 | L102: 0 | M102: 0 | N102: 1 | O102: 1
F103: 16. | G103: Batur | H103: 1 | I103: 0 | J103: 0 | K103: 0 | L103: 0 | M103: 1 | N103: 0 | O103: 1
F104: 17. | G104: Wanayasa | H104: 1 | I104: 0 | J104: 0 | K104: 0 | L104: 0 | M104: 0 | N104: 1 | O104: 1
F105: 18. | G105: Kalibening | H105: 1 | I105: 0 | J105: 0 | K105: 0 | L105: 0 | M105: 0 | N105: 1 | O105: 1
F106: 19. | G106: Pandanarum | H106: 1 | I106: 0 | J106: 0 | K106: 0 | L106: 0 | M106: 0 | N106: 1 | O106: 1
F107: 20. | G107: Pagedongan | H107: 1 | I107: 0 | J107: 0 | K107: 0 | L107: 0 | M107: 0 | N107: 1 | O107: 1
H109: =SUM(H88:H107) -> 20 | I109: =SUM(I88:I107) -> 0 | J109: =SUM(J88:J107) -> 0 | K109: =SUM(K88:K107) -> 0 | L109: =SUM(L88:L107) -> 0 | M109: =SUM(M88:M107) -> 5 | N109: =SUM(N88:N107) -> 15 | O109: =SUM(O88:O107) -> 20
C112: 5. | D112: Kebumen | E112: - | F112: 1. | G112: Ayah | H112: 1 | I112: 0 | J112: 0 | K112: 0 | L112: 0 | M112: 0 | N112: 0 | O112: 1 | R112: Bid. Penanaman Modal, Penerbitan izin sesuai ketentuan perundang-undangan yg berlaku | S112: 1). Perbub. Kebumen No. 12 Thn 2012 tgl 13 Jan 2012 ttg Pelimpahan Wewenang Bup. Kebumen kpd Camat
F113: 2. | G113: Buayan | H113: 1 | I113: 0 | J113: 0 | K113: 0 | L113: 0 | M113: 0 | N113: 0 | O113: 1
F114: 3. | G114: Puring | H114: 1 | I114: 0 | J114: 0 | K114: 0 | L114: 0 | M114: 0 | N114: 0 | O114: 1
F115: 4. | G115: Petanahan | H115: 1 | I115: 0 | J115: 0 | K115: 0 | L115: 0 | M115: 0 | N115: 0 | O115: 1 | S115: 2). SK Bup. Kebumen No. 130.1/554/KEP/2012 tgl 4 Okt 2012 ttg Pembentukan Tim Teknis PATEN Kab. Kebumen
F116: 5. | G116: Klirong | H116: 1 | I116: 0 | J116: 0 | K116: 0 | L116: 0 | M116: 0 | N116: 0 | O116: 1
F117: 6. | G117: Buluspesantren | H117: 1 | I117: 0 | J117: 0 | K117: 0 | L117: 0 | M117: 0 | N117: 0 | O117: 1
F118: 7. | G118: Ambal | H118: 1 | I118: 0 | J118: 0 | K118: 0 | L118: 0 | M118: 0 | N118: 0 | O118: 1 | S118: 3). SK Bup. Kebumen No. 130.1/324/KEP/2014 tgl 3 Maret 2014 ttg Pembentukan Tim Teknis PATEN di Kab. Kebumen Tahun Anggaran 2014
F119: 8. | G119: Mirit | H119: 1 | I119: 0 | J119: 0 | K119: 0 | L119: 0 | M119: 0 | N119: 0 | O119: 1
F120: 9. | G120: Prembun | H120: 1 | I120: 0 | J120: 0 | K120: 0 | L120: 0 | M120: 0 | N120: 0 | O120: 1
F121: 10. | G121: Kutowinangun | H121: 1 | I121: 0 | J121: 0 | K121: 0 | L121: 0 | M121: 0 | N121: 0 | O121: 1 | S121: 4). Perbub. Kebumen No. 14 Thn 2014 tgl 16 Sept 2014 ttg Standar Pelayanan Program PATEN di Kab. Kebumen
F122: 11. | G122: Alian | H122: 1 | I122: 0 | J122: 0 | K122: 0 | L122: 0 | M122: 0 | N122: 0 | O122: 1
F123: 12. | G123: Kebumen | H123: 1 | I123: 0 | J123: 0 | K123: 0 | L123: 0 | M123: 0 | N123: 0 | O123: 1
F124: 13. | G124: Pejagoan | H124: 1 | I124: 0 | J124: 0 | K124: 0 | L124: 0 | M124: 0 | N124: 0 | O124: 1 | S124: 5). SK Bup. Kebumen No. 130.1/566/KEP/2014 tgl 23 Sept 2014 ttg Kec Sebagai Penyelenggara PATEN di Kab. Kebumen
...

Sheet 14.diy
A1: DATA PATEN
A3: NO. | B3: PROVINSI | C3: NO. | D3: KAB | E3: KOTA | F3: NO. | G3: KEC | H3: PATEN | I3: BELUM PATEN | J3: TAHUN | R3: JENIS PERIZINAN YANG DILIMPAHKAN | S3: DASAR HUKUM | T3: KET
J4: 2010 | K4: 2011 | L4: 2012 | M4: 2013 | N4: 2014 | O4: 2015 | P4: 2016 | Q4: 2017
A5: 1 | B5: 2 | C5: 3 | D5: 4 | E5: 5 | F5: 6 | G5: 7 | H5: 8 | I5: 9 | J5: 10 | R5: 11 | S5: 12 | T5: 13
A7: 14. | B7: D I Y | C7: 1. | D7: Kulon Progo | E7: - | F7: 1. | G7: Temon | H7: 1 | I7: 0 | J7: 0 | K7: 0 | L7: 0 | M7: 1 | N7: 0 | O7: 1 | R7: Ada 18 jenis perizinan yang dilimpahkan kepada camat | S7: 1). SK Bup. Kulon Progo No. 148 Thn 2011 tgl 6 April 2011 ttg Pembentukan Tim Teknis PATEN
F8: 2. | G8: Wates | H8: 1 | I8: 0 | J8: 0 | K8: 0 | L8: 0 | M8: 1 | N8: 0 | O8: 1
F9: 3. | G9: Panjatan | H9: 1 | I9: 0 | J9: 0 | K9: 0 | L9: 0 | M9: 1 | N9: 0 | O9: 1 | S9: 2). Perbup. Kulon Progo No. 48 Thn 2012 tgl 12 Nov 2012 ttg Pelimpahan Sebagian Urusan Dari Bup Kpd Camat
F10: 4. | G10: Galur | H10: 1 | I10: 0 | J10: 0 | K10: 0 | L10: 0 | M10: 1 | N10: 0 | O10: 1
F11: 5. | G11: Lendah | H11: 1 | I11: 0 | J11: 0 | K11: 0 | L11: 0 | M11: 1 | N11: 0 | O11: 1
F12: 6. | G12: Sentolo | H12: 1 | I12: 0 | J12: 0 | K12: 0 | L12: 0 | M12: 1 | N12: 0 | O12: 1 | S12: 3). Perbup. Kulon Progo No. 64 Thn 2012 tgl 28 Des 2012 ttg Standar Pelayanan Publik Pada Kec
F13: 7. | G13: Pengasih | H13: 1 | I13: 0 | J13: 0 | K13: 0 | L13: 0 | M13: 1 | N13: 0 | O13: 1
F14: 8. | G14: Kokap | H14: 1 | I14: 0 | J14: 0 | K14: 0 | L14: 0 | M14: 1 | N14: 0 | O14: 1
F15: 9. | G15: Girimulyo | H15: 1 | I15: 0 | J15: 0 | K15: 0 | L15: 0 | M15: 1 | N15: 0 | O15: 1 | S15: 4). SK Bup. Kulon Progo No. 403 Thn 2013 tgl 3 Sept 2013 ttg Kec Sebagai Penyelenggara PATEN
F16: 10. | G16: Nanggulan | H16: 1 | I16: 0 | J16: 0 | K16: 0 | L16: 0 | M16: 1 | N16: 0 | O16: 1
F17: 11. | G17: Samigaluh | H17: 1 | I17: 0 | J17: 0 | K17: 0 | L17: 0 | M17: 1 | N17: 0 | O17: 1
F18: 12. | G18: Kalibawang | H18: 1 | I18: 0 | J18: 0 | K18: 0 | L18: 0 | M18: 1 | N18: 0 | O18: 1 | S18: 5). SK Bup. Kulon Progo No. 148 Thn 2011 tgl 6 April 2011 ttg Pembentukan Tim Teknis PATEN
H20: =SUM(H7:H18) -> 12 | I20: =SUM(I7:I18) -> 0 | J20: =SUM(J7:J18) -> 0 | K20: =SUM(K7:K18) -> 0 | L20: =SUM(L7:L18) -> 0 | M20: =SUM(M7:M18) -> 12 | N20: =SUM(N7:N18) -> 0 | O20: =SUM(O7:O18) -> 12
C23: 2. | D23: Bantul | E23: - | F23: 1. | G23: Srandakan | H23: 1 | I23: 0 | J23: 0 | K23: 0 | L23: 0 | M23: 1 | N23: 0 | O23: 1 | R23: Tidak ada kewenangan perizinan yang dilimpahkan kepada camat | S23: 1). Perbup Bantul No. 41 Thn 2011 tgl 6 Juli 2011 ttg Perubahan Atas Perbup Bantul No. 11 Thn 2011 ttg Pelimpahan Sebagian Kewenangan Bup Kpd Camat
F24: 2. | G24: Sanden | H24: 1 | I24: 0 | J24: 0 | K24: 0 | L24: 0 | M24: 1 | N24: 0 | O24: 1
F25: 3. | G25: Kretek | H25: 1 | I25: 0 | J25: 0 | K25: 0 | L25: 0 | M25: 1 | N25: 0 | O25: 1
F26: 4. | G26: Pundong | H26: 1 | I26: 0 | J26: 0 | K26: 0 | L26: 0 | M26: 1 | N26: 0 | O26: 1
F27: 5. | G27: Bambang Lipuro | H27: 1 | I27: 0 | J27: 0 | K27: 0 | L27: 0 | M27: 1 | N27: 0 | O27: 1 | S27: 2). Perbup Bantul No. 51 Thn 2012 tgl 27 Juli 2012 ttg Pedoman Penyusunan SOP Penyelenggaraan Pemerintahan di Lingk Pemerintahan Kab. Bantul
F28: 6. | G28: Pandak | H28: 1 | I28: 0 | J28: 0 | K28: 0 | L28: 0 | M28: 1 | N28: 0 | O28: 1
F29: 7. | G29: Pajangan | H29: 1 | I29: 0 | J29: 0 | K29: 0 | L29: 0 | M29: 1 | N29: 0 | O29: 1
F30: 8. | G30: Bantul | H30: 1 | I30: 0 | J30: 0 | K30: 0 | L30: 0 | M30: 1 | N30: 0 | O30: 1
F31: 9. | G31: Jetis | H31: 1 | I31: 0 | J31: 0 | K31: 0 | L31: 0 | M31: 1 | N31: 0 | O31: 1 | S31: 3). Perbup Bantul No. 31 Thn 2012 tgl 24 Okt 2012 ttg Pembentukan Tim Teknis PATEN di Kab. Bantul
F32: 10. | G32: Imogiri | H32: 1 | I32: 0 | J32: 0 | K32: 0 | L32: 0 | M32: 1 | N32: 0 | O32: 1
F33: 11. | G33: Dlingo | H33: 1 | I33: 0 | J33: 0 | K33: 0 | L33: 0 | M33: 1 | N33: 0 | O33: 1
F34: 12. | G34: Banguntapan | H34: 1 | I34: 0 | J34: 0 | K34: 0 | L34: 0 | M34: 1 | N34: 0 | O34: 1 | S34: 4). Perbup Bantul No. 23 Thn 2013 tgl 26 April 2013 ttg Pedoman Penyusunan Standar Pelayanan Publik
F35: 13. | G35: Pleret | H35: 1 | I35: 0 | J35: 0 | K35: 0 | L35: 0 | M35: 1 | N35: 0 | O35: 1
F36: 14. | G36: Piyungan | H36: 1 | I36: 0 | J36: 0 | K36: 0 | L36: 0 | M36: 1 | N36: 0 | O36: 1
F37: 15. | G37: Sewon | H37: 1 | I37: 0 | J37: 0 | K37: 0 | L37: 0 | M37: 1 | N37: 0 | O37: 1 | S37: 5). Perbup Bantul No. 41 Thn 2013 tgl 15 Juli 2013 ttg Uraian Tugas Pelaksana PATEN
F38: 16. | G38: Kasihan | H38: 1 | I38: 0 | J38: 0 | K38: 0 | L38: 0 | M38: 1 | N38: 0 | O38: 1
F39: 17. | G39: Sedayu | H39: 1 | I39: 0 | J39: 0 | K39: 0 | L39: 0 | M39: 1 | N39: 0 | O39: 1 | S39: 6). Perbup Bantul No. 221 Thn 2013 tgl 18 Juli 2013 ttg Kecamatan Penyelenggara PATEN
H41: =SUM(H23:H39) -> 17 | I41: =SUM(I23:I39) -> 0 | J41: =SUM(J23:J39) -> 0 | K41: =SUM(K23:K39) -> 0 | L41: =SUM(L23:L39) -> 0 | M41: =SUM(M23:M39) -> 17 | N41: =SUM(N23:N39) -> 0 | O41: =SUM(O23:O39) -> 17
C44: 3. | D44: Gunung Kidul | E44: - | F44: 1. | G44: Wonosari | H44: 1 | I44: 0 | J44: 0 | K44: 0 | L44: 0 | M44: 0 | N44: 0 | O44: 1 | T44: Lounching bersama pada tgl 12 Feb 2015 di Jakarta
F45: 2. | G45: Nglipar | H45: 1 | I45: 0 | J45: 0 | K45: 0 | L45: 0 | M45: 0 | N45: 0 | O45: 1
F46: 3. | G46: Playen | H46: 1 | I46: 0 | J46: 0 | K46: 0 | L46: 0 | M46: 0 | N46: 0 | O46: 1
F47: 4. | G47: Patuk | H47: 1 | I47: 0 | J47: 0 | K47: 0 | L47: 0 | M47: 0 | N47: 0 | O47: 1
F48: 5. | G48: Paliyan | H48: 1 | I48: 0 | J48: 0 | K48: 0 | L48: 0 | M48: 0 | N48: 0 | O48: 1
F49: 6. | G49: Panggang | H49: 1 | I49: 0 | J49: 0 | K49: 0 | L49: 0 | M49: 0 | N49: 0 | O49: 1
F50: 7. | G50: Tepus | H50: 1 | I50: 0 | J50: 0 | K50: 0 | L50: 0 | M50: 0 | N50: 0 | O50: 1
F51: 8. | G51: Semanu | H51: 1 | I51: 0 | J51: 0 | K51: 0 | L51: 0 | M51: 0 | N51: 0 | O51: 1
F52: 9. | G52: Karangmojo | H52: 1 | I52: 0 | J52: 0 | K52: 0 | L52: 0 | M52: 0 | N52: 0 | O52: 1
F53: 10. | G53: Ponjong | H53: 1 | I53: 0 | J53: 0 | K53: 0 | L53: 0 | M53: 0 | N53: 0 | O53: 1
F54: 11. | G54: Rongkop | H54: 1 | I54: 0 | J54: 0 | K54: 0 | L54: 0 | M54: 0 | N54: 0 | O54: 1
F55: 12. | G55: Semin | H55: 1 | I55: 0 | J55: 0 | K55: 0 | L55: 0 | M55: 0 | N55: 0 | O55: 1
F56: 13. | G56: Ngawen | H56: 1 | I56: 0 | J56: 0 | K56: 0 | L56: 0 | M56: 0 | N56: 0 | O56: 1
... F61: 18. | G61: Purwosari | H61: 1 | I61: 0 | J61: 0 | K61: 0 | L61: 0 | M61: 0 | N61: 0 | O61: 1
H63: =SUM(H44:H61) -> 18 | I63: =SUM(I44:I61) -> 0 | J63: =SUM(J44:J61) -> 0 | K63: =SUM(K44:K61) -> 0 | L63: =SUM(L44:L61) -> 0 | M63: =SUM(M44:M61) -> 0 | N63: =SUM(N44:N61) -> 0 | O63: =SUM(O44:O61) -> 18
C66: 4. | D66: Sleman | E66: - | F66: 1. | G66: Gamping | H66: 1 | I66: 0 | J66: 0 | K66: 0 | L66: 0 | M66: 0 | N66: 0 | O66: 1 | R66: Ada 7 jenis perizinan yg dilimpahkan kepada camat | S66: 1). SK. Bup. Sleman No 59/Kep.KDH/A/2014 tgl 4 Agt 2014 ttg Pelimpahan Kewenangan Bup kpd Camat
F67: 2. | G67: Godean | H67: 1 | I67: 0 | J67: 0 | K67: 0 | L67: 0 | M67: 0 | N67: 0 | O67: 1
F68: 3. | G68: Moyudan | H68: 1 | I68: 0 | J68: 0 | K68: 0 | L68: 0 | M68: 0 | N68: 0 | O68: 1
F69: 4. | G69: Minggir | H69: 1 | I69: 0 | J69: 0 | K69: 0 | L69: 0 | M69: 0 | N69: 0 | O69: 1 | S69: 2). Perbup. Sleman No. 13 Thn 2014 tgl 4 Agt 2014 ttg Pedoman Pelimpahan Kewenangan Bup kpd Camat
F70: 5. | G70: Seyegen | H70: 1 | I70: 0 | J70: 0 | K70: 0 | L70: 0 | M70: 0 | N70: 0 | O70: 1
F71: 6. | G71: Mlati | H71: 1 | I71: 0 | J71: 0 | K71: 0 | L71: 0 | M71: 0 | N71: 0 | O71: 1
F72: 7. | G72: Depok | H72: 1 | I72: 0 | J72: 0 | K72: 0 | L72: 0 | M72: 0 | N72: 0 | O72: 1 | S72: 3). Bup. Sleman No.138/00184 tgl 26 Jan 2015 ttg Operasional Pelayanan IMB & Izin Gangguan di Kec
F73: 8. | G73: Berbah | H73: 1 | I73: 0 | J73: 0 | K73: 0 | L73: 0 | M73: 0 | N73: 0 | O73: 1
F74: 9. | G74: Prambanan | H74: 1 | I74: 0 | J74: 0 | K74: 0 | L74: 0 | M74: 0 | N74: 0 | O74: 1
F75: 10. | G75: Kalasan | H75: 1 | I75: 0 | J75: 0 | K75: 0 | L75: 0 | M75: 0 | N75: 0 | O75: 1 | S75: 4). Kep. Bup. Sleman No. 13/Kep.KDH/A/2015 tgl 30 Jan 2015 ttg Pelimpahan Kewenangan Bup Kpd Camat
F76: 11. | G76: Ngemplak | H76: 1 | I76: 0 | J76: 0 | K76: 0 | L76: 0 | M76: 0 | N76: 0 | O76: 1
F77: 12. | G77: Ngaglik | H77: 1 | I77: 0 | J77: 0 | K77: 0 | L77: 0 | M77: 0 | N77: 0 | O77: 1
F78: 13. | G78: Sleman | H78: 1 | I78: 0 | J78: 0 | K78: 0 | L78: 0 | M78: 0 | N78: 0 | O78: 1
F79: 14. | G79: Tempel | H79: 1 | I79: 0 | J79: 0 | K79: 0 | L79: 0 | M79: 0 | N79: 0 | O79: 1
F80: 15. | G80: Turi | H80: 1 | I80: 0 | J80: 0 | K80: 0 | L80: 0 | M80: 0 | N80: 0 | O80: 1
F81: 16. | G81: Pakem | H81: 1 | I81: 0 | J81: 0 | K81: 0 | L81: 0 | M81: 0 | N81: 0 | O81: 1
F82: 17. | G82: Cangkringan | H82: 1 | I82: 0 | J82: 0 | K82: 0 | L82: 0 | M82: 0 | N82: 0 | O82: 1
H84: =SUM(H66:H82) -> 17 | I84: =SUM(I66:I82) -> 0 | J84: =SUM(J66:J82) -> 0 | K84: =SUM(K66:K82) -> 0 | L84: =SUM(L66:L82) -> 0 | M84: =SUM(M66:M82) -> 0 | N84: =SUM(N66:N82) -> 0 | O84: =SUM(O66:O82) -> 17
C87: 5. | D87: - | E87: Yogyakarta | F87: 1. | G87: Tegalrejo | H87: 1 | I87: 0 | J87: 0 | K87: 0 | L87: 1 | M87: 1 | N87: 1 | O87: 1 | R87: Ada 6 jenis perizinan yg dilimpahkan ke kecamatan | S87: 1). Perwal. Yogyakarta No. 18 Thn 2011 ttg Penyelenggaraan Perizinan Pada Pemkot. Yogyakarta
F88: 2. | G88: Jetis | H88: 1 | I88: 0 | J88: 0 | K88: 0 | L88: 1 | M88: 1 | N88: 1 | O88: 1
F89: 3. | G89: Gondokusuman | H89: 1 | I89: 0 | J89: 0 | K89: 0 | L89: 1 | M89: 1 | N89: 1 | O89: 1
F90: 4. | G90: Danurejan | H90: 1 | I90: 0 | J90: 0 | K90: 0 | L90: 1 | M90: 1 | N90: 1 | O90: 1 | S90: 2). SK Walikota Yogyakarta No. 213/KEP/2012 tgl 16 Meri 2012 ttg Pembentukan Tim Teknis PATEN Kota Yogyakarta Thn 2012
F91: 5. | G91: Gedongtengen | H91: 1 | I91: 0 | J91: 0 | K91: 0 | L91: 1 | M91: 1 | N91: 1 | O91: 1
F92: 6. | G92: Ngampilan | H92: 1 | I92: 0 | J92: 0 | K92: 0 | L92: 1 | M92: 1 | N92: 1 | O92: 1
F93: 7. | G93: Wirobrajan | H93: 1 | I93: 0 | J93: 0 | K93: 0 | L93: 1 | M93: 1 | N93: 1 | O93: 1 | S93: 3). SK Walikota Yogyakarta No. 417/KEP/2012 tgl 10 Des 2012 ttg Penetapan Kec Sebagai Penyelenggara PATEN se - Kota Yogyakarta
F94: 8. | G94: Mantrijeron | H94: 1 | I94: 0 | J94: 0 | K94: 0 | L94: 1 | M94: 1 | N94: 1 | O94: 1
F95: 9. | G95: Kraton | H95: 1 | I95: 0 | J95: 0 | K95: 0 | L95: 1 | M95: 1 | N95: 1 | O95: 1
F96: 10. | G96: Gondomanan | H96: 1 | I96: 0 | J96: 0 | K96: 0 | L96: 1 | M96: 1 | N96: 1 | O96: 1
F97: 11. | G97: Pakualam | H97: 1 | I97: 0 | J97: 0 | K97: 0 | L97: 1 | M97: 1 | N97: 1 | O97: 1
F98: 12. | G98: Mergangsan | H98: 1 | I98: 0 | J98: 0 | K98: 0 | L98: 1 | M98: 1 | N98: 1 | O98: 1
F99: 13. | G99: Umbulharjo | H99: 1 | I99: 0 | J99: 0 | K99: 0 | L99: 1 | M99: 1 | N99: 1 | O99: 1
F100: 14. | G100: Kotagede | H100: 1 | I100: 0 | J100: 0 | K100: 0 | L100: 1 | M100: 1 | N100: 1 | O100: 1
H102: =SUM(H87:H100) -> 14 | I102: =SUM(I87:I100) -> 0 | J102: =SUM(J87:J100) -> 0 | K102: =SUM(K87:K100) -> 0 | L102: =SUM(L87:L100) -> 14 | M102: =SUM(M87:M100) -> 14 | N102: =SUM(N87:N100) -> 14 | O102: =SUM(O87:O100) -> 14
H104: =H20+H41+H63+H84+H102 -> 78 | I104: =I20+I41+I63+I84+I102 -> 0 | J104: =J20+J41+J63+J84+J102 -> 0 | K104: =K20+K41+K63+K84+K102 -> 0 | L104: =L20+L41+L63+L84+L102 -> 14 | M104: =M20+M41+M63+M84+M102 -> 43 | N104: =N20+N41+N63+N84+N102 -> 14 | O104: =O20+O41+O63+O84+O102 -> 78
O107: =SUM(J104:O104) -> 149

Sheet 15.jatim
A1: DATA PATEN
A3: NO. | B3: PROVINSI | C3: NO. | D3: KAB | E3: KOTA | F3: NO. | G3: KEC | H3: PATEN | I3: BELUM PATEN | J3: TAHUN | R3: JENIS PERIZINAN YANG DILIMPAHKAN | S3: DASAR HUKUM | T3: KET
J4: 2010 | K4: 2011 | L4: 2012 | M4: 2013 | N4: 2014 | O4: 2015 | P4: 2016 | Q4: 2017
A5: 1 | B5: 2 | C5: 3 | D5: 4 | E5: 5 | F5: 6 | G5: 7 | H5: 8 | I5: 9 | J5: 10 | R5: 11 | S5: 12 | T5: 13
A7: 15. | B7: JATIM | C7: 1. | D7: Pacitan | E7: - | F7: 1. | G7: Donorojo | H7: 1 | I7: 0 | J7: 0 | K7: 0 | L7: 0 | M7: 0 | N7: 0 | Q7: 1
F8: 2. | G8: Pringkuku | H8: 1 | I8: 0 | J8: 0 | K8: 0 | L8: 0 | M8: 0 | N8: 0 | Q8: 1
F9: 3. | G9: Punung | H9: 1 | I9: 0 | J9: 0 | K9: 0 | L9: 0 | M9: 0 | N9: 0 | Q9: 1
F10: 4. | G10: Pacitan | H10: 1 | I10: 0 | J10: 0 | K10: 0 | L10: 0 | M10: 0 | N10: 0 | Q10: 1
F11: 5. | G11: Kebonagung | H11: 1 | I11: 0 | J11: 0 | K11: 0 | L11: 0 | M11: 0 | N11: 0 | Q11: 1
F12: 6. | G12: Arjosari | H12: 1 | I12: 0 | J12: 0 | K12: 0 | L12: 0 | M12: 0 | N12: 0 | Q12: 1
F13: 7. | G13: Nawangan | H13: 1 | I13: 0 | J13: 0 | K13: 0 | L13: 0 | M13: 0 | N13: 0 | Q13: 1
F14: 8. | G14: Bandar | H14: 1 | I14: 0 | J14: 0 | K14: 0 | L14: 0 | M14: 0 | N14: 0 | Q14: 1
F15: 9. | G15: Tegalombo | H15: 1 | I15: 0 | J15: 0 | K15: 0 | L15: 0 | M15: 0 | N15: 0 | Q15: 1
F16: 10. | G16: Tulakan | H16: 1 | I16: 0 | J16: 0 | K16: 0 | L16: 0 | M16: 0 | N16: 0 | Q16: 1
F17: 11. | G17: Ngadirojo | H17: 1 | I17: 0 | J17: 0 | K17: 0 | L17: 0 | M17: 0 | N17: 0 | Q17: 1
F18: 12. | G18: Sudimoro | H18: 1 | I18: 0 | J18: 0 | K18: 0 | L18: 0 | M18: 0 | N18: 0 | Q18: 1
H20: =SUM(H7:H18) -> 12 | I20: =SUM(I7:I18) -> 0 | J20: =SUM(J7:J18) -> 0 | K20: =SUM(K7:K18) -> 0 | L20: =SUM(L7:L18) -> 0 | M20: =SUM(M7:M18) -> 0 | N20: =SUM(N7:N18) -> 0 | O20: =SUM(O7:O18) -> 0 | ... Q20: =SUM(Q7:Q18) -> 12
C23: 2. | D23: Ponorogo | E23: - | F23: 1. | G23: Slahung | H23: 0 | I23: 1 | J23: 0 | K23: 0 | L23: 0 | M23: 0 | N23: 0
F24: 2. | G24: Ngrayun | H24: 0 | I24: 1 | J24: 0 | K24: 0 | L24: 0 | M24: 0 | N24: 0
F25: 3. | G25: Bungkal | H25: 0 | I25: 1 | J25: 0 | K25: 0 | L25: 0 | M25: 0 | N25: 0
F26: 4. | G26: Sambit | H26: 0 | I26: 1 | J26: 0 | K26: 0 | L26: 0 | M26: 0 | N26: 0
F27: 5. | G27: Sawoo | H27: 0 | I27: 1 | J27: 0 | K27: 0 | L27: 0 | M27: 0 | N27: 0
F28: 6. | G28: Sooko | H28: 0 | I28: 1 | J28: 0 | K28: 0 | L28: 0 | M28: 0 | N28: 0
F29: 7. | G29: Suung | H29: 0 | I29: 1 | J29: 0 | K29: 0 | L29: 0 | M29: 0 | N29: 0
F30: 8. | G30: Mlarak | H30: 0 | I30: 1 | J30: 0 | K30: 0 | L30: 0 | M30: 0 | N30: 0
F31: 9. | G31: Jetis | H31: 0 | I31: 1 | J31: 0 | K31: 0 | L31: 0 | M31: 0 | N31: 0
F32: 10. | G32: Siman | H32: 0 | I32: 1 | J32: 0 | K32: 0 | L32: 0 | M32: 0 | N32: 0
F33: 11. | G33: Balong | H33: 0 | I33: 1 | J33: 0 | K33: 0 | L33: 0 | M33: 0 | N33: 0
F34: 12. | G34: Kauman | H34: 0 | I34: 1 | J34: 0 | K34: 0 | L34: 0 | M34: 0 | N34: 0
F35: 13. | G35: Badegan | H35: 0 | I35: 1 | J35: 0 | K35: 0 | L35: 0 | M35: 0 | N35: 0
... F43: 21. | G43: Pudak | H43: 0 | I43: 1 | J43: 0 | K43: 0 | L43: 0 | M43: 0 | N43: 0
H45: =SUM(H23:H43) -> 0 | I45: =SUM(I23:I43) -> 21 | J45: =SUM(J23:J43) -> 0 | K45: =SUM(K23:K43) -> 0 | L45: =SUM(L23:L43) -> 0 | M45: =SUM(M23:M43) -> 0 | N45: =SUM(N23:N43) -> 0 | O45: =SUM(O23:O43) -> 0
C48: 3. | D48: Trenggalek | E48: - | F48: 1. | G48: Panggul | H48: 1 | I48: 0 | J48: 0 | K48: 0 | L48: 0 | M48: 0 | N48: 0 | Q48: 1
F49: 2. | G49: Munjungan | H49: 1 | I49: 0 | J49: 0 | K49: 0 | L49: 0 | M49: 0 | N49: 0 | Q49: 1
F50: 3. | G50: Pule | H50: 1 | I50: 0 | J50: 0 | K50: 0 | L50: 0 | M50: 0 | N50: 0 | Q50: 1
F51: 4. | G51: Dongko | H51: 1 | I51: 0 | J51: 0 | K51: 0 | L51: 0 | M51: 0 | N51: 0 | Q51: 1
F52: 5. | G52: Tugu | H52: 1 | I52: 0 | J52: 0 | K52: 0 | L52: 0 | M52: 0 | N52: 0 | Q52: 1
F53: 6. | G53: Karangan | H53: 1 | I53: 0 | J53: 0 | K53: 0 | L53: 0 | M53: 0 | N53: 0 | Q53: 1
F54: 7. | G54: Kampak | H54: 1 | I54: 0 | J54: 0 | K54: 0 | L54: 0 | M54: 0 | N54: 0 | Q54: 1
F55: 8. | G55: Watulimo | H55: 1 | I55: 0 | J55: 0 | K55: 0 | L55: 0 | M55: 0 | N55: 0 | Q55: 1
F56: 9. | G56: Bendungan | H56: 1 | I56: 0 | J56: 0 | K56: 0 | L56: 0 | M56: 0 | N56: 0 | Q56: 1
F57: 10. | G57: Gandusari | H57: 1 | I57: 0 | J57: 0 | K57: 0 | L57: 0 | M57: 0 | N57: 0 | Q57: 1
F58: 11. | G58: Trenggalek | H58: 1 | I58: 0 | J58: 0 | K58: 0 | L58: 0 | M58: 0 | N58: 0 | Q58: 1
F59: 12. | G59: Pogalan | H59: 1 | I59: 0 | J59: 0 | K59: 0 | L59: 0 | M59: 0 | N59: 0 | Q59: 1
F60: 13. | G60: Durenan | H60: 1 | I60: 0 | J60: 0 | K60: 0 | L60: 0 | M60: 0 | N60: 0 | Q60: 1
F61: 14. | G61: Suruh | H61: 1 | I61: 0 | J61: 0 | K61: 0 | L61: 0 | M61: 0 | N61: 0 | Q61: 1
H63: =SUM(H48:H61) -> 14 | I63: =SUM(I48:I61) -> 0 | J63: =SUM(J48:J61) -> 0 | K63: =SUM(K48:K61) -> 0 | L63: =SUM(L48:L61) -> 0 | M63: =SUM(M48:M61) -> 0 | N63: =SUM(N48:N61) -> 0 | O63: =SUM(O48:O61) -> 0 | ... Q63: =SUM(Q48:Q61) -> 14
C66: 4. | D66: Tulungagung | E66: - | F66: 1. | G66: Tulungagung | H66: 0 | I66: 1 | J66: 0 | K66: 0 | L66: 0 | M66: 0 | N66: 0 | S66: perbup tulungagung no 17 tahun 2015 tentang pelimpahan sebagian wewenang pelayanan perijinan dan non perijinan ari bupati tulungagung kepada camat dikabupaten tulungagung
F67: 2. | G67: Boyolangu | H67: 0 | I67: 1 | J67: 0 | K67: 0 | L67: 0 | M67: 0 | N67: 0
F68: 3. | G68: Kedungwaru | H68: 1 | I68: 0 | J68: 0 | K68: 0 | L68: 0 | M68: 0 | N68: 0 | Q68: 1
F69: 4. | G69: Ngantru | H69: 0 | I69: 1 | J69: 0 | K69: 0 | L69: 0 | M69: 0 | N69: 0
F70: 5. | G70: Kauman | H70: 0 | I70: 1 | J70: 0 | K70: 0 | L70: 0 | M70: 0 | N70: 0
F71: 6. | G71: Pagerwojo | H71: 0 | I71: 1 | J71: 0 | K71: 0 | L71: 0 | M71: 0 | N71: 0
F72: 7. | G72: Sendang | H72: 0 | I72: 1 | J72: 0 | K72: 0 | L72: 0 | M72: 0 | N72: 0
F73: 8. | G73: Karangrejo | H73: 0 | I73: 1 | J73: 0 | K73: 0 | L73: 0 | M73: 0 | N73: 0
F74: 9. | G74: Gondang | H74: 0 | I74: 1 | J74: 0 | K74: 0 | L74: 0 | M74: 0 | N74: 0
F75: 10. | G75: Sumbergempol | H75: 1 | I75: 0 | J75: 0 | K75: 0 | L75: 0 | M75: 0 | N75: 0
F76: 11. | G76: Ngunut | H76: 0 | I76: 1 | J76: 0 | K76: 0 | L76: 0 | M76: 0 | N76: 0
F77: 12. | G77: Pucanglaban | H77: 0 | I77: 1 | J77: 0 | K77: 0 | L77: 0 | M77: 0 | N77: 0
F78: 13. | G78: Rejotangan | H78: 0 | I78: 1 | J78: 0 | K78: 0 | L78: 0 | M78: 0 | N78: 0
F79: 14. | G79: Kalidawir | H79: 0 | I79: 1 | J79: 0 | K79: 0 | L79: 0 | M79: 0 | N79: 0
F80: 15. | G80: Besuki | H80: 0 | I80: 1 | J80: 0 | K80: 0 | L80: 0 | M80: 0 | N80: 0
... F84: 19. | G84: Tanggunggunung | H84: 0 | I84: 1 | J84: 0 | K84: 0 | L84: 0 | M84: 0 | N84: 0
H86: =SUM(H66:H84) -> 2 | I86: =SUM(I66:I84) -> 17 | J86: =SUM(J66:J84) -> 0 | K86: =SUM(K66:K84) -> 0 | L86: =SUM(L66:L84) -> 0 | M86: =SUM(M66:M84) -> 0 | N86: =SUM(N66:N84) -> 0 | O86: =SUM(O66:O84) -> 0
C89: 5. | D89: Blitar | E89: - | F89: 1. | G89: Wonodadi | H89: 0 | I89: 1 | J89: 0 | K89: 0 | L89: 0 | M89: 0 | N89: 0
F90: 2. | G90: Udanawu | H90: 0 | I90: 1 | J90: 0 | K90: 0 | L90: 0 | M90: 0 | N90: 0
F91: 3. | G91: Srengat | H91: 0 | I91: 1 | J91: 0 | K91: 0 | L91: 0 | M91: 0 | N91: 0
F92: 4. | G92: Kademangan | H92: 0 | I92: 1 | J92: 0 | K92: 0 | L92: 0 | M92: 0 | N92: 0
F93: 5. | G93: Bakung | H93: 0 | I93: 1 | J93: 0 | K93: 0 | L93: 0 | M93: 0 | N93: 0
F94: 6. | G94: Ponggok | H94: 0 | I94: 1 | J94: 0 | K94: 0 | L94: 0 | M94: 0 | N94: 0
F95: 7. | G95: Sanankulon | H95: 0 | I95: 1 | J95: 0 | K95: 0 | L95: 0 | M95: 0 | N95: 0
F96: 8. | G96: Wonotirto | H96: 0 | I96: 1 | J96: 0 | K96: 0 | L96: 0 | M96: 0 | N96: 0
F97: 9. | G97: Nglegok | H97: 0 | I97: 1 | J97: 0 | K97: 0 | L97: 0 | M97: 0 | N97: 0
F98: 10. | G98: Kanigoro | H98: 0 | I98: 1 | J98: 0 | K98: 0 | L98: 0 | M98: 0 | N98: 0
F99: 11. | G99: Garum | H99: 0 | I99: 1 | J99: 0 | K99: 0 | L99: 0 | M99: 0 | N99: 0
F100: 12. | G100: Sutojayan | H100: 0 | I100: 1 | J100: 0 | K100: 0 | L100: 0 | M100: 0 | N100: 0
F101: 13. | G101: Panggungrejo | H101: 0 | I101: 1 | J101: 0 | K101: 0 | L101: 0 | M101: 0 | N101: 0
... F110: 22. | G110: Selopuro | H110: 0 | I110: 1 | J110: 0 | K110: 0 | L110: 0 | M110: 0 | N110: 0
H112: =SUM(H89:H110) -> 0 | I112: =SUM(I89:I110) -> 22 | J112: =SUM(J89:J110) -> 0 | K112: =SUM(K89:K110) -> 0 | L112: =SUM(L89:L110) -> 0 | M112: =SUM(M89:M110) -> 0 | N112: =SUM(N89:N110) -> 0 | O112: =SUM(O89:O110) -> 0
C115: 6. | D115: Kediri | E115: - | F115: 1. | G115: Semen | H115: 0 | I115: 1 | J115: 0 | K115: 0 | L115: 0 | M115: 0 | N115: 0
F116: 2. | G116: Mojo | H116: 0 | I116: 1 | J116: 0 | K116: 0 | L116: 0 | M116: 0 | N116: 0
F117: 3. | G117: Kras | H117: 0 | I117: 1 | J117: 0 | K117: 0 | L117: 0 | M117: 0 | N117: 0
F118: 4. | G118: Ngadiluwih | H118: 0 | I118: 1 | J118: 0 | K118: 0 | L118: 0 | M118: 0 | N118: 0
F119: 5. | G119: Kandat | H119: 0 | I119: 1 | J119: 0 | K119: 0 | L119: 0 | M119: 0 | N119: 0
F120: 6. | G120: Wates | H120: 0 | I120: 1 | J120: 0 | K120: 0 | L120: 0 | M120: 0 | N120: 0
F121: 7. | G121: Ngancar | H121: 0 | I121: 1 | J121: 0 | K121: 0 | L121: 0 | M121: 0 | N121: 0
F122: 8. | G122: Puncu | H122: 0 | I122: 1 | J122: 0 | K122: 0 | L122: 0 | M122: 0 | N122: 0
F123: 9. | G123: Plosoklaten | H123: 0 | I123: 1 | J123: 0 | K123: 0 | L123: 0 | M123: 0 | N123: 0
F124: 10. | G124: Gurah | H124: 0 | I124: 1 | J124: 0 | K124: 0 | L124: 0 | M124: 0 | N124: 0
F125: 11. | G125: Pagu | H125: 0 | I125: 1 | J125: 0 | K125: 0 | L125: 0 | M125: 0 | N125: 0
F126: 12. | G126: Gampengrejo | H126: 0 | I126: 1 | J126: 0 | K126: 0 | L126: 0 | M126: 0 | N126: 0
F127: 13. | G127: Grogol | H127: 0 | I127: 1 | J127: 0 | K127: 0 | L127: 0 | M127: 0 | N127: 0
... F140: 26. | G140: Badas | H140: 0 | I140: 1 | J140: 0 | K140: 0 | L140: 0 | M140: 0 | N140: 0
H142: =SUM(H115:H140) -> 0 | I142: =SUM(I115:I140) -> 26 | J142: =SUM(J115:J140) -> 0 | K142: =SUM(K115:K140) -> 0 | L142: =SUM(L115:L140) -> 0 | M142: =SUM(M115:M140) -> 0 | N142: =SUM(N115:N140) -> 0 | O142: =SUM(O115:O140) -> 0
C145: 7. | D145: Malang | E145: - | F145: 1. | G145: Donomulyo | H145: 0 | I145: 1 | J145: 0 | K145: 0 | L145: 0 | M145: 0 | N145: 0 | S145: Peraturan Bupati Malang Nomor 22 Tahun 2015 tentang Pendelegasian Wewenang Bupati Kepada Camat
F146: 2. | G146: Pagak | H146: 0 | I146: 1 | J146: 0 | K146: 0 | L146: 0 | M146: 0 | N146: 0
F147: 3. | G147: Bantur | H147: 0 | I147: 1 | J147: 0 | K147: 0 | L147: 0 | M147: 0 | N147: 0
F148: 4. | G148: Sumbermanjing Wetan | H148: 0 | I148: 1 | J148: 0 | K148: 0 | L148: 0 | M148: 0 | N148: 0
F149: 5. | G149: Dampit | H149: 0 | I149: 1 | J149: 0 | K149: 0 | L149: 0 | M149: 0 | N149: 0
F150: 6. | G150: Ampelgading | H150: 0 | I150: 1 | J150: 0 | K150: 0 | L150: 0 | M150: 0 | N150: 0
...

Sheet 16.banten
A1: DATA PATEN
A3: NO. | B3: PROVINSI | C3: NO. | D3: KAB | E3: KOTA | F3: NO. | G3: KEC | H3: PATEN | I3: BELUM PATEN | J3: TAHUN | R3: JENIS PERIZINAN YANG DILIMPAHKAN | S3: DASAR HUKUM | T3: KET
J4: 2010 | K4: 2011 | L4: 2012 | M4: 2013 | N4: 2014 | O4: 2015 | P4: 2016 | Q4: 2017
A5: 1 | B5: 2 | C5: 3 | D5: 4 | E5: 5 | F5: 6 | G5: 7 | H5: 8 | I5: 9 | J5: 10 | R5: 11 | S5: 12 | T5: 13
A7: 16. | B7: BANTEN | C7: 1. | D7: Pandeglang | E7: - | F7: 1. | G7: Sumur | H7: 1 | I7: 0 | J7: 0 | K7: 0 | L7: 0 | M7: 0 | N7: 0 | O7: 1 | R7: Ada 4 jenis perizinan yang dilimpahkan ke kecamatan | S7: 1). Perbup. Pandeglang No. 24 Thn 2013 tgl 22 Okt 2013 ttg Pelimpahan Sebagian Kewenangan Bup kpd Camat Untuk Melaksanakan Urusan Pemerintahan Daerah | T7: Penambahan 30 kec berdasarkanInfo sms dari KSD pada saat rakor di Banten
F8: 2. | G8: Cimanggu | H8: 1 | I8: 0 | J8: 0 | K8: 0 | L8: 0 | M8: 0 | N8: 0 | O8: 1
F9: 3. | G9: Cibaliung | H9: 1 | I9: 0 | J9: 0 | K9: 0 | L9: 0 | M9: 0 | N9: 0 | O9: 1
F10: 4. | G10: Cikeusik | H10: 1 | I10: 0 | J10: 0 | K10: 0 | L10: 0 | M10: 0 | N10: 0 | O10: 1
F11: 5. | G11: Cigeulis | H11: 1 | I11: 0 | J11: 0 | K11: 0 | L11: 0 | M11: 0 | N11: 0 | O11: 1 | S11: 2). SK Bup. Pandeglang No. 138/kep.381-huk/2013 ttg Pembentukan Tim Teknis Penyelenggaraan PATEN di kab. Pandeglang
F12: 6. | G12: Panimbang | H12: 1 | I12: 0 | J12: 0 | K12: 0 | L12: 0 | N12: 0 | O12: 1
F13: 7. | G13: Angsana | H13: 1 | I13: 0 | J13: 0 | K13: 0 | L13: 0 | M13: 0 | N13: 0 | O13: 1
F14: 8. | G14: Munjul | H14: 1 | I14: 0 | J14: 0 | K14: 0 | L14: 0 | M14: 0 | N14: 0 | O14: 1 | S14: 3). SK Bup. Pandeglang No. 138/kep.438-huk/2013 ttg Penetapan Kec. Pandeglang, Majasari, Karangtanjung, Labuan & Panimbang Sebagai Pilot Project Penyelenggaraan PATEN di Kab. Pandeglang
F15: 9. | G15: Pagelaran | H15: 1 | I15: 0 | J15: 0 | K15: 0 | L15: 0 | M15: 0 | N15: 0 | O15: 1
F16: 10. | G16: Bojong | H16: 1 | I16: 0 | J16: 0 | K16: 0 | L16: 0 | M16: 0 | N16: 0 | O16: 1
F17: 11. | G17: Picung | H17: 1 | I17: 0 | J17: 0 | K17: 0 | L17: 0 | M17: 0 | N17: 0 | O17: 1
F18: 12. | G18: Labuan | H18: 1 | I18: 0 | J18: 0 | K18: 0 | L18: 0 | M18: 1 | N18: 0 | O18: 1
F19: 13. | G19: Menes | H19: 1 | I19: 0 | J19: 0 | K19: 0 | L19: 0 | M19: 0 | N19: 0 | O19: 1
F20: 14. | G20: Saketi | H20: 1 | I20: 0 | J20: 0 | K20: 0 | L20: 0 | M20: 0 | N20: 0 | O20: 1
F21: 15. | G21: Cipeucang | H21: 1 | I21: 0 | J21: 0 | K21: 0 | L21: 0 | M21: 0 | N21: 0 | O21: 1
F22: 16. | G22: Jiput | H22: 1 | I22: 0 | J22: 0 | K22: 0 | L22: 0 | M22: 0 | N22: 0 | O22: 1
F23: 17. | G23: Mandalawangi | H23: 1 | I23: 0 | J23: 0 | K23: 0 | L23: 0 | M23: 0 | N23: 0 | O23: 1
F24: 18. | G24: Cimanuk | H24: 1 | I24: 0 | J24: 0 | K24: 0 | L24: 0 | M24: 0 | N24: 0 | O24: 1
F25: 19. | G25: Kaduhejo | H25: 1 | I25: 0 | J25: 0 | K25: 0 | L25: 0 | M25: 0 | N25: 0 | O25: 1
F26: 20. | G26: Banjar | H26: 1 | I26: 0 | J26: 0 | K26: 0 | L26: 0 | M26: 0 | N26: 0 | O26: 1
... F41: 35. | G41: Sobang | H41: 1 | I41: 0 | J41: 0 | K41: 0 | L41: 0 | M41: 0 | N41: 0 | O41: 1
H43: =SUM(H7:H41) -> 35 | I43: =SUM(I7:I41) -> 0 | J43: =SUM(J7:J41) -> 0 | K43: =SUM(K7:K41) -> 0 | L43: =SUM(L7:L41) -> 0 | M43: =SUM(M7:M41) -> 4 | N43: =SUM(N7:N41) -> 0 | O43: =SUM(O7:O41) -> 35
C46: 2. | D46: Lebak | E46: - | F46: 1. | G46: Malimping | H46: 1 | I46: 0 | J46: 0 | K46: 0 | L46: 0 | M46: 0 | N46: 0 | O46: 1 | S46: perbup no 69 tahun 2018 tentang perub atas perbup lebak no 33 tahun 2014 tentang PATEN
F47: 2. | G47: Panggarangan | H47: 1 | I47: 0 | J47: 0 | K47: 0 | L47: 0 | M47: 0 | N47: 0 | O47: 1 | S47: PERBUP NO 24 TAHUN 2015 TENTANG IZIN USAHA MIKRO DAN KECIL
F48: 3. | G48: Bayah | H48: 1 | I48: 0 | J48: 0 | K48: 0 | L48: 0 | M48: 0 | N48: 0 | O48: 1
F49: 4. | G49: Ciparas | H49: 1 | I49: 0 | J49: 0 | K49: 0 | L49: 0 | M49: 0 | N49: 0 | O49: 1
F50: 5. | G50: Muncang | H50: 1 | I50: 0 | J50: 0 | K50: 0 | L50: 0 | M50: 0 | N50: 0 | O50: 1
F51: 6. | G51: Leuwidamar | H51: 1 | I51: 0 | J51: 0 | K51: 0 | L51: 0 | M51: 0 | N51: 0 | O51: 1
F52: 7. | G52: Bojongmanik | H52: 1 | I52: 0 | J52: 0 | K52: 0 | L52: 0 | M52: 0 | N52: 0 | O52: 1
F53: 8. | G53: Gunungkencana | H53: 1 | I53: 0 | J53: 0 | K53: 0 | L53: 0 | M53: 0 | N53: 0 | O53: 1
F54: 9. | G54: Banjarsari | H54: 1 | I54: 0 | J54: 0 | K54: 0 | L54: 0 | M54: 0 | N54: 0 | O54: 1
F55: 10. | G55: Cileles | H55: 1 | I55: 0 | J55: 0 | K55: 0 | L55: 0 | M55: 0 | N55: 0 | O55: 1
F56: 11. | G56: Cimarga | H56: 1 | I56: 0 | J56: 0 | K56: 0 | L56: 0 | M56: 0 | N56: 0 | O56: 1
F57: 12. | G57: Sajira | H57: 1 | I57: 0 | J57: 0 | K57: 0 | L57: 0 | M57: 0 | N57: 0 | O57: 1
F58: 13. | G58: Maja | H58: 1 | I58: 0 | J58: 0 | K58: 0 | L58: 0 | M58: 0 | N58: 0 | O58: 1
F59: 14. | G59: Rangkasbitung | H59: 1 | I59: 0 | J59: 0 | K59: 0 | L59: 0 | M59: 0 | N59: 0 | O59: 1
... F73: 28. | G73: Cigembong | H73: 1 | I73: 0 | J73: 0 | K73: 0 | L73: 0 | M73: 0 | N73: 0 | O73: 1
H75: =SUM(H46:H73) -> 28 | I75: =SUM(I46:I73) -> 0 | J75: =SUM(J46:J73) -> 0 | K75: =SUM(K46:K73) -> 0 | L75: =SUM(L46:L73) -> 0 | M75: =SUM(M46:M73) -> 0 | N75: =SUM(N46:N73) -> 0 | O75: =SUM(O46:O73) -> 28
C78: 3. | D78: Tangerang | E78: - | F78: 1. | G78: Balaraja | H78: 1 | I78: 0 | J78: 0 | K78: 0 | L78: 0 | M78: 0 | N78: 0 | O78: 1 | T78: Info sms dari KSD pada saat rakor di Banten
F79: 2. | G79: Jayanti | H79: 1 | I79: 0 | J79: 0 | K79: 0 | L79: 0 | M79: 0 | N79: 0 | O79: 1
F80: 3. | G80: Tigaraksa | H80: 1 | I80: 0 | J80: 0 | K80: 0 | L80: 0 | M80: 0 | N80: 0 | O80: 1
F81: 4. | G81: Jambe | H81: 1 | I81: 0 | J81: 0 | K81: 0 | L81: 0 | M81: 0 | N81: 0 | O81: 1
F82: 5. | G82: Cisoka | H82: 1 | I82: 0 | J82: 0 | K82: 0 | L82: 0 | M82: 0 | N82: 0 | O82: 1
F83: 6. | G83: Kresek | H83: 1 | I83: 0 | J83: 0 | K83: 0 | L83: 0 | M83: 0 | N83: 0 | O83: 1
F84: 7. | G84: Kronjo | H84: 1 | I84: 0 | J84: 0 | K84: 0 | L84: 0 | M84: 0 | N84: 0 | O84: 1
F85: 8. | G85: Mauk | H85: 0 | I85: 1
F86: 9. | G86: Kemiri | H86: 0 | I86: 1
F87: 10. | G87: Sukadiri | H87: 0 | I87: 1
F88: 11. | G88: Rajeg | H88: 0 | I88: 1
F89: 12. | G89: Pasar Kemis | H89: 0 | I89: 1
F90: 13. | G90: Teluknaga | H90: 0 | I90: 1
F91: 14. | G91: Kosambi | H91: 0 | I91: 1
F92: 15. | G92: Pakuhaji | H92: 0 | I92: 1
F93: 16. | G93: Sepatan | H93: 0 | I93: 1
F94: 17. | G94: Curug | H94: 0 | I94: 1
F95: 18. | G95: Cikupa | H95: 0 | I95: 1
F96: 19. | G96: Pamongan | H96: 0 | I96: 1
... F106: 29. | G106: Mekar Baru | H106: 0 | I106: 1
H108: =SUM(H78:H106) -> 7 | I108: =SUM(I78:I106) -> 22 | J108: =SUM(J78:J106) -> 0 | K108: =SUM(K78:K106) -> 0 | L108: =SUM(L78:L106) -> 0 | M108: =SUM(M78:M106) -> 0 | N108: =SUM(N78:N106) -> 0 | O108: =SUM(O78:O106) -> 7
C111: 4. | D111: Serang | E111: - | F111: 1. | G111: Kramatwatu | H111: 0 | I111: 1 | S111: Perbup Serang Nomor 59 Tahun 2013 tentang Pelimpahan sebgian kewenangan bupati kepada camat dikabupaten Serang
F112: 2. | G112: Waringinkurung | H112: 0 | I112: 1
F113: 3. | G113: Bojonegara | H113: 0 | I113: 1
F114: 4. | G114: Puloampel | H114: 0 | I114: 1
F115: 5. | G115: Ciruas | H115: 0 | I115: 1
F116: 6. | G116: Kragilan | H116: 0 | I116: 1
F117: 7. | G117: Pontang | H117: 0 | I117: 1
F118: 8. | G118: Tirtayasa | H118: 0 | I118: 1
F119: 9. | G119: Tanara | H119: 0 | I119: 1
F120: 10. | G120: Cikande | H120: 0 | I120: 1
F121: 11. | G121: Kibin | H121: 0 | I121: 1
F122: 12. | G122: Carenang | H122: 0 | I122: 1
F123: 13. | G123: Binuang | H123: 0 | I123: 1
... F139: 29. | G139: Lebak Wangi | H139: 0 | I139: 1
H141: =SUM(H111:H139) -> 0 | I141: =SUM(I111:I139) -> 29 | J141: =SUM(J111:J139) -> 0 | K141: =SUM(K111:K139) -> 0 | L141: =SUM(L111:L139) -> 0 | M141: =SUM(M111:M139) -> 0 | N141: =SUM(N111:N139) -> 0 | O141: =SUM(O111:O139) -> 0
C144: 5. | D144: - | E144: Tangerang | F144: 1. | G144: Tangerang | H144: 1 | I144: 0 | J144: 0 | K144: 0 | L144: 0 | M144: 0 | N144: 0 | O144: 0 | P144: 1
F145: 2. | G145: Jatiuwung | H145: 1 | I145: 0 | J145: 0 | K145: 0 | L145: 0 | M145: 0 | N145: 0 | O145: 0 | P145: 1
F146: 3. | G146: Batuceper | H146: 1 | I146: 0 | J146: 0 | K146: 0 | L146: 0 | M146: 0 | N146: 0 | O146: 0 | P146: 1
F147: 4. | G147: Benda | H147: 1 | I147: 0 | J147: 0 | K147: 0 | L147: 0 | M147: 0 | N147: 0 | O147: 0 | P147: 1
F148: 5. | G148: Cipondoh | H148: 1 | I148: 0 | J148: 0 | K148: 0 | L148: 0 | M148: 0 | N148: 0 | O148: 0 | P148: 1
F149: 6. | G149: Ciledug | H149: 1 | I149: 0 | J149: 0 | K149: 0 | L149: 0 | M149: 0 | N149: 0 | O149: 0 | P149: 1
F150: 7. | G150: Karawaci | H150: 1 | I150: 0 | J150: 0 | K150: 0 | L150: 0 | M150: 0 | N150: 0 | O150: 0 | P150: 1
F151: 8. | G151: Periuk | H151: 1 | I151: 0 | J151: 0 | K151: 0 | L151: 0 | M151: 0 | N151: 0 | O151: 0 | P151: 1
F152: 9. | G152: Cibodas | H152: 1 | I152: 0 | J152: 0 | K152: 0 | L152: 0 | M152: 0 | N152: 0 | O152: 0 | P152: 1
F153: 10. | G153: Neglasari | H153: 1 | I153: 0 | J153: 0 | K153: 0 | L153: 0 | M153: 0 | N153: 0 | O153: 0 | P153: 1
F154: 11. | G154: Pinang | H154: 1 | I154: 0 | J154: 0 | K154: 0 | L154: 0 | M154: 0 | N154: 0 | O154: 0 | P154: 1
F155: 12. | G155: Karang Tengah | H155: 1 | I155: 0 | J155: 0 | K155: 0 | L155: 0 | M155: 0 | N155: 0 | O155: 0 | P155: 1
F156: 13. | G156: Larangan | H156: 1 | I156: 0 | J156: 0 | K156: 0 | L156: 0 | M156: 0 | N156: 0 | O156: 0 | P156: 1
H158: =SUM(H144:H156) -> 13 | I158: =SUM(I144:I156) -> 0 | J158: =SUM(J144:J156) -> 0 | K158: =SUM(K144:K156) -> 0 | L158: =SUM(L144:L156) -> 0 | M158: =SUM(M144:M156) -> 0 | N158: =SUM(N144:N156) -> 0 | O158: =SUM(O144:O156) -> 0 | P158: =SUM(P144:P156) -> 13
C161: 6. | D161: - | E161: Cilegon | F161: 1. | G161: Cibeber | H161: 1 | I161: 0 | J161: 0 | K161: 0 | L161: 0 | M161: 0 | N161: 0 | O161: 0 | P161: 1 | T161: Info sms dari KSD pada saat rakor di Banten
F162: 2. | G162: Cilegon | H162: 1 | I162: 0 | J162: 0 | K162: 0 | L162: 0 | M162: 0 | N162: 0 | O162: 0 | P162: 1
F163: 3. | G163: Pulomerak | H163: 1 | I163: 0 | J163: 0 | K163: 0 | L163: 0 | M163: 0 | N163: 0 | O163: 0 | P163: 1
F164: 4. | G164: Ciwandan | H164: 1 | I164: 0 | J164: 0 | K164: 0 | L164: 0 | M164: 0 | N164: 0 | O164: 0 | P164: 1
F165: 5. | G165: Jombang | H165: 1 | I165: 0 | J165: 0 | K165: 0 | L165: 0 | M165: 0 | N165: 0 | O165: 0 | P165: 1
F166: 6. | G166: Gerogol | H166: 1 | I166: 0 | J166: 0 | K166: 0 | L166: 0 | M166: 0 | N166: 0 | O166: 0 | P166: 1
F167: 7. | G167: Purwakarta | H167: 1 | I167: 0 | J167: 0 | K167: 0 | L167: 0 | M167: 0 | N167: 0 | O167: 0 | P167: 1
