Workbook

Sheet TP PERBATASAN 2006 SD 2019 ok
A1: DATA PEMBANGUNAN SARANA PRASARANA PEMERINTAHAN DI WILAYAH PERBATASAN ANTAR NEGARA DAN PPKT
A2: TAHUN 2006 S/D 2019
A4: No. | B4: Tahun Anggaran | C4: Jenis Pembangunan | G4: Jumlah
C5: Kantor Camat | D5: Kantor Desa/Kelurahan | E5: Aula Kecamatan/Desa | F5: Lain-Lain
A6: 1 | B6: 2 | C6: 3 | D6: 4 | E6: 5 | F6: 6 | G6: 7
A7: 1 | B7: 2006 | C7: ='Rekap Sarpras 2006 - 2019'!G17 -> 0 | D7: ='Rekap Sarpras 2006 - 2019'!H17 -> 0 | E7: ='Rekap Sarpras 2006 - 2019'!E18 -> 2 | F7: ='Rekap Sarpras 2006 - 2019'!F18 -> 1 | G7: =SUM(C7:F7) -> 3
A8: 2 | B8: 2007 | C8: ='Rekap Sarpras 2006 - 2019'!G18 -> 0 | D8: ='Rekap Sarpras 2006 - 2019'!H18 -> 1 | E8: ='Rekap Sarpras 2006 - 2019'!I18 -> 4 | F8: ='Rekap Sarpras 2006 - 2019'!J18 -> 24 | G8: =SUM(C8:F8) -> 29
A9: 3 | B9: 2008 | C9: ='Rekap Sarpras 2006 - 2019'!K18 -> 1 | D9: ='Rekap Sarpras 2006 - 2019'!L18 -> 2 | E9: ='Rekap Sarpras 2006 - 2019'!M18 -> 5 | F9: ='Rekap Sarpras 2006 - 2019'!N18 -> 16 | G9: =SUM(C9:F9) -> 24
A10: 4 | B10: 2009 | C10: ='Rekap Sarpras 2006 - 2019'!O18 -> 1 | D10: ='Rekap Sarpras 2006 - 2019'!P18 -> 0 | E10: ='Rekap Sarpras 2006 - 2019'!Q18 -> 8 | F10: ='Rekap Sarpras 2006 - 2019'!R18 -> 8 | G10: =SUM(C10:F10) -> 17
A11: 5 | B11: 2010 | C11: ='Rekap Sarpras 2006 - 2019'!S18 -> 2 | D11: ='Rekap Sarpras 2006 - 2019'!T18 -> 0 | E11: ='Rekap Sarpras 2006 - 2019'!U18 -> 5 | F11: ='Rekap Sarpras 2006 - 2019'!V18 -> 11 | G11: =SUM(C11:F11) -> 18
A12: 6 | B12: 2011 | C12: ='Rekap Sarpras 2006 - 2019'!W18 -> 2 | D12: ='Rekap Sarpras 2006 - 2019'!X18 -> 1 | E12: ='Rekap Sarpras 2006 - 2019'!Y18 -> 10 | F12: ='Rekap Sarpras 2006 - 2019'!Z18 -> 1 | G12: =SUM(C12:F12) -> 14
A13: 7 | B13: 2012 | C13: ='Rekap Sarpras 2006 - 2019'!AA18 -> 4 | D13: ='Rekap Sarpras 2006 - 2019'!AB18 -> 6 | E13: ='Rekap Sarpras 2006 - 2019'!AC18 -> 19 | F13: ='Rekap Sarpras 2006 - 2019'!AD18 -> 22 | G13: =SUM(C13:F13) -> 51
A14: 8 | B14: 2013 | C14: ='Rekap Sarpras 2006 - 2019'!AE18 -> 4 | D14: ='Rekap Sarpras 2006 - 2019'!AF18 -> 2 | E14: ='Rekap Sarpras 2006 - 2019'!AG18 -> 9 | F14: ='Rekap Sarpras 2006 - 2019'!AH18 -> 14 | G14: =SUM(C14:F14) -> 29
A15: 9 | B15: 2014 | C15: ='Rekap Sarpras 2006 - 2019'!AI18 -> 6 | D15: ='Rekap Sarpras 2006 - 2019'!AJ18 -> 14 | E15: ='Rekap Sarpras 2006 - 2019'!AK18 -> 6 | F15: ='Rekap Sarpras 2006 - 2019'!AL18 -> 5 | G15: =SUM(C15:F15) -> 31
A16: 10 | B16: 2015 | C16: 2 | D16: 16 | E16: 8 | F16: 6 | G16: =SUM(C16:F16) -> 32
A17: 11 | B17: 2016 | C17: ='Rekap Sarpras 2006 - 2019'!AQ18 -> 4 | D17: ='Rekap Sarpras 2006 - 2019'!AR18 -> 3 | E17: ='Rekap Sarpras 2006 - 2019'!AS18 -> 7 | F17: ='Rekap Sarpras 2006 - 2019'!AT18 -> 2 | G17: =SUM(C17:F17) -> 16
A18: 12 | B18: 2017 | C18: ='Rekap Sarpras 2006 - 2019'!AU18 -> 1 | D18: ='Rekap Sarpras 2006 - 2019'!AV18 -> 1 | E18: ='Rekap Sarpras 2006 - 2019'!AW18 -> 10 | F18: ='Rekap Sarpras 2006 - 2019'!AX18 -> 0 | G18: =SUM(C18:F18) -> 12
A19: 13 | B19: 2018 | C19: 4 | D19: 7 | E19: 1 | F19: 0 | G19: =SUM(C19:F19) -> 12
A20: 14 | B20: 2019 | C20: 0 | D20: 4 | E20: 2 | F20: 0 | G20: =SUM(C20:F20) -> 6
A21: Jumlah | C21: =SUM(C7:C20) -> 31 | D21: =SUM(D7:D20) -> 57 | E21: =SUM(E7:E20) -> 96 | F21: =SUM(F7:F20) -> 110 | G21: =SUM(G7:G20) -> 294
A23: Keterangan :
A25: Jenis Pembangunan Lain-Lain, teridi dari :
A26: 1. | B26: Kantor Badan Perbatasan
A27: 2. | B27: Pos Jaga
A28: 3. | B28: Rumah Jaga
A30: Upsate Data per 30 Juni 2020

Sheet Rekap Sarpras 2006-2019 per Pro
A1: REKAPITULASI PEMBANGUNAN SARANA PRASARANA PEMERINTAHAN DI WILAYAH PERBATASAN ANTAR NEGARA DAN PPKT
A2: TAHUN 2006 SD 2019
A4: No | B4: Provinsi | C4: Tahun 2006 | G4: Tahun 2007 | K4: Tahun 2008 | O4: Tahun 2009
C5: Jenis Bangunan | G5: Jenis Bangunan | K5: Jenis Bangunan | O5: Jenis Bangunan
C6: Kec. | D6: Desa | E6: Aula | F6: lain-lain | G6: Kec. | H6: Desa | I6: Aula | J6: lain-lain | K6: Kec. | L6: Desa | M6: Aula | N6: lain-lain | O6: Kec. | P6: Desa | Q6: Aula | R6: lain-lain
A7: 1 | B7: Riau | J7: 5 | N7: 1 | R7: 1
A8: 2 | B8: Kep. Riau | F8: 1 | J8: 2 | N8: 1
A9: 3 | B9: Sumut | J9: 1 | N9: 1 | R9: 1
A10: 4 | B10: Kalbar | J10: 4 | N10: 6 | Q10: 6 | R10: 2
A11: 5 | B11: Kaltara | J11: 2 | M11: 1 | N11: 1
A12: 6 | B12: NTT | I12: 2 | J12: 2 | N12: 2 | Q12: 1 | R12: 1
A13: 7 | B13: Sulut | H13: 1 | J13: 3 | K13: 1 | L13: 2 | M13: 2 | N13: 1 | O13: 1 | Q13: 1
A14: 8 | B14: Maluku
A15: 9 | B15: Maluku Utara | E15: 2
A16: 10 | B16: Papua Barat
A17: 11 | B17: Papua | I17: 2 | J17: 5 | M17: 2 | N17: 3 | R17: 3
A18: JUMLAH | C18: =SUM(C7:C17) -> 0 | D18: =SUM(D7:D17) -> 0 | E18: =SUM(E7:E17) -> 2 | F18: =SUM(F7:F17) -> 1 | G18: =SUM(G7:G17) -> 0 | H18: =SUM(H7:H17) -> 1 | I18: =SUM(I7:I17) -> 4 | J18: =SUM(J7:J17) -> 24 | ... R18: =SUM(R7:R17) -> 8
A20: No | B20: Provinsi | C20: Tahun 2010 | G20: Tahun 2011 | K20: Tahun 2012 | O20: Tahun 2013
C21: Jenis Bangunan | G21: Jenis Bangunan | K21: Jenis Bangunan | O21: Jenis Bangunan
C22: Kec. | D22: Desa | E22: Aula | F22: lain-lain | G22: Kec. | H22: Desa | I22: Aula | J22: lain-lain | K22: Kec. | L22: Desa | M22: Aula | N22: lain-lain | O22: Kec. | P22: Desa | Q22: Aula | R22: lain-lain
A23: 1 | B23: Riau | R23: 3
A24: 2 | B24: Kep. Riau | M24: 2 | N24: 2 | R24: 3
A25: 3 | B25: Sumut
A26: 4 | B26: Kalbar | C26: 1 | E26: 3 | F26: 5 | I26: 3 | K26: 2 | L26: 3 | M26: 5 | N26: 2 | O26: 1 | Q26: 2 | R26: 3
A27: 5 | B27: Kaltara | F27: 1 | K27: 1 | O27: 1 | Q27: 1
A28: 6 | B28: NTT | F28: 3 | K28: 1 | L28: 1 | M28: 1 | N28: 5 | P28: 2 | Q28: 1 | R28: 3
A29: 7 | B29: Sulut | E29: 1 | I29: 2 | N29: 2 | Q29: 1 | R29: 1
A30: 8 | B30: Maluku | G30: 1 | H30: 1 | I30: 1 | N30: 1 | O30: 1
A31: 9 | B31: Maluku Utara
A32: 10 | B32: Papua Barat | L32: 1 | O32: 1
A33: 11 | B33: Papua | C33: 1 | E33: 1 | F33: 2 | G33: 1 | I33: 4 | J33: 1 | L33: 1 | M33: 11 | N33: 10 | Q33: 4 | R33: 1
A34: JUMLAH | C34: =SUM(C23:C33) -> 2 | D34: =SUM(D23:D33) -> 0 | E34: =SUM(E23:E33) -> 5 | F34: =SUM(F23:F33) -> 11 | G34: =SUM(G23:G33) -> 2 | H34: =SUM(H23:H33) -> 1 | I34: =SUM(I23:I33) -> 10 | J34: =SUM(J23:J33) -> 1 | ... R34: =SUM(R23:R33) -> 14
A36: No | B36: Provinsi | C36: Tahun 2014 | G36: Tahun 2015 | K36: Tahun 2016 | O36: Tahun 2017
C37: Jenis Bangunan | G37: Jenis Bangunan | K37: Jenis Bangunan | O37: Jenis Bangunan
C38: Kec. | D38: Desa | E38: Aula | F38: lain-lain | G38: Kec. | H38: Desa | I38: Aula | J38: lain-lain | K38: Kec. | L38: Desa | M38: Aula | N38: lain-lain | O38: Kec. | P38: Desa | Q38: Aula | R38: lain-lain
A39: 1 | B39: Riau | J39: 1 | O39: 1 | P39: 1 | Q39: 10
A40: 2 | B40: Kep. Riau | H40: 2 | L40: 1 | M40: 2 | N40: 1
A41: 3 | B41: Sumut
A42: 4 | B42: Kalbar | C42: 1 | D42: 6 | E42: 1 | F42: 1 | G42: 1 | H42: 3 | I42: 4 | K42: 1
A43: 5 | B43: Kaltara | D43: 3 | H43: 3 | M43: 1
...

Sheet Rekap Sarpras 2006 - 2019
A1: Rekapitulasi Pembangunan Sarana Prasarana Pemerintahan
A2: Dari Tahun 2006 s.d 2019
A4: No | B4: Provinsi | C4: Tahun 2006 | G4: Tahun 2007 | K4: Tahun 2008 | O4: Tahun 2009 | S4: Tahun 2010 | W4: Tahun 2011 | AA4: Tahun 2012 | AE4: Tahun 2013 | AI4: Tahun 2014 | AM4: Tahun 2015 | AQ4: Tahun 2016 | AU4: Tahun 2017 | AY4: Tahun 2018 | BC4: Tahun 2019
C5: Jenis Bangunan | G5: Jenis Bangunan | K5: Jenis Bangunan | O5: Jenis Bangunan | S5: Jenis Bangunan | W5: Jenis Bangunan | AA5: Jenis Bangunan | AE5: Jenis Bangunan | AI5: Jenis Bangunan | AM5: Jenis Bangunan | AQ5: Jenis Bangunan | AU5: Jenis Bangunan | AY5: Jenis Bangunan | BC5: Jenis Bangunan
C6: Kec. | D6: Desa | E6: Aula | F6: lain-lain | G6: Kec. | H6: Desa | I6: Aula | J6: lain-lain | K6: Kec. | L6: Desa | M6: Aula | N6: lain-lain | O6: Kec. | P6: Desa | Q6: Aula | R6: lain-lain | S6: Kec. | T6: Desa | U6: Aula | V6: lain-lain | W6: Kec. | X6: Desa | Y6: Aula | Z6: lain-lain | AA6: Kec. | AB6: Desa | AC6: Aula | AD6: lain-lain | AE6: Kec. | AF6: Desa | AG6: Aula | AH6: lain-lain | AI6: Kec. | AJ6: Desa | AK6: Aula | AL6: lain-lain | AM6: Kec. | AN6: Desa | AO6: Aula | AP6: lain-lain | AQ6: Kec. | AR6: Desa | AS6: Aula | AT6: lain-lain | AU6: Kec. | AV6: Desa | AW6: Aula | AX6: lain-lain | AY6: Kec. | AZ6: Desa | BA6: Aula | BB6: lain-lain | BC6: Kec. | BD6: Desa | BE6: Aula | BF6: lain-lain
A7: 1 | B7: Riau | J7: 5 | N7: 1 | R7: 1 | AH7: 3 | AP7: 1 | AU7: 1 | AV7: 1 | AW7: 10 | AY7: 4 | AZ7: 6 | BA7: 2
A8: 2 | B8: Kep. Riau | F8: 1 | J8: 2 | N8: 1 | AC8: 2 | AD8: 2 | AH8: 3 | AN8: 2 | AR8: 1 | AS8: 2 | AT8: 1 | BD8: 3
A9: 3 | B9: Sumut | J9: 1 | N9: 1 | R9: 1
A10: 4 | B10: Kalbar | J10: 4 | N10: 6 | Q10: 6 | R10: 2 | S10: 1 | U10: 3 | V10: 5 | Y10: 3 | AA10: 2 | AB10: 3 | AC10: 5 | AD10: 2 | AE10: 1 | AG10: 2 | AH10: 3 | AI10: 1 | AJ10: 6 | AK10: 1 | AL10: 1 | AM10: 1 | AN10: 3 | AO10: 4 | AQ10: 1 | BD10: 1
A11: 5 | B11: Kaltara | J11: 2 | M11: 1 | N11: 1 | V11: 1 | AA11: 1 | AE11: 1 | AG11: 1 | AJ11: 3 | AN11: 3 | AS11: 1
A12: 6 | B12: NTT | I12: 2 | J12: 2 | N12: 2 | Q12: 1 | R12: 1 | V12: 3 | AA12: 1 | AB12: 1 | AC12: 1 | AD12: 5 | AF12: 2 | AG12: 1 | AH12: 3 | AI12: 3 | AJ12: 5 | AK12: 1 | AN12: 4 | AO12: 1 | AP12: 3 | AR12: 1 | AS12: 3 | BE12: 2
A13: 7 | B13: Sulut | H13: 1 | J13: 3 | K13: 1 | L13: 2 | M13: 2 | N13: 1 | O13: 1 | Q13: 1 | U13: 1 | Y13: 2 | AD13: 2 | AG13: 1 | AH13: 1 | AI13: 1 | AK13: 1 | AM13: 1 | AN13: 3 | AP13: 1 | AQ13: 2 | AR13: 1 | AS13: 1
A14: 8 | B14: Maluku | W14: 1 | X14: 1 | Y14: 1 | AD14: 1 | AE14: 1 | AI14: 1 | AL14: 2 | AT14: 1
A15: 9 | B15: Maluku Utara | E15: 2 | AN15: 1 | AQ15: 1
A16: 10 | B16: Papua Barat | AB16: 1 | AE16: 1 | AL16: 1 | AP16: 1
A17: 11 | B17: Papua | I17: 2 | J17: 5 | M17: 2 | N17: 3 | R17: 3 | S17: 1 | U17: 1 | V17: 2 | W17: 1 | Y17: 4 | Z17: 1 | AB17: 1 | AC17: 11 | AD17: 10 | AG17: 4 | AH17: 1 | AK17: 3 | AL17: 1 | AO17: 2 | AP17: 1
A18: JUMLAH | C18: =SUM(C7:D17) -> 0 | D18: =SUM(D7:D17) -> 0 | E18: =SUM(E7:E17) -> 2 | F18: =SUM(F7:F17) -> 1 | G18: =SUM(G7:G17) -> 0 | H18: =SUM(H7:H17) -> 1 | I18: =SUM(I7:I17) -> 4 | J18: =SUM(J7:J17) -> 24 | K18: =SUM(K7:K17) -> 1 | ... BF18: =SUM(BF7:BF17) -> 0
F19: =+F18+E18+D18+C18 -> 3 | J19: =+J18+I18+H18+G18 -> 29 | N19: =+N18+M18+L18+K18 -> 24 | R19: =+R18+Q18+P18+O18 -> 17 | V19: =+V18+U18+T18+S18 -> 18 | Z19: =+Z18+Y18+X18+W18 -> 14 | AD19: =+AD18+AC18+AB18+AA18 -> 51 | AH19: =+AH18+AG18+AF18+AE18 -> 29 | AL19: =+AL18+AK18+AJ18+AI18 -> 31 | AP19: =+AP18+AO18+AN18+AM18 -> 32 | AT19: =+AT18+AS18+AR18+AQ18 -> 16 | AX19: =+AX18+AW18+AV18+AU18 -> 12 | BB19: =+BB18+BA18+AZ18+AY18 -> 12 | BF19: =+BF18+BE18+BD18+BC18 -> 6 | BG19: =SUM(B19:BF19) -> 294
G21: kec | H21: =SUM(C18,G18,K18,O18,S18,W18,AA18,AE18,AI18,AM18,AQ18,AU18) -> 27
G22: desa | H22: =SUM(D18,H18,L18,P18,T18,X18,AB18,AF18,AJ18,AN18,AR18,AV18) -> 46
G23: aula | H23: =SUM(E18,I18,M18,Q18,U18,Y18,AC18,AG18,AK18,AO18,AS18,AW18) -> 92
G24: lain2 | H24: =SUM(F18,J18,N18,R18,V18,Z18,AD18,AH18,AL18,AP18,AT18,AX18) -> 111
H25: =SUM(H21:H24) -> 276
